Workbook
Name _ftn1: Contents!#REF!
Name _ftnref1: Contents!#REF!
Name OLE_LINK1: Contents!$A$1

Sheet Contents
B1: Contents
A3: S.No | B3: Contents | C3: Page No
B4: Cover page | C4: 1
B5: Contents | C5: 2
B6: List of Tables and Figures | C6: 3
B7: Abbreviations | C7: 4
B8: Introduction | C8: 6
A9: I | B9: Volume of Short-term Transactions of Electricity | C9: 6
A10: II | B10: Price of Short-term Transactions of Electricity | C10: 7
A11: (i) | B11: Price of electricity transacted through Traders | C11: 7
A12: (ii) | B12: Price of electricity transacted Through Power Exchange | C12: 8
A13: (iii) | B13: Price of electricity transacted Through DSM | C13: 8
A14: III | B14: Volume of Short-term Transactions of Electricity (Regional Entity-wise) | C14: 8
A15: IV | B15: Congestion on Inter-state Transmission Corridor for Day-Ahead Market on Power Exchanges | C15: 9
A16: V | B16: Bilateral Contracts executed by Traders | C16: 10
A17: (i) | B17: Duration of bilateral contracts | C17: 10
A18: (ii) | B18: Forward Curve based on Prices of bilateral contracts | C18: 10
A19: VI | B19: Volume and Price of Renewable Energy Certificates (RECs) | C19: 11
A20: VII | B20: Inferences | C20: 12

Sheet Abbrevation
A1: Abbreviations
A2: Abbreviation | B2: Expanded Version | F2: Abbreviation | G2: Expanded Version
A3: ACBIL | B3: ACB ( India) Limited | F3: ACBIL | G3: ACB ( India) Limited
A4: ACP | B4: Area Clearing Price | F4: ACP | G4: Area Clearing Price
A5: ACV | B5: Area Clearing Volume | F5: ACV | G5: Area Clearing Volume
A6: AD HYDRO | B6: AD Hydro Power Limited | F6: ADHUNIK | G6: Adhunik Power Ltd.
A7: ADANI HVDC | B7: Adani Power Ltd. (HVDC Mundra) | F7: AD HYDRO | G7: AD Hydro Power Limited
A8: BALCO | B8: Bharat Aluminium Company Limited | F8: BALCO | G8: Bharat Aluminum Company Limited
A9: CEA | B9: Central Electricity Authority | F9: CEA | G9: Central Electricity Authority
A10: CERC | B10: Central Electricity Regulatory Commission | F10: CERC | G10: Central Electricity Regulatory Commission
A11: CGPL | B11: Coastal Gujarat Power Limited | F11: CGPL | G11: Coastal Gujarat Power Limited
A12: CHUZACHEN HEP | B12: Chuzachen Hydro electric power project | F12: CHUZACHEN HEP | G12: Chuzachen Hydro electric power project
A13: DCPP | B13: Donga Mahua Captive Power Plant | F13: DCPP | G13: Donga Mahua Captive Power Plant
A14: DOYANG HEP | B14: Doyang Hydro electric power project | C14: 2x300MW Aquired by GMR | F14: DOYANG HEP | G14: Doyang Hydro electric power project
A15: DVC | B15: Damodar Valley Corporation | F15: DVC | G15: Damodar Valley Corporation
A16: EMCO | B16: EMCO Energy Limited | F16: EMCO | G16: EMCO Energy Limited
A17: ESSAR STEEL | B17: Essar Steel Ltd | F17: ESSAR STEEL | G17: Essar Steel Ltd
A18: GMR KAMALANGA | B18: GMR Kamalanga Energy Ltd. | F18: HHI | G18: Herfindahl-Hirschman Index
A19: IEX | B19: Indian Energy Exchange Limited | F19: IEX | G19: Indian Energy Exchange Limited
A20: J&K | B20: Jammu & Kashmir | C20: 70 (2x35) MW | F20: J&K | G20: Jammu & Kashmir
A21: JINDAL POWER | B21: Jindal Power Limited | F21: KARCHAM WANGTOO | G21: Jaypee Karcham Hydro Corporation Limited
A22: JINDAL STAGE-II | B22: Jindal Power Ltd Stage II | F22: LANKO_AMK | G22: Lanco Amarkantak Power Private Limited
A23: KARCHAM WANGTOO | B23: Jaypee Karcham Hydro Corporation Limited | F23: LANCO BUDHIL | G23: Lanco Budhil Hydro Power Project
A24: LANCO BUDHIL | B24: Lanco Budhil Hydro Power Private Limited | F24: MAITHON | G24: Maithon Power Ltd.
A25: LANKO_AMK | B25: Lanco Amarkantak Power Private Limited | F25: MALANA | G25: Malana Hydroelectric Plant
A26: LANKO_KONDAPALLY | B26: Lanco Kondapalli Power Limited | F26: Meenakshi | G26: Meenakshi Energy Private Limited
A27: MALANA | B27: Malana Hydroelectric Plant | F27: MP | G27: Madhya Pradesh
A28: Meenakshi | B28: Meenakshi Energy Private Limited | F28: MUs | G28: Million Units
A29: MP | B29: Madhya Pradesh | F29: NEEPCO Stations | G29: North Eastern Electric Power Corporation Limited. Stations
A30: MUs | B30: Million Units | F30: NHPC Stations | G30: National Hydro Electric Power Corporation Ltd. Stations
A31: NEEPCO Stations | B31: North Eastern Electric Power Corporation Limited. Stations | F31: NJPC | G31: Nathpa Jhakri Hydroelectric Power Station
A32: NHPC Stations | B32: National Hydro Electric Power Corporation Ltd. Stations | F32: NLDC | G32: National Load Despatch Centre
A33: NJPC | B33: Nathpa Jhakri Hydroelectric Power Station | F33: NSPCL | G33: NTPC - SAIL Power Company Private Limited
A34: NLDC | B34: National Load Despatch Centre | C34: a subsidiary of Hyderabad-based Madhucon Projects Limited | F34: ONGC PALATANA | G34: Oil and Natural Gas Corporation, Palatana
A35: NSPCL | B35: NTPC - SAIL Power Company Private Limited | F35: PX | G35: Power Exchange
A36: ONGC PALATANA | B36: Oil and Natural Gas Corporation, Palatana | F36: PXIL | G36: Power Exchange India Limited
A37: PX | B37: Power Exchange | F37: RANGANADI HEP | G37: Ranganadi Hydro Electric Project
A38: PXIL | B38: Power Exchange India Limited | F38: REC | G38: Renewable Energy Certificate
A39: RANGANADI HEP | B39: Ranganadi Hydro Electric Project | F39: RGPPL | G39: Ratnagiri Gas and Power Private Limited
A40: REC | B40: Renewable Energy Certificate | F40: RLDC | G40: Regional Load Despatch Centre
A41: RGPPL | B41: Ratnagiri Gas and Power Private Limited | F41: RTC | G41: Round - the- Clock
A42: RLDC | B42: Regional Load Despatch Centre | F42: SHREE CEMENT | G42: Shree Cement Limited
A43: RTC | B43: Round - the- Clock | F43: SIMHAPURI | G43: Simhapuri Energy Private Limited
A44: SHREE CEMENT | B44: Shree Cement Limited | F44: STERLITE | G44: Sterlite Energy Limited
A45: SIMHAPURI | B45: Simhapuri Energy Private Limited | F45: UI | G45: Unscheduled Interchange
A46: SR Grid | B46: Southern Regional Grid | F46: UT | G46: Union Territory
A47: STERLITE | B47: Sterlite Energy Limited
A48: UI | B48: Unscheduled Interchange
A49: UT | B49: Union Territory

Sheet Abbreviations-List
A2: ACBIL | B2: ACB ( India) Limited | H2: Chuzachen Hydro electric power project | K2: ACBIL | L2: ACB ( India) Limited
A3: ACP | B3: Area Clearing Price | H3: Doyang Hydro electric power project | K3: ACP | L3: Area Clearing Price
A4: ACV | B4: Area Clearing Volume | H4: Essar Steel Ltd | K4: ACV | L4: Area Clearing Volume
A5: AD HYDRO | B5: AD Hydro Power Limited | H5: GMR Kamalanga Energy Ltd. | K5: AD HYDRO | L5: AD Hydro Power Limited
A6: BALCO | B6: Bharat Aluminium Company Limited | H6: Jindal Power Ltd Stage II | K6: BALCO | L6: Bharat Aluminum Company Limited
A7: CEA | B7: Central Electricity Authority | H7: Malana Hydroelectric Plant | K7: CEA | L7: Central Electricity Authority
A8: CERC | B8: Central Electricity Regulatory Commission | H8: Oil and Natural Gas Corporation, Palatana | K8: CERC | L8: Central Electricity Regulatory Commission
A9: CGPL | B9: Coastal Gujarat Power Limited | H9: Ranganadi Hydro Electric Project | K9: CGPL | L9: Coastal Gujarat Power Limited
A10: CHUZACHEN HEP | B10: Chuzachen Hydro electric power project | K10: CHUZACHEN HEP | L10: Chuzachen Hydro electric power project
A11: DB Power | B11: Diligent Power Pvt. Ltd. | K11: DCPP | L11: Donga Mahua Captive Power Plant
A12: DCPP | B12: Donga Mahua Captive Power Plant | K12: DOYANG HEP | L12: Doyang Hydro electric power project
A13: DVC | B13: Damodar Valley Corporation | K13: DVC | L13: Damodar Valley Corporation
A14: EMCO | B14: EMCO Energy Limited | K14: EMCO | L14: EMCO Energy Limited
A15: ESSAR STEEL | B15: Essar Steel Ltd | K15: ESSAR STEEL | L15: Essar Steel Ltd
A16: GMR KAMALANGA | B16: GMR Kamalanga Energy Ltd. | K16: HHI | L16: Herfindahl-Hirschman Index
A17: IEX | B17: Indian Energy Exchange Limited | K17: IEX | L17: Indian Energy Exchange Limited
A18: J&K | B18: Jammu & Kashmir | K18: J&K | L18: Jammu & Kashmir
A19: JINDAL POWER | B19: Jindal Power Limited | K19: JINDAL POWER | L19: Jindal Power Limited
A20: JINDAL STAGE-II | B20: Jindal Power Ltd Stage II | K20: KARCHAM WANGTOO | L20: Jaypee Karcham Hydro Corporation Limited
A21: JITPL | B21: Jindal India Thermal Power Ltd. | K21: KSK Mahanadi | L21: KSK Mahanadi Power Project
... A24: LANKO_AMK | B24: Lanco Amarkantak Power Private Limited | K24: LANKO_KONDAPALLY | L24: Lanco Kondapalli Power Limited
A25: MALANA | B25: Malana Hydroelectric Plant | G25: MAITHON POWER LTD | K25: Meenakshi | L25: Meenakshi Energy Private Limited
A26: Meenakshi | B26: Meenakshi Energy Private Limited | G26: ADHUNIK POWER LTD | K26: MP | L26: Madhya Pradesh
A27: MP | B27: Madhya Pradesh | K27: MUs | L27: Million Units
A28: MUs | B28: Million Units | K28: NEEPCO Stations | L28: North Eastern Electric Power Corporation Limited. Stations
A29: NEEPCO Stations | B29: North Eastern Electric Power Corporation Limited. Stations | K29: NEW Grid | L29: North, East, North-East and Western Regional Grid
A30: NHPC Stations | B30: National Hydro Electric Power Corporation Ltd. Stations | K30: NHPC Stations | L30: National Hydro Electric Power Corporation Ltd. Stations
A31: NJPC | B31: Nathpa Jhakri Hydroelectric Power Station | K31: NJPC | L31: Nathpa Jhakri Hydroelectric Power Station
A32: NLDC | B32: National Load Despatch Centre | K32: NLDC | L32: National Load Despatch Centre
A33: NSPCL | B33: NTPC - SAIL Power Company Private Limited | K33: NSPCL | L33: NTPC - SAIL Power Company Private Limited
A34: ONGC PALATANA | B34: Oil and Natural Gas Corporation, Palatana | K34: PX | L34: Power Exchange
A35: OTC | B35: Over The Counter | K35: PXIL | L35: Power Exchange India Limited
A36: PX | B36: Power Exchange | K36: RANGANADI HEP | L36: Ranganadi Hydro Electric Project
A37: PXIL | B37: Power Exchange India Limited | K37: REC | L37: Renewable Energy Certificate
A38: RANGIT HEP | B38: Rangit Hydro electric power project | K38: RGPPL | L38: Ratnagiri Gas and Power Private Limited
... A46: TEESTA HEP | B46: Teesta Hydro electric power project | K46: UT | L46: Union Territory
A47: UI | B47: Unscheduled Interchange
A48: UT | B48: Union Territory
A49: VANDANA VIDYUT | B49: Vandana Vidyut Limited

Sheet Table-1
A1: Table-1: VOLUME OF SHORT-TERM TRANSACTIONS OF ELECTRICITY AND DSM (ALL INDIA), NOVEMBER 2025
A2: Sr.No | B2: Transactions | C2: Volume (MUs) | D2: % to Volume of short-term transactions | E2: % to Total Generation
A3: A | B3: Short-term transactions
A4: 1 | B4: Bilateral* (Traders, PX, Direct) | C4: 6914.44 | D4: 34.213917 | E4: 6.192989
A5: 2 | B5: Through Power Exchanges (Collective Market) | C5: 10670.87 | D5: 52.801419 | E5: 9.5574736
B6: (i) IEX
B7: (a) DAM | C7: 5625.9233 | D7: 27.8381 | E7: 5.0389158
B8: (b) RTM | C8: 4232.9838 | D8: 20.94558 | E8: 3.7913153
B9: (c) GDAM | C9: 777.48585 | D9: 3.8471425 | E9: 0.69636316
B10: (d) HP-DAM | C10: 0 | D10: 0 | E10: 0
B11: (ii)PXIL
B12: (a) DAM | C12: 15.205 | D12: 0.075237127 | E12: 0.013618514
B13: (b) RTM | C13: 14.06375 | D13: 0.069590013 | E13: 0.012596342
B14: (c) GDAM | C14: 0.2684 | D14: 0.0013280924 | E14: 0.00024039521
B15: (d) HP-DAM | C15: 0 | D15: 0 | E15: 0
B16: (iii)HPX
B17: (a) DAM | C17: 4.22625 | D17: 0.02091226 | E17: 0.0037852841
B18: (b) RTM | C18: 0.16875 | D18: 0.00083500593 | E18: 0.00015114267
B19: (c) GDAM | C19: 0.5445 | D19: 0.0026942858 | E19: 0.000487687
B20: (d) HP-DAM | C20: 0 | D20: 0 | E20: 0
A21: B | B21: Through DSM | C21: 2624.1277 | D21: 12.984665 | E21: 2.3503268
B22: Total Short-term transaction and DSM | C22: 20209.437 | D22: - | E22: 18.100789
B23: Total Generation | C23: 111649.48 | D23: - | E23: -
A24: Source: NLDC
A25: * With change in the regime on implemtation of GNA Regulations from 1st October 2023, the volume here are not strictly comparable to the volumes in previous months. Discrepancies identified in the data provided by NLDC prompted further validation. The volume under GNA is as per 'Acceptance' and not 'Scheduled'. Thus, the volume herein and in August 2024 issue are subject to revisions. The Commission has directed NLDC to make necessary provisions in scheduling softwares for GNA and T-GNA. Readers are advised to interpret the data with caution, considering the ongoing adjustments.Furthermore, any revisions or clarifications on GNA and/or T-GNA volumes will be communicated in subsequent reports.

Sheet Summary Table-1 (N)
A1: Table-1: VOLUME OF SHORT-TERM TRANSACTIONS OF ELECTRICITY (ALL INDIA), APRIL 2023 | K1: NLDC
A2: Sr.No | B2: Short-term transactions | C2: Volume (MUs) | D2: % to Volume of short-term transactions | E2: % to Total Generation | G2: Figure 1 Data
A3: 1 | B3: Bilateral | C3: =C4+C5 -> #REF! | D3: =(C3/$C$20)*100 -> #REF! | E3: =(C3/$C$21)*100 -> #REF! | G3: =B3 -> Bilateral | I3: =D3/100 -> #REF!
B4: (i) Through Traders and PXs | C4: ='Table-39'!B34 -> 6914.4405 | D4: =(C4/$C$20)*100 -> #REF! | E4: =(C4/$C$21)*100 -> 5.5919386 | G4: Power Exchanges | I4: =D6/100 -> #REF!
B5: (ii) Direct | C5: ='Table-39'!#REF! -> #REF! | D5: =(C5/$C$20)*100 -> #REF! | E5: =(C5/$C$21)*100 -> #REF! | G5: DSM | I5: =#REF!/100 -> #REF!
A6: 2 | B6: Through Power Exchanges | C6: =SUM(C8:C11,C13:C15,C17:C19) -> 10670.87 | D6: =(C6/$C$20)*100 -> #REF! | E6: =(C6/$C$21)*100 -> 8.6298881 | I6: =SUM(I3:I4) -> #REF! | K6: =C6+'Table-3 to 26'!C64+'Table-3 to 26'!C80 -> 11635.064 | P6: =C21 -> 123650.15
B7: (i) IEX
B8: (a) DAM | C8: ='Table-39'!C34 -> 5625.9233 | D8: =(C8/$C$20)*100 -> #REF! | E8: =(C8/$C$21)*100 -> 4.5498718 | G8: Figure 2 Data | P8: =C20 -> #REF!
B9: (b) RTM | C9: ='Table-39'!L34 -> 4232.9838 | D9: =(C9/$C$20)*100 -> #REF! | E9: =(C9/$C$21)*100 -> 3.4233552 | G9: Long-term | H9: =100-H13 -> #REF!
B10: (c) GDAM | C10: ='Table-39'!F34 -> 777.48585 | D10: =(C10/$C$20)*100 -> #REF! | E10: =(C10/$C$21)*100 -> 0.62877874 | G10: Bilateral | H10: =I10 -> #REF! | I10: =E3 -> #REF!
B11: (d) HP-DAM | C11: ='Table-39'!I34 -> 0 | D11: =(C11/$C$20)*100 -> #REF! | E11: =(C11/$C$21)*100 -> 0 | G11: Through Power Exchanges | H11: =I11 -> 8.6298881 | I11: =E6 -> 8.6298881
B12: (ii)PXIL | G12: Through DSM | H12: =I12 -> #REF! | I12: =#REF! -> #REF!
B13: (a) DAM | C13: ='Table-39'!D34 -> 15.205 | D13: =(C13/$C$20)*100 -> #REF! | E13: =(C13/$C$21)*100 -> 0.012296791 | H13: =SUM(H10:H11) -> #REF! | P13: =E20 -> #REF!
B14: (b) RTM | C14: ='Table-39'!M34 -> 14.06375 | D14: =(C14/$C$20)*100 -> #REF! | E14: =(C14/$C$21)*100 -> 0.011373824 | K14: =125+285 -> 410
B15: (c) GDAM | C15: ='Table-39'!G34 -> 0.2684 | D15: =(C15/$C$20)*100 -> #REF! | E15: =(C15/$C$21)*100 -> 0.00021706403
B16: (ii)HPX
B17: (a) DAM | C17: ='Table-39'!E34 -> 4.22625 | D17: =(C17/$C$20)*100 -> #REF! | E17: =(C17/$C$21)*100 -> 0.0034179093
B18: (b) RTM | C18: ='Table-39'!N34 -> 0.16875 | D18: =(C18/$C$20)*100 -> #REF! | E18: =(C18/$C$21)*100 -> 0.00013647375
B19: (c) GDAM | C19: ='Table-39'!H34 -> 0.5445 | D19: =(C19/$C$20)*100 -> #REF! | E19: =(C19/$C$21)*100 -> 0.00044035531
B20: Total | C20: =C3+C6 -> #REF! | D20: - | E20: =C20/C21*100 -> #REF! | P20: =E3 -> #REF!
B21: Total Generation | C21: ='Table 27'!O34 -> 123650.15 | D21: - | E21: - | P21: =C6 -> 10670.87
A22: Source: NLDC | P22: =E6 -> 8.6298881
P23: =#REF! -> #REF!
P24: =#REF! -> #REF!
P25: =D3 -> #REF!
P26: =D4 -> #REF!
P27: =D5 -> #REF!
P28: =D6 -> #REF!
P29: =D8 -> #REF!
P30: =D13 -> #REF!
P31: =#REF! -> #REF!

Sheet Fig 7

Sheet data-chart 4 (E)
A1: VOLUME OF SHORT-TERM TRANSACTIONS OF ELECTRICITY (ALL INDIA) (MUs)
A3: Date | B3: Bilateral Transactions | C3: PX Transactions | D3: DSM Volume
A4: ='Table-39'!#REF! -> #REF! | B4: ='Table-39'!#REF!+'Table-39'!#REF! -> #REF! | C4: =SUM('Table-39'!#REF!) -> #REF! | D4: ='Table-42'!#REF! -> #REF!
A5: ='Table-39'!A4 -> 45962 | B5: ='Table-39'!B4+'Table-39'!#REF! -> #REF! | C5: =SUM('Table-39'!C4:N4) -> 349.53233 | D5: ='Table-42'!B4 -> 91.399106
A6: ='Table-39'!A5 -> 45963 | B6: ='Table-39'!B5+'Table-39'!#REF! -> #REF! | C6: =SUM('Table-39'!C5:N5) -> 354.09554 | D6: ='Table-42'!B5 -> 95.162747 | P6: `
A7: ='Table-39'!A6 -> 45964 | B7: ='Table-39'!B6+'Table-39'!#REF! -> #REF! | C7: =SUM('Table-39'!C6:N6) -> 361.03476 | D7: ='Table-42'!B6 -> 104.95583
A8: ='Table-39'!A7 -> 45965 | B8: ='Table-39'!B7+'Table-39'!#REF! -> #REF! | C8: =SUM('Table-39'!C7:N7) -> 331.65512 | D8: ='Table-42'!B7 -> 95.499025
A9: ='Table-39'!A8 -> 45966 | B9: ='Table-39'!B8+'Table-39'!#REF! -> #REF! | C9: =SUM('Table-39'!C8:N8) -> 349.08858 | D9: ='Table-42'!B8 -> 92.023532
A10: ='Table-39'!A9 -> 45967 | B10: ='Table-39'!B9+'Table-39'!#REF! -> #REF! | C10: =SUM('Table-39'!C9:N9) -> 352.35815 | D10: ='Table-42'!B9 -> 88.939629
A11: ='Table-39'!A10 -> 45968 | B11: ='Table-39'!B10+'Table-39'!#REF! -> #REF! | C11: =SUM('Table-39'!C10:N10) -> 359.41466 | D11: ='Table-42'!B10 -> 85.282929
A12: ='Table-39'!A11 -> 45969 | B12: ='Table-39'!B11+'Table-39'!#REF! -> #REF! | C12: =SUM('Table-39'!C11:N11) -> 360.52147 | D12: ='Table-42'!B11 -> 83.825165
A13: ='Table-39'!A12 -> 45970 | B13: ='Table-39'!B12+'Table-39'!#REF! -> #REF! | C13: =SUM('Table-39'!C12:N12) -> 351.55794 | D13: ='Table-42'!B13 -> 83.258675
A14: ='Table-39'!A13 -> 45971 | B14: ='Table-39'!B13+'Table-39'!#REF! -> #REF! | C14: =SUM('Table-39'!C13:N13) -> 362.75631 | D14: ='Table-42'!B14 -> 82.897055
A15: ='Table-39'!A14 -> 45972 | B15: ='Table-39'!B14+'Table-39'!#REF! -> #REF! | C15: =SUM('Table-39'!C14:N14) -> 361.88327 | D15: ='Table-42'!B15 -> 82.450888
A16: ='Table-39'!A15 -> 45973 | B16: ='Table-39'!B15+'Table-39'!#REF! -> #REF! | C16: =SUM('Table-39'!C15:N15) -> 356.53129 | D16: ='Table-42'!B16 -> 83.637638
A17: ='Table-39'!A16 -> 45974 | B17: ='Table-39'!B16+'Table-39'!#REF! -> #REF! | C17: =SUM('Table-39'!C16:N16) -> 325.95021 | D17: ='Table-42'!B17 -> 82.645183
A18: ='Table-39'!A17 -> 45975 | B18: ='Table-39'!B17+'Table-39'!#REF! -> #REF! | C18: =SUM('Table-39'!C17:N17) -> 340.16861 | D18: ='Table-42'!B18 -> 80.292489
A19: ='Table-39'!A18 -> 45976 | B19: ='Table-39'!B18+'Table-39'!#REF! -> #REF! | C19: =SUM('Table-39'!C18:N18) -> 328.73165 | D19: ='Table-42'!B19 -> 86.426462
A20: ='Table-39'!A19 -> 45977 | B20: ='Table-39'!B19+'Table-39'!#REF! -> #REF! | C20: =SUM('Table-39'!C19:N19) -> 328.32008 | D20: ='Table-42'!B20 -> 84.694055
A21: ='Table-39'!A20 -> 45978 | B21: ='Table-39'!B20+'Table-39'!#REF! -> #REF! | C21: =SUM('Table-39'!C20:N20) -> 329.70352 | D21: ='Table-42'!B21 -> 84.501902
A22: ='Table-39'!A21 -> 45979 | B22: ='Table-39'!B21+'Table-39'!#REF! -> #REF! | C22: =SUM('Table-39'!C21:N21) -> 350.03562 | D22: ='Table-42'!B22 -> 87.865638
A23: ='Table-39'!A22 -> 45980 | B23: ='Table-39'!B22+'Table-39'!#REF! -> #REF! | C23: =SUM('Table-39'!C22:N22) -> 353.69316 | D23: ='Table-42'!B23 -> 81.274629
A24: ='Table-39'!A23 -> 45981 | B24: ='Table-39'!B23+'Table-39'!#REF! -> #REF! | C24: =SUM('Table-39'!C23:N23) -> 361.45333 | D24: ='Table-42'!B24 -> 91.713132
A25: ='Table-39'!A24 -> 45982 | B25: ='Table-39'!B24+'Table-39'!#REF! -> #REF! | C25: =SUM('Table-39'!C24:N24) -> 363.65634 | D25: ='Table-42'!B25 -> 87.819912
A26: ='Table-39'!A25 -> 45983 | B26: ='Table-39'!B25+'Table-39'!#REF! -> #REF! | C26: =SUM('Table-39'!C25:N25) -> 349.85334 | D26: ='Table-42'!B29 -> 85.195745
A27: ='Table-39'!A30 -> 45988 | B27: ='Table-39'!B30+'Table-39'!#REF! -> #REF! | C27: =SUM('Table-39'!C30:N30) -> 373.92759 | D27: ='Table-42'!B31 -> 83.307071
A28: ='Table-39'!#REF! -> #REF! | B28: ='Table-39'!#REF!+'Table-39'!#REF! -> #REF! | C28: =SUM('Table-39'!#REF!) -> #REF! | D28: ='Table-42'!B32 -> 84.328694
A29: ='Table-39'!#REF! -> #REF! | B29: ='Table-39'!#REF!+'Table-39'!#REF! -> #REF! | C29: =SUM('Table-39'!#REF!) -> #REF! | D29: ='Table-42'!#REF! -> #REF!
A30: ='Table-39'!#REF! -> #REF! | B30: ='Table-39'!#REF!+'Table-39'!#REF! -> #REF! | C30: =SUM('Table-39'!#REF!) -> #REF! | D30: ='Table-42'!#REF! -> #REF!
A31: ='Table-39'!#REF! -> #REF! | B31: ='Table-39'!#REF!+'Table-39'!#REF! -> #REF! | C31: =SUM('Table-39'!#REF!) -> #REF! | D31: ='Table-42'!#REF! -> #REF!
A32: ='Table-39'!#REF! -> #REF! | B32: ='Table-39'!#REF!+'Table-39'!#REF! -> #REF! | C32: =SUM('Table-39'!#REF!) -> #REF! | D32: ='Table-42'!#REF! -> #REF!
A33: ='Table-39'!#REF! -> #REF! | B33: ='Table-39'!#REF!+'Table-39'!#REF! -> #REF! | C33: =SUM('Table-39'!#REF!) -> #REF! | D33: ='Table-42'!#REF! -> #REF!
A34: ='Table 27'!A34 -> Total | B34: =SUM(B4:B33) -> #REF! | C34: =SUM(C4:C33) -> #REF! | D34: =SUM(D4:D33) -> #REF!

Sheet data-chart4 (N)
A1: VOLUME OF SHORT-TERM TRANSACTIONS OF ELECTRICITY (ALL INDIA) (MUs)
A3: Date | B3: Bilateral Transactions | C3: PX Transactions
A4: ='Table 27'!A4 -> 45017 | B4: ='Table-39'!#REF!+'Table-39'!#REF! -> #REF! | C4: =SUM('Table-39'!#REF!) -> #REF!
A5: ='Table 27'!A5 -> 45018 | B5: ='Table-39'!B4+'Table-39'!#REF! -> #REF! | C5: =SUM('Table-39'!C4:N4) -> 349.53233
A6: ='Table 27'!A6 -> 45019 | B6: ='Table-39'!B5+'Table-39'!#REF! -> #REF! | C6: =SUM('Table-39'!C5:N5) -> 354.09554 | O6: `
A7: ='Table 27'!A7 -> 45020 | B7: ='Table-39'!B6+'Table-39'!#REF! -> #REF! | C7: =SUM('Table-39'!C6:N6) -> 361.03476
A8: ='Table 27'!A8 -> 45021 | B8: ='Table-39'!B7+'Table-39'!#REF! -> #REF! | C8: =SUM('Table-39'!C7:N7) -> 331.65512
A9: ='Table 27'!A9 -> 45022 | B9: ='Table-39'!B8+'Table-39'!#REF! -> #REF! | C9: =SUM('Table-39'!C8:N8) -> 349.08858
A10: ='Table 27'!A10 -> 45023 | B10: ='Table-39'!B9+'Table-39'!#REF! -> #REF! | C10: =SUM('Table-39'!C9:N9) -> 352.35815
A11: ='Table 27'!A11 -> 45024 | B11: ='Table-39'!B10+'Table-39'!#REF! -> #REF! | C11: =SUM('Table-39'!C10:N10) -> 359.41466
A12: ='Table 27'!A12 -> 45025 | B12: ='Table-39'!B11+'Table-39'!#REF! -> #REF! | C12: =SUM('Table-39'!C11:N11) -> 360.52147
A13: ='Table 27'!A13 -> 45026 | B13: ='Table-39'!B12+'Table-39'!#REF! -> #REF! | C13: =SUM('Table-39'!C12:N12) -> 351.55794
A14: ='Table 27'!A14 -> 45027 | B14: ='Table-39'!B13+'Table-39'!#REF! -> #REF! | C14: =SUM('Table-39'!C13:N13) -> 362.75631
A15: ='Table 27'!A15 -> 45028 | B15: ='Table-39'!B14+'Table-39'!#REF! -> #REF! | C15: =SUM('Table-39'!C14:N14) -> 361.88327
A16: ='Table 27'!A16 -> 45029 | B16: ='Table-39'!B15+'Table-39'!#REF! -> #REF! | C16: =SUM('Table-39'!C15:N15) -> 356.53129
A17: ='Table 27'!A17 -> 45030 | B17: ='Table-39'!B16+'Table-39'!#REF! -> #REF! | C17: =SUM('Table-39'!C16:N16) -> 325.95021
A18: ='Table 27'!A18 -> 45031 | B18: ='Table-39'!B17+'Table-39'!#REF! -> #REF! | C18: =SUM('Table-39'!C17:N17) -> 340.16861
... A26: ='Table 27'!A26 -> 45039 | B26: ='Table-39'!B25+'Table-39'!#REF! -> #REF! | C26: =SUM('Table-39'!C25:N25) -> 349.85334
A27: ='Table 27'!A27 -> 45040 | B27: ='Table-39'!B30+'Table-39'!#REF! -> #REF! | C27: =SUM('Table-39'!C30:N30) -> 373.92759
A28: ='Table 27'!A28 -> 45041 | B28: ='Table-39'!#REF!+'Table-39'!#REF! -> #REF! | C28: =SUM('Table-39'!#REF!) -> #REF!
A29: ='Table 27'!A29 -> 45042 | B29: ='Table-39'!#REF!+'Table-39'!#REF! -> #REF! | C29: =SUM('Table-39'!#REF!) -> #REF!
A30: ='Table 27'!A30 -> 45043 | B30: ='Table-39'!#REF!+'Table-39'!#REF! -> #REF! | C30: =SUM('Table-39'!#REF!) -> #REF!
A31: ='Table 27'!A31 -> 45044 | B31: ='Table-39'!#REF!+'Table-39'!#REF! -> #REF! | C31: =SUM('Table-39'!#REF!) -> #REF!
A32: ='Table 27'!A32 -> 45045 | B32: ='Table-39'!#REF!+'Table-39'!#REF! -> #REF! | C32: =SUM('Table-39'!#REF!) -> #REF!
A33: ='Table 27'!A33 -> 45046 | B33: ='Table-39'!#REF!+'Table-39'!#REF! -> #REF! | C33: =SUM('Table-39'!#REF!) -> #REF!
A34: ='Table 27'!A34 -> Total | B34: ='Table 27'!B34+'Table 27'!C34 -> 9603.429 | C34: ='Table 27'!D34+'Table 27'!E34+'Table 27'!K34+'Table 27'!L34+'Table 27'!G34+'Table 27'!H34+'Table 27'!F34+'Table 27'!I34+'Table 27'!M34+'Table 27'!J34 -> 6719.2336

Sheet Table-2
A1: Table-2: PERCENTAGE SHARE OF ELECTRICITY TRANSACTED BY TRADING LICENSEES, NOVEMBER 2025
A2: Sr.No | B2: Name of the Trading Licensee | C2: % Share in total Volume transacted by Trading Licensees
A3: 1 | B3: PTC India Ltd. | C3: 29.691231
A4: 2 | B4: Powerpulse Trading Solutions Ltd. | C4: 17.88369
A5: 3 | B5: NTPC Vidyut Vyapar Nigam Ltd. | C5: 16.360319
A6: 4 | B6: JSW Power Trading Company Ltd | C6: 9.3178793
A7: 5 | B7: Manikaran Power Ltd. | C7: 7.0477106
A8: 6 | B8: Tata Power Trading Company (P) Ltd. | C8: 5.8234873
A9: 7 | B9: Greenko Energies Pvt Ltd | C9: 3.6610782
A10: 8 | B10: Arunachal Pradesh Power Corporation (P) Ltd | C10: 2.2423511
A11: 9 | B11: GMR Energy Trading Ltd. | C11: 1.5521894
A12: 10 | B12: Energyedge Power Trading Pvt. Ltd. | C12: 1.1073792
A13: 11 | B13: Kreate Energy (I) Pvt. Ltd. | C13: 0.99909053
A14: 12 | B14: Ideal Energy Solution Pvt. Ltd. | C14: 0.94773918
... A39: 37 | B39: Elsa Consultancy | C39: 0.0040730956
A40: TOTAL | C40: 1
A41: Top 5 trading licensees | C41: 0.80300829
A42: Herfindahl-Hirschman Index | C42: 0.16646569
A43: Note:
A44: 1. Volume of electricity transacted by the trading licensees includes bilateral transactions (inter-state & intra-state) and the transactions undertaken through power exchanges.
A45: 2. Volume of electricity transacted by Global Energy Ltd. and Instinct Infra & Power Ltd. is not included.
A46: Source: Information submitted by trading licensees

Sheet Table-3 to 26
A1: Table-3: PRICE OF ELECTRICITY TRANSACTED THROUGH TRADERS, NOVEMBER 2025
A2: Sr.No | B2: Item | C2: Sale Price of Traders (₹/kWh)
A3: 1 | B3: Minimum | C3: 2.02
A4: 2 | B4: Maximum | C4: 9.73
A5: 3 | B5: Weighted Average | C5: 4.78
A6: Source: Information submitted by trading licensees
A8: Table-4: PRICE OF ELECTRICITY TRANSACTED THROUGH TRADERS (TIME-WISE), NOVEMBER 2025
A9: Sr.No | B9: Period of Trade | C9: Sale Price of Traders (₹/kWh)
A10: 1 | B10: RTC | C10: 4.6
A11: 2 | B11: PEAK | C11: 8.12
A12: 3 | B12: Other than Peak | C12: 4.41
A13: Source: Information submitted by trading licensees
A15: Table-5: PRICE OF ELECTRICITY TRANSACTED IN DAY AHEAD MARKET THROUGH POWER EXCHANGES, NOVEMBER 2025
A16: Sr.No | B16: ACP | C16: Price in IEX (₹/kWh) | D16: Price in PXIL ( ₹/kWh) | E16: Price in HPX ( ₹/kWh)
A17: 1 | B17: Minimum | C17: 0.09936 | D17: 6.66 | E17: 9.9991
A18: 2 | B18: Maximum | C18: 10 | D18: 10 | E18: 10
A19: 3 | B19: Weighted Average | C19: 3.2171593 | D19: 9.9864408 | E19: 9.9998062
A20: Source: Information submitted by IEX, PXIL and HPX
A22: Table-6: PRICE OF ELECTRICITY TRANSACTED IN GREEN DAY AHEAD MARKET THROUGH POWER EXCHANGES, NOVEMBER 2025
A23: Sr.No | B23: ACP | C23: Price in IEX (₹/kWh) | D23: Price in PXIL (₹/kWh) | E23: Price in HPX ( ₹/kWh)
A24: 1 | B24: Minimum | C24: 0.69917 | D24: 3 | E24: 2.85
A25: 2 | B25: Maximum | C25: 10 | D25: 3.15 | E25: 3.1
A26: 3 | B26: Weighted Average | C26: 3.2882272 | D26: 3.0185185 | E26: 2.9823967
A27: Source: Information submitted by IEX, PXIL and HPX
A29: Table-7: PRICE OF ELECTRICITY TRANSACTED IN HIGH PRICE DAY AHEAD MARKET THROUGH POWER EXCHANGES, NOVEMBER 2025
A30: Sr.No | B30: ACP | C30: Price in IEX (₹/kWh) | D30: Price in PXIL (₹/kWh) | E30: Price in HPX ( ₹/kWh)
A31: 1 | B31: Minimum | C31: - | D31: - | E31: -
A32: 2 | B32: Maximum | C32: - | D32: - | E32: -
A33: 3 | B33: Weighted Average | C33: - | D33: - | E33: -
A36: Table-8: PRICE OF ELECTRICITY TRANSACTED IN REAL TIME MARKET THROUGH POWER EXCHANGES, NOVEMBER 2025
A37: Sr.No | B37: ACP | C37: Price in IEX (₹/kWh) | D37: Price in PXIL (₹/kWh) | E37: Price in HPX ( ₹/kWh)
A38: 1 | B38: Minimum | C38: 0.01004 | D38: 5.5 | E38: 10
A39: 2 | B39: Maximum | C39: 10 | D39: 10 | E39: 10
A40: 3 | B40: Weighted Average | C40: 3.0362147 | D40: 9.8951881 | E40: 10
A41: Source: Information submitted by IEX, PXIL and HPX
A43: Table-XX: CHARGES FOR DEVIATION UNDER DSM, APRIL 2023
A44: Sr.No | B44: Item | C44: Charge in All India Grid (₹/kWh)
A45: 1 | B45: Minimum | C45: ='Table 28(c)'!K37 -> 1.6143
A46: 2 | B46: Maximum | C46: ='Table 28(c)'!L37 -> 10.999
A47: 3 | B47: Average | C47: ='Table 28(c)'!M37 -> 5.9216127
A48: Source: NLDC
A50: Table-9: VOLUME AND PRICE OF ELECTRICITY IN INTRADAY AND CONTINGENCY OF IEX, NOVEMBER 2025
A51: Sr.No | B51: Intraday and Contingency contracts | C51: Actual Scheduled Volume (MUs) | D51: Weighted Average Price (₹/kWh)
A52: 1 | B52: Intra-Day Contracts | C52: 7.669 | D52: 6.9977259
A53: 2 | B53: Day Ahead Contingency Contracts | C53: 262.26866 | D53: 4.5834555
B54: Total | C54: 269.93766 | D54: 4.6520456
A55: Source: IEX
A58: Table-10: VOLUME AND PRICE OF ELECTRICITY IN TERM AHEAD MARKET OF IEX, NOVEMBER 2025
A59: Sr.No | B59: Term ahead contracts | C59: Actual Scheduled Volume (MUs) | D59: Weighted Average Price (₹/kWh)
A60: 1 | B60: Daily Contracts | C60: 293.69902 | D60: 5.2369028
A61: 2 | B61: Weekly Contracts | C61: 0 | D61: 0
A62: 3 | B62: Monthly Contracts | C62: 0 | D62: 0
A63: 4 | B63: Any Day Single Sided Contracts | C63: 127.62094 | D63: 3.9549219
B64: Total | C64: 421.31996 | D64: 4.8485813
A65: Source: IEX
A67: Table-11: VOLUME AND PRICE OF ELECTRICITY IN INTRADAY AND CONTINGENCY OF PXIL, NOVEMBER 2025
A68: Sr.No | B68: Intraday and Contingency contracts | C68: Actual Scheduled Volume (MUs) | D68: Weighted Average Price (₹/kWh)
A69: 1 | B69: Intra-Day Contracts | C69: 30.6485 | D69: 7.7444232
A70: 2 | B70: Day Ahead Contingency Contracts | C70: 272.56705 | D70: 4.6953405
B71: Total | C71: 303.21555 | D71: 5.0035365
A72: Source: PXIL
A74: Table-12: VOLUME AND PRICE OF ELECTRICITY IN TERM AHEAD MARKET OF PXIL, NOVEMBER 2025
A75: Sr.No | B75: Term ahead contracts | C75: Actual Scheduled Volume (MUs) | D75: Weighted Average Price (₹/kWh)
A76: 1 | B76: Daily Contracts | C76: 329.09991 | D76: 5.5114867
A77: 2 | B77: Weekly Contracts | C77: 0 | D77: 0
A78: 3 | B78: Monthly Contracts | C78: 18.780025 | D78: 5
A79: 4 | B79: Any Day Single Sided Contracts | C79: 194.99412 | D79: 3.8100842
B80: Total | C80: 542.87405 | D80: 4.8826682
A81: Source: PXIL
A83: Table-13: VOLUME AND PRICE OF ELECTRICITY IN INTRADAY AND CONTINGENCY OF HPX, NOVEMBER 2025
A84: Sr.No | B84: Intraday and Contingency contracts | C84: Actual Scheduled Volume (MUs) | D84: Weighted Average Price (₹/kWh)
A85: 1 | B85: Intra-Day Contracts | C85: 10.2795 | D85: 8.5062503
A86: 2 | B86: Day Ahead Contingency Contracts | C86: 208.5033 | D86: 4.3361237
B87: Total | C87: 218.7828 | D87: 4.5320569
A88: Source: HPX
A91: Table-14: VOLUME AND PRICE OF ELECTRICITY IN TERM AHEAD MARKET OF HPX, NOVEMBER 2025
A92: Sr.No | B92: Term ahead contracts | C92: Actual Scheduled Volume (MUs) | D92: Weighted Average Price (₹/kWh)
A93: 1 | B93: Daily Contracts | C93: 87.21345 | D93: 6.9395506
A94: 2 | B94: Weekly Contracts | C94: 0 | D94: 0
A95: 3 | B95: Monthly Contracts | C95: 1.44 | D95: 5.25
A96: 4 | B96: Any Day Single Sided Contracts | C96: 163.53471 | D96: 4.2875227
B97: Total | C97: 252.18815 | D97: 5.2101611
A98: Source: HPX
A100: Table-15: VOLUME AND PRICE OF ELECTRICITY IN GREEN INTRADAY AND CONTINGENCY OF IEX, NOVEMBER 2025
A101: Sr.No | B101: Green Intraday and Contingency contracts | C101: Actual Scheduled Volume (MUs) | D101: Weighted Average Price (₹/kWh)
A102: 1 | B102: Intra-Day Contracts | C102: 0 | D102: 0
A103: 2 | B103: Day Ahead Contingency Contracts | C103: 1.439145 | D103: 8.2696544
B104: Total | C104: 1.439145 | D104: 8.2696544
A105: Source: IEX
A108: Table-16: VOLUME AND PRICE OF ELECTRICITY IN GREEN TERM AHEAD MARKET OF IEX, NOVEMBER 2025
A109: Sr.No | B109: Green Term ahead contracts | C109: Actual Scheduled Volume (MUs) | D109: Weighted Average Price (₹/kWh)
A110: 1 | B110: Daily Contracts | C110: 10.3925 | D110: 6.3788309
A111: 2 | B111: Weekly Contracts | C111: 0 | D111: 0
A112: 3 | B112: Monthly Contracts | C112: 23.016 | D112: 5.6
A113: 4 | B113: Any Day Single Sided Contracts | C113: 0 | D113: 0
B114: Total | C114: 33.4085 | D114: 5.8422737
A115: Source: IEX
A117: Table-17: VOLUME AND PRICE OF ELECTRICITY IN GREEN INTRADAY AND CONTINGENCY OF PXIL, NOVEMBER 2025
A118: Sr.No | B118: Green Intraday and Contingency contracts | C118: Actual Scheduled Volume (MUs) | D118: Weighted Average Price (₹/kWh)
A119: 1 | B119: Intra-Day Contracts | C119: 0 | D119: 0
...

Sheet Table-27
A1: Table-27: VOLUME OF ELECTRICITY SOLD THROUGH BILATERAL, NOVEMBER 2025
A2: Name of the Entity | B2: Volume of Sale (MU) | C2: % of Volume
A3: Uttar Pradesh | B3: 916.57116 | C3: 13.255898
A4: Punjab | B4: 494.20809 | C4: 7.1474777
A5: SEMBCORP ENERGY INDIA LIMITED | B5: 312.3748 | C5: 4.5177162
A6: JSW ENERGY (UTKAL) LIMITED | B6: 254.96793 | C6: 3.6874702
A7: 2X600 VEDANTA LIMITED Chhattisgarh Power Plant | B7: 249.55395 | C7: 3.6091705
A8: Chhattisgarh | B8: 239.80852 | C8: 3.4682274
A9: Odisha | B9: 220.89101 | C9: 3.1946331
A10: SKS Power Generation Chhattisgarh Limited | B10: 220.2959 | C10: 3.1860265
A11: Jindal Power Limited, Stage-2 | B11: 196.88111 | C11: 2.8473904
A12: Adani Power Limited - Raigarh TPP | B12: 188.51784 | C12: 2.7264366
A13: Adani Power Limited-Raipur TPP | B13: 184.39226 | C13: 2.6667705
A14: Jindal India Power Limited | B14: 169.66704 | C14: 2.4538072
... A164: Volume Sold by top 5 Regional Entities | B164: 2227.6759 | C164: 32.217732
A165: Herfindahl-Hirschman Index | C165: 0.038173151

Sheet Table-28
A1: Table-28: VOLUME OF ELECTRICITY PURCHASED THROUGH BILATERAL, NOVEMBER 2025
A2: Name of the Entity | B2: Volume of Purchase (MU) | C2: % of Volume
A3: Gujarat | B3: 1031.4727 | C3: 14.91766
A4: Madhya Pradesh | B4: 798.71089 | C4: 11.551345
A5: Maharashtra | B5: 702.03383 | C5: 10.153155
A6: Tamil Nadu | B6: 611.61802 | C6: 8.8455172
A7: Rajasthan | B7: 397.70923 | C7: 5.7518642
A8: Damodar Valley Corporation | B8: 383.18671 | C8: 5.5418325
A9: Andhra Pradesh | B9: 373.76931 | C9: 5.4056335
A10: Jammu Kashmir | B10: 366.3457 | C10: 5.2982696
A11: Odisha | B11: 334.8229 | C11: 4.8423715
A12: HIMACHAL PRADESH | B12: 268.13384 | C12: 3.877882
A13: Uttarakhand | B13: 265.80661 | C13: 3.8442244
A14: Delhi | B14: 245.0115 | C14: 3.5434755
... A56: Volume Purchased by top 5 Regional Entities | B56: 3541.5447 | C56: 51.219541
A57: Herfindahl-Hirschman Index | C57: 0.075133185

Sheet Table-29
A1: Table-29: VOLUME OF ELECTRICITY SOLD IN DAY AHEAD MARKET THROUGH POWER EXCHANGES, NOVEMBER 2025
A2: Name of the Entity | B2: Volume of Sale (MU) | C2: % of Volume
A3: Odisha | B3: 506.29819 | C3: 8.9684038
A4: Chhattisgarh | B4: 305.50054 | C4: 5.4115387
A5: Uttar Pradesh | B5: 305.17692 | C5: 5.4058061
A6: Bihar | B6: 294.82058 | C6: 5.2223572
A7: NEPAL ELECTRICITY AUTHORITY MUZAFFARPUR | B7: 294.79688 | C7: 5.2219374
A8: Madhya Pradesh | B8: 207.56114 | C8: 3.6766715
A9: Jindal Power Limited, Stage-1 | B9: 198.30727 | C9: 3.5127514
A10: Jaypee Nigrie Super Thermal Power Plant | B10: 198.2095 | C10: 3.5110195
A11: KSK MAHANADI POWER COMPANY LIMITED | B11: 186.91911 | C11: 3.3110251
A12: MAHAN ENERGEN LIMITED U2 | B12: 186.48872 | C12: 3.3034015
A13: Jindal Power Limited, Stage-2 | B13: 168.4565 | C13: 2.9839845
A14: Adani Power Limited-Raipur TPP | B14: 145.02243 | C14: 2.5688809
... A207: Volume sold by top 5 Regional Entities | B207: 1706.5931 | C207: 30.230043
A208: Herfindahl-Hirschman Index | C208: 0.03145022

Sheet Table-30
A1: Table-30: VOLUME OF ELECTRICITY PURCHASED IN DAY AHEAD MARKET THROUGH POWER EXCHANGES, NOVEMBER 2025
A2: Name of the Entity | B2: Volume of Purchase (MU) | C2: % of Volume
A3: Gujarat | B3: 1436.9368 | C3: 25.453437
A4: Karnataka | B4: 496.70915 | C4: 8.7985466
A5: West Bengal | B5: 471.21963 | C5: 8.3470335
A6: Telangana | B6: 450.19115 | C6: 7.9745418
A7: Tamil Nadu | B7: 340.44009 | C7: 6.0304466
A8: Rajasthan | B8: 326.35073 | C8: 5.7808722
A9: Maharashtra | B9: 311.85604 | C9: 5.5241179
A10: Uttar Pradesh | B10: 305.42062 | C10: 5.410123
A11: Andhra Pradesh | B11: 284.77174 | C11: 5.0443552
A12: Delhi | B12: 194.07511 | C12: 3.4377843
A13: Madhya Pradesh | B13: 162.02128 | C13: 2.869993
A14: Uttarakhand | B14: 150.94096 | C14: 2.6737197
... A45: Volume purchased by top 5 Regional Entities | B45: 3195.4968 | C45: 56.604006
A46: Herfindahl-Hirschman Index | C46: 0.10562048

Sheet Table-31
A1: Table-31: VOLUME OF ELECTRICITY SOLD IN GREEN DAY AHEAD MARKET THROUGH POWER EXCHANGES, NOVEMBER 2025
A2: Name of the Entity | B2: Volume of Sale (MU) | C2: % of Volume
A3: Karnataka | B3: 221.69149 | C3: 28.484112
A4: ADANI RENEWABLE ENERGY FIFTY SEVEN LIMITED_PSS13 | B4: 64.985322 | C4: 8.3496629
A5: Adani Renewable Energy Fifty Six Limited_PSS10 | B5: 38.503245 | C5: 4.9471035
A6: ADANI RENEWABLE ENERGY FIFTY SIX LIMITED_PSS9 | B6: 36.24746 | C6: 4.6572682
A7: Juna Renewable Energy Private Limited | B7: 28.442677 | C7: 3.6544678
A8: Maharashtra | B8: 26.20878 | C8: 3.3674447
A9: Madhya Pradesh | B9: 25.826825 | C9: 3.3183691
A10: HIMACHAL PRADESH | B10: 25.11756 | C10: 3.2272389
A11: ADANI RENEWABLE ENERGY FORTY FIVE LIMITED_PSS5 | B11: 22.210395 | C11: 2.8537107
A12: AMBUJA CEMENTS LIMITED_Essel Park RJ | B12: 20.885057 | C12: 2.6834243
A13: Uttar Pradesh | B13: 16.62015 | C13: 2.1354461
A14: Rongnichu HEP | B14: 15.46517 | C14: 1.987048
... A81: Volume sold by top 5 Regional Entities | B81: 389.87019 | C81: 50.092615
A82: Herfindahl-Hirschman Index | C82: 0.10272184

Sheet Table-32
A1: Table-32: VOLUME OF ELECTRICITY PURCHASED IN GREEN DAY AHEAD MARKET THROUGH POWER EXCHANGES, NOVEMBER 2025
A2: Name of the Entity | B2: Volume of Purchase (MU) | C2: % of Volume
A3: Odisha | B3: 117.04773 | C3: 15.03892
A4: Damodar Valley Corporation | B4: 113.67217 | C4: 14.60521
A5: Gujarat | B5: 113.162 | C5: 14.539661
A6: Tamil Nadu | B6: 94.526708 | C6: 12.145299
A7: ArcelorMittal Nippon Steel India Limited | B7: 50.86232 | C7: 6.5350638
A8: Haryana | B8: 33.400995 | C8: 4.2915391
A9: Greenko AP01 IREP Private Limited_Drawee | B9: 29.957545 | C9: 3.8491061
A10: Rajasthan | B10: 29.80833 | C10: 3.8299342
A11: Telangana | B11: 29.434148 | C11: 3.7818572
A12: Andhra Pradesh | B12: 28.508692 | C12: 3.6629498
A13: Maharashtra | B13: 23.741615 | C13: 3.0504501
A14: Uttar Pradesh | B14: 23.207828 | C14: 2.9818662
... A35: Volume purchased by top 5 Regional Entities | B35: 489.27092 | C35: 62.864154
A36: Herfindahl-Hirschman Index | C36: 0.095392686

Sheet Table-33
A1: Table-33: VOLUME OF ELECTRICITY SOLD IN HIGH PRICE DAY AHEAD MARKET THROUGH POWER EXCHANGES, NOVEMBER 2025
A2: Name of the Entity | B2: Volume of Sale (MU) | C2: % of Volume
A3: No trade | B3: 0 | C3: 0
A4: Total | B4: 0 | C4: 0
A5: Volume sold by top Regional Entities | B5: 0 | C5: -
A6: Herfindahl-Hirschman Index | C6: 0

Sheet Table-34
A1: Table-34: VOLUME OF ELECTRICITY PURCHASED IN HIGH PRICE DAY AHEAD MARKET THROUGH POWER EXCHANGES, NOVEMBER 2025
A2: Name of the Entity | B2: Volume of Purchase (MU) | C2: % of Volume
A3: No trade | B3: 0 | C3: 0
A4: TOTAL | B4: 0 | C4: 0
A5: Volume purchased by top Regional Entities | B5: 0 | C5: -
A6: Herfindahl-Hirschman Index | C6: 0

Sheet Table-35
A1: Table-35: VOLUME OF ELECTRICITY SOLD IN REAL TIME MARKET THROUGH POWER EXCHANGES, NOVEMBER 2025
A2: Name of the Entity | B2: Volume of Sale (MU) | C2: % of Volume
A3: Bihar | B3: 1002.2635 | C3: 23.598112
A4: Odisha | B4: 285.75329 | C4: 6.7280096
A5: Uttar Pradesh | B5: 261.6336 | C5: 6.1601158
A6: Jharkhand | B6: 253.04661 | C6: 5.9579367
A7: Madhya Pradesh | B7: 166.19555 | C7: 3.9130441
A8: NEPAL ELECTRICITY AUTHORITY MUZAFFARPUR | B8: 134.98193 | C8: 3.1781251
A9: Tamil Nadu | B9: 133.89861 | C9: 3.1526184
A10: Assam | B10: 111.67626 | C10: 2.6293974
A11: 2X600 VEDANTA LIMITED Chhattisgarh Power Plant | B11: 79.99602 | C11: 1.8834918
A12: Haryana | B12: 79.146092 | C12: 1.8634804
A13: Telangana | B13: 65.926433 | C13: 1.5522259
A14: Sasan Power Limited | B14: 54.728855 | C14: 1.288581
... A251: Volume sold by top 5 Regional Entities | B251: 1968.8925 | C251: 46.357218
A252: Herfindahl-Hirschman Index | C252: 0.074927825

Sheet Table-36
A1: Table-36: VOLUME OF ELECTRICITY PURCHASED IN REAL TIME MARKET THROUGH POWER EXCHANGES, NOVEMBER 2025
A2: Name of the Entity | B2: Volume of Purchase (MU) | C2: % of Volume
A3: Punjab | B3: 727.14151 | C3: 17.120426
A4: Karnataka | B4: 465.90139 | C4: 10.969571
A5: Telangana | B5: 370.42169 | C5: 8.721517
A6: Gujarat | B6: 297.86946 | C6: 7.0132868
A7: Rajasthan | B7: 289.60799 | C7: 6.8187718
A8: Maharashtra | B8: 277.19943 | C8: 6.5266143
A9: Uttar Pradesh | B9: 259.27893 | C9: 6.1046793
A10: Tamil Nadu | B10: 195.95513 | C10: 4.6137307
A11: West Bengal | B11: 156.18575 | C11: 3.6773675
A12: Andhra Pradesh | B12: 145.17061 | C12: 3.4180178
A13: Odisha | B13: 132.69025 | C13: 3.1241698
A14: Damodar Valley Corporation | B14: 109.9501 | C14: 2.5887567
... A73: Volume purchased by top 5 Regional Entities | B73: 2150.942 | C73: 50.643572
A74: Herfindahl-Hirschman Index | C74: 0.075241062

Sheet Table-37
A1: Table-37: TOTAL VOLUME OF NET SHORT-TERM TRANSACTIONS (REGIONAL ENTITY-WISE), NOVEMBER 2025
A2: S. No. | B2: Name of the Entity | C2: Total volume of net short-term transactions of electricity*
A3: 1 | B3: Gujarat | C3: 2855.8842
A4: 2 | B4: Maharashtra | C4: 1195.1508
A5: 3 | B5: Tamil Nadu | C5: 987.22338
A6: 4 | B6: Rajasthan | C6: 886.41102
A7: 5 | B7: Karnataka | C7: 768.02006
A8: 6 | B8: Andhra Pradesh | C8: 766.62893
A9: 7 | B9: Telangana | C9: 736.4511
A10: 8 | B10: Damodar Valley Corporation | C10: 644.36993
A11: 9 | B11: Madhya Pradesh | C11: 509.44813
A12: 10 | B12: West Bengal | C12: 508.78702
A13: 11 | B13: Uttarakhand | C13: 457.58403
A14: 12 | B14: Delhi | C14: 434.19775
... A323: 321 | B323: Bihar | C323: -1230.1164
A324: * Total volume of net short-term transactions of electricity includes net of transactions of electricity through bilateral and power exchanges
A325: (-) indicates sale and (+) indicates purchase

Sheet Table-38
A1: Table-38: DETAILS OF CONGESTION IN POWER EXCHANGES, NOVEMBER 2025
B2: Details of Congestion | C2: Day Ahead Market | F2: Green Day Ahead Market | I2: High Price Day Ahead Market | L2: Real Time Market
C3: IEX | D3: PXIL | E3: HPX | F3: IEX | G3: PXIL | H3: HPX | I3: IEX | J3: PXIL | K3: HPX | L3: IEX | M3: PXIL | N3: HPX
A4: A | B4: Unconstrained Cleared Volume (MUs) | C4: 5625.923 | D4: 15.205 | E4: 4.22625 | F4: 777.486 | G4: 0.2684 | H4: 0.5445 | I4: 0 | J4: 0 | K4: 0 | L4: 4232.987 | M4: 14.0637 | N4: 0.16875
A5: B | B5: Actual Cleared Volume and hence scheduled (MUs) | C5: 5625.9233 | D5: 15.205 | E5: 4.22625 | F5: 777.48585 | G5: 0.2684 | H5: 0.5445 | I5: 0 | J5: 0 | K5: 0 | L5: 4232.9838 | M5: 14.06375 | N5: 0.16875
A6: C | B6: Volume of electricity that could not be cleared and hence not scheduled because of congestion (MUs) * | C6: -0.0002925 | D6: 0 | E6: 0 | F6: 0.0001475 | G6: 0 | H6: 0 | I6: 0 | J6: 0 | K6: 0 | L6: 0.0031875 | M6: -5e-05 | N6: 0
A7: D | B7: Volume of electricity that could not be cleared and hence not scheduled because of reasons other than congestion (MUs) | C7: 0 | D7: 0 | E7: 0 | F7: 0 | G7: 0 | H7: 0 | I7: 0 | J7: 0 | K7: 0 | L7: 0 | M7: 0 | N7: 0
A8: E | B8: Volume of electricity that could not be cleared and hence not scheduled as % to Unconstrained Cleared Volume | C8: -5.1991469e-08 | D8: 0 | E8: 0 | F8: 1.8971403e-07 | G8: 0 | H8: 0 | I8: 0 | J8: 0 | K8: 0 | L8: 7.5301436e-07 | M8: -3.5552522e-06 | N8: 0
A9: F | B9: Percentage of the time congestion occurred during the month (Number of hours congestion occurred/Total number of hours in the month) | C9: 0 | D9: 0 | E9: 0 | F9: 0 | G9: 0 | H9: 0 | I9: 0 | J9: 0 | K9: 0 | L9: 6.944e-06 | M9: 0 | N9: 0
A10: G | B10: Congestion occurrence (%) time block wise
B11: 0.00 - 6.00 hours | C11: 0 | D11: 0 | E11: 0 | F11: 0 | G11: 0 | H11: 0 | I11: 0 | J11: 0 | K11: 0 | L11: 0 | M11: 0 | N11: 0
B12: 6.00 - 12.00 hours | C12: 0 | D12: 0 | E12: 0 | F12: 0 | G12: 0 | H12: 0 | I12: 0 | J12: 0 | K12: 0 | L12: 0 | M12: 0 | N12: 0
B13: 12.00 - 18.00 hours | C13: 0 | D13: 0 | E13: 0 | F13: 0 | G13: 0 | H13: 0 | I13: 0 | J13: 0 | K13: 0 | L13: 0 | M13: 0 | N13: 0
B14: 18.00 - 24.00 hours | C14: 0 | D14: 0 | E14: 0 | F14: 0 | G14: 0 | H14: 0 | I14: 0 | J14: 0 | K14: 0 | L14: 1 | M14: 0 | N14: 0
A15: * This power would have been scheduled had there been no congestion
A16: Source: IEX, PXIL, HPX & NLDC

Sheet Table 16B
A1: Table-16B: DETAILS OF CONGESTION IN RTM IN POWER EXCHANGES (REAL TIME MARKET), JUNE 2020 | K1: Check
B2: Details of Congestion | C2: IEX | D2: PXIL | H2: Cleared Volume (ACV) in MUs | I2: Unconstrained MCV in MUs | K2: IEX | L2: PXIL
A3: A | B3: Unconstrained Cleared Volume (MUs) | C3: =I3 -> 515.46874 | D3: =I4 -> 1.862675 | G3: IEX | H3: 515.46502 | I3: 515.46874 | K3: =I3-C5-C6 -> 515.46502 | L3: =I4-D5-D6 -> 1.862675
A4: B | B4: Actual Cleared Volume and hence scheduled (MUs) | C4: =H5 -> 2152.4548 | D4: =H6 -> 0 | E4: <-- NLDC | G4: PXIL | H4: 1.862675 | I4: 1.862675 | K4: =IF(ROUND(K3,2)=ROUND(C4,2),"Matched","Not Matching") -> Not Matching | L4: =IF(ROUND(L3,2)=ROUND(D4,2),"Matched","Not Matching") -> Not Matching
A5: C | B5: Volume of electricity that could not be cleared and hence not scheduled because of congestion (MUs) * | C5: =I3-H3 -> 0.00372 | D5: =I4-H4 -> 0 | E5: <-- IEX & PXIL congestion | G5: NLDC -IEX | H5: ='Table 27'!K34 -> 2152.4548
A6: D | B6: Volume of electricity that could not be cleared and hence not scheduled because of reasons other than congestion (MUs) | C6: 0 | D6: 0 | E6: <-- IEX & PXIL curtailment etc | G6: NLDC - PXIL | H6: ='Table 27'!L34 -> 0
A7: E | B7: Volume of electricity that could not be cleared as % to Unconstrained Cleared Volume | C7: 0.00069444444 | D7: 0
A8: F | B8: Percentage of the time congestion occurred during the month (Number of hours congestion occurred/Total number of hours in the month) | C8: 0 | D8: 0
A9: G | B9: Congestion occurrence (%) time block wise
B10: 0.00 - 6.00 hours | C10: 1 | D10: 0
B11: 6.00 - 12.00 hours | C11: 0 | D11: 0
B12: 12.00 - 18.00 hours | C12: 0 | D12: 0
B13: 18.00 - 24.00 hours | C13: 0 | D13: 0
A14: *This power would have been scheduled had there been no congestion.
A15: Source: IEX & PXIL& NLDC

Sheet Table 27
A1: Table-27: VOLUME OF SHORT-TERM TRANSACTIONS OF ELECTRICITY IN INDIA (DAY-WISE) (MUs), APRIL 2023 | Q1: NLDC
A2: Date | B2: Bilateral | D2: Day Ahead Market# | G2: Green Day Ahead Market# | J2: High Price Day Ahead Market | K2: Real Time Market# | N2: Deviation Settlement (Over Drawl+Under Generation) | O2: Total Electricity Generation (MU) as given at CEA Website*
B3: Through Traders and PXs** | C3: Direct | D3: IEX | E3: PXIL | F3: HPX | G3: IEX | H3: PXIL | I3: HPX | J3: IEX | K3: IEX | L3: PXIL | M3: HPX
A4: 45017 | B4: 203.88992 | C4: 80.553645 | D4: 167.20629 | E4: 0 | F4: 0 | G4: 4.5506175 | H4: 0 | I4: 0 | J4: 0 | K4: 79.49152 | L4: 0 | M4: 0 | N4: 66.758468 | O4: 3653.65
A5: 45018 | B5: 192.98302 | C5: 96.136993 | D5: 153.66063 | E5: 0 | F5: 0 | G5: 5.14725 | H5: 0 | I5: 0 | J5: 0 | K5: 62.098897 | L5: 0 | M5: 0 | N5: 67.727354 | O5: 3553.7
A6: 45019 | B6: 198.49889 | C6: 97.751892 | D6: 161.04127 | E6: 0 | F6: 0 | G6: 5.06565 | H6: 0 | I6: 0 | J6: 0 | K6: 67.903638 | L6: 0 | M6: 0 | N6: 61.735427 | O6: 3771.8
A7: 45020 | B7: 198.27072 | C7: 95.766683 | D7: 155.33243 | E7: 0 | F7: 0 | G7: 4.9521525 | H7: 0 | I7: 0 | J7: 0 | K7: 60.96739 | L7: 0 | M7: 0 | N7: 60.610065 | O7: 3925.54
A8: 45021 | B8: 207.54685 | C8: 93.78512 | D8: 146.94868 | E8: 0 | F8: 0 | G8: 5.937925 | H8: 0 | I8: 0 | J8: 0 | K8: 63.232707 | L8: 0 | M8: 0 | N8: 61.330355 | O8: 3979.8
A9: 45022 | B9: 210.46666 | C9: 99.711912 | D9: 158.72815 | E9: 0 | F9: 0 | G9: 4.601935 | H9: 0 | I9: 0 | J9: 0 | K9: 75.911145 | L9: 0 | M9: 0 | N9: 60.75623 | O9: 4010.79
A10: 45023 | B10: 207.75244 | C10: 100.11164 | D10: 165.2024 | E10: 0 | F10: 0 | G10: 3.45755 | H10: 0 | I10: 0 | J10: 0 | K10: 72.080292 | L10: 0 | M10: 0 | N10: 62.139508 | O10: 4039.85
A11: 45024 | B11: 195.96714 | C11: 97.950525 | D11: 163.45984 | E11: 0 | F11: 0 | G11: 5.4531225 | H11: 0 | I11: 0 | J11: 0 | K11: 78.111345 | L11: 0 | M11: 0 | N11: 62.027723 | O11: 3983.35
A12: 45025 | B12: 176.54017 | C12: 96.943275 | D12: 188.88451 | E12: 0 | F12: 0 | G12: 4.6343175 | H12: 0 | I12: 0 | J12: 0 | K12: 77.648618 | L12: 0 | M12: 0 | N12: 63.451872 | O12: 3914.2
A13: 45026 | B13: 197.34097 | C13: 97.55345 | D13: 190.83544 | E13: 0 | F13: 0 | G13: 4.401175 | H13: 0 | I13: 0 | J13: 0 | K13: 71.603418 | L13: 0 | M13: 0 | N13: 65.119509 | O13: 4111.57
A14: 45027 | B14: 230.17963 | C14: 90.719855 | D14: 180.97347 | E14: 0 | F14: 0 | G14: 3.9927025 | H14: 0 | I14: 0 | J14: 0 | K14: 66.914065 | L14: 0 | M14: 0 | N14: 72.785022 | O14: 4286.99
A15: 45028 | B15: 232.319 | C15: 93.15531 | D15: 174.34655 | E15: 0 | F15: 0 | G15: 6.045805 | H15: 0 | I15: 0 | J15: 0 | K15: 67.585882 | L15: 0 | M15: 0 | N15: 64.242466 | O15: 4308.39
... A33: 45046 | B33: 182.28411 | C33: 90.68643 | D33: 115.47826 | E33: 0 | F33: 0 | G33: 5.84415 | H33: 0 | I33: 0 | J33: 0 | K33: 82.902525 | L33: 0 | M33: 0 | N33: 83.403379 | O33: 3692.71
A34: Total | B34: =SUM(B4:B33) -> 6716.4815 | C34: =SUM(C4:C33) -> 2886.9476 | D34: =SUM(D4:D33) -> 4408.9276 | E34: =SUM(E4:E33) -> 0 | F34: =SUM(F4:F33) -> 0 | G34: =SUM(G4:G33) -> 157.55123 | H34: =SUM(H4:H33) -> 0 | I34: =SUM(I4:I33) -> 0 | ... O34: =SUM(O4:O33) -> 123650.15
A35: Source: NLDC
A36: * Gross Electricity Generation excluding electricity generation from renewables and captive power plants.
A37: ** The volume of bilateral through PXs represents the volume through term-ahead contracts.
A38: # Scheduled volume of all the bid areas.

Sheet Table-39
A1: Table-39: VOLUME OF SHORT-TERM TRANSACTIONS OF ELECTRICITY IN INDIA (DAY-WISE) (MU), NOVEMBER 2025
A2: Date | B2: Bilateral** (Traders, PX, Direct) | C2: Day Ahead Market# | F2: Green Day Ahead Market# | I2: High Price Day Ahead Market | L2: Real Time Market# | O2: Total Electricity Generation (MU) as given at CEA Website*
C3: IEX | D3: PXIL | E3: HPX | F3: IEX | G3: PXIL | H3: HPX | I3: IEX | J3: PXIL | K3: HPX | L3: IEX | M3: PXIL | N3: HPX
A4: 45962 | B4: 233.54205 | C4: 149.37147 | D4: 0 | E4: 0 | F4: 27.72707 | G4: 0.1155 | H4: 0 | I4: 0 | J4: 0 | K4: 0 | L4: 171.75579 | M4: 0.5625 | N4: 0 | O4: 3627.13
A5: 45963 | B5: 213.25916 | C5: 176.73454 | D5: 0 | E5: 0 | F5: 25.636457 | G5: 0.099 | H5: 0 | I5: 0 | J5: 0 | K5: 0 | L5: 151.62554 | M5: 0 | N5: 0 | O5: 3543.33
A6: 45964 | B6: 214.9399 | C6: 204.21963 | D6: 0.7705 | E6: 0.18375 | F6: 26.536948 | G6: 0.0539 | H6: 0 | I6: 0 | J6: 0 | K6: 0 | L6: 129.27003 | M6: 0 | N6: 0 | O6: 3627.47
A7: 45965 | B7: 207.74836 | C7: 185.7841 | D7: 1.096 | E7: 0.469 | F7: 23.347555 | G7: 0 | H7: 0.0649 | I7: 0 | J7: 0 | K7: 0 | L7: 120.89356 | M7: 0 | N7: 0 | O7: 3641.63
A8: 45966 | B8: 211.97398 | C8: 189.6082 | D8: 1.3095 | E8: 0.3875 | F8: 25.353168 | G8: 0 | H8: 0.0425 | I8: 0 | J8: 0 | K8: 0 | L8: 132.38771 | M8: 0 | N8: 0 | O8: 3739.35
A9: 45967 | B9: 225.04106 | C9: 198.85297 | D9: 0.4995 | E9: 0.325 | F9: 25.768518 | G9: 0 | H9: 0.0425 | I9: 0 | J9: 0 | K9: 0 | L9: 126.77966 | M9: 0.09 | N9: 0 | O9: 3719.48
A10: 45968 | B10: 217.46127 | C10: 204.99063 | D10: 1.525 | E10: 0 | F10: 26.068842 | G10: 0 | H10: 0.04 | I10: 0 | J10: 0 | K10: 0 | L10: 126.56518 | M10: 0.225 | N10: 0 | O10: 3718.61
A11: 45969 | B11: 215.92418 | C11: 200.1938 | D11: 1.64125 | E11: 0 | F11: 26.667172 | G11: 0 | H11: 0 | I11: 0 | J11: 0 | K11: 0 | L11: 131.91925 | M11: 0.1 | N11: 0 | O11: 3644.69
A12: 45970 | B12: 193.74066 | C12: 182.98348 | D12: 0 | E12: 0 | F12: 26.15848 | G12: 0 | H12: 0 | I12: 0 | J12: 0 | K12: 0 | L12: 142.41598 | M12: 0 | N12: 0 | O12: 3492.22
A13: 45971 | B13: 216.05664 | C13: 185.77227 | D13: 0.36475 | E13: 0.175 | F13: 28.838033 | G13: 0 | H13: 0 | I13: 0 | J13: 0 | K13: 0 | L13: 146.75626 | M13: 0.85 | N13: 0 | O13: 3655.9
A14: 45972 | B14: 235.03167 | C14: 192.27482 | D14: 0.1925 | E14: 0 | F14: 26.052978 | G14: 0 | H14: 0 | I14: 0 | J14: 0 | K14: 0 | L14: 141.98797 | M14: 1.375 | N14: 0 | O14: 3758.85
A15: 45973 | B15: 248.19743 | C15: 179.66272 | D15: 0.55675 | E15: 0.27 | F15: 29.505775 | G15: 0 | H15: 0 | I15: 0 | J15: 0 | K15: 0 | L15: 145.48604 | M15: 1.05 | N15: 0 | O15: 3734.07
... A33: 45991 | B33: 207.9432 | C33: 203.07394 | D33: 0 | E33: 0 | F33: 23.190403 | G33: 0 | H33: 0 | I33: 0 | J33: 0 | K33: 0 | L33: 155.87334 | M33: 0 | N33: 0 | O33: 3770.9
A34: Total | B34: 6914.4405 | C34: 5625.9233 | D34: 15.205 | E34: 4.22625 | F34: 777.48585 | G34: 0.2684 | H34: 0.5445 | I34: 0 | J34: 0 | K34: 0 | L34: 4232.9838 | M34: 14.06375 | N34: 0.16875 | O34: 111649.48
A35: Source: NLDC
A36: * As available on CEA Website. Gross Electricity Generation excluding electricity generation from renewables and captive power plants.
A37: # Scheduled volume of all the bid areas.
A38: Note: ** With change in the regime on implemtation of GNA Regulations from 1st October 2023, the volume here are not strictly comparable to the volumes in previous months. Discrepancies identified in the data provided by NLDC prompted further validation. The volume under GNA is as per 'Acceptance' and not 'Scheduled'. Thus, the volume herein and in August 2024 issue are subject to revisions. The Commission has directed NLDC to make necessary provisions in scheduling softwares for GNA and T-GNA. Readers are advised to interpret the data with caution, considering the ongoing adjustments.Furthermore, any revisions or clarifications on GNA and/or T-GNA volumes will be communicated in subsequent reports.

Sheet Table-40(a)
A1: Table-40(a) : PRICE OF DAY AHEAD TRANSACTIONS OF ELECTRICITY (DAY-WISE)(₹/kWh), NOVEMBER 2025
A2: Market Segment → | B2: Day ahead market of IEX | E2: Day ahead market of PXIL | H2: Day ahead market of HPX
A3: Date | B3: Minimum ACP | C3: Maximum ACP | D3: Weighted Average Price* | E3: Minimum ACP | F3: Maximum ACP | G3: Weighted Average Price* | H3: Minimum ACP | I3: Maximum ACP | J3: Weighted Average Price*
A6: 45962 | B6: 1.38441 | C6: 10 | D6: 3.734475 | E6: - | F6: - | G6: - | H6: - | I6: - | J6: -
A7: 45963 | B7: 0.29977 | C7: 10 | D7: 3.116086 | E7: - | F7: - | G7: - | H7: - | I7: - | J7: -
A8: 45964 | B8: 1.64929 | C8: 10 | D8: 3.804694 | E8: 10 | F8: 10 | G8: 10 | H8: 9.99979 | I8: 9.99987 | J8: 9.9998163
A9: 45965 | B9: 1.00597 | C9: 10 | D9: 3.386071 | E9: 10 | F9: 10 | G9: 10 | H9: 9.9991 | I9: 10 | J9: 9.9999947
A10: 45966 | B10: 0.99947 | C10: 10 | D10: 3.384314 | E10: 10 | F10: 10 | G10: 10 | H10: 9.99943 | I10: 10 | J10: 9.9998665
A11: 45967 | B11: 1.0748 | C11: 10 | D11: 3.643108 | E11: 10 | F11: 10 | G11: 10 | H11: 9.9998 | I11: 10 | J11: 9.9999385
A12: 45968 | B12: 0.65587 | C12: 10 | D12: 3.322903 | E12: 10 | F12: 10 | G12: 10 | H12: - | I12: - | J12: -
A13: 45969 | B13: 0.49909 | C13: 10 | D13: 3.127054 | E13: 10 | F13: 10 | G13: 10 | H13: - | I13: - | J13: -
A14: 45970 | B14: 0.09936 | C14: 4.91985 | D14: 2.339031 | E14: - | F14: - | G14: - | H14: - | I14: - | J14: -
A15: 45971 | B15: 0.99942 | C15: 10 | D15: 3.391743 | E15: 10 | F15: 10 | G15: 10 | H15: 9.99963 | I15: 10 | J15: 9.9999471
A16: 45972 | B16: 0.49952 | C16: 10 | D16: 3.471654 | E16: 10 | F16: 10 | G16: 10 | H16: - | I16: - | J16: -
A17: 45973 | B17: 1.50026 | C17: 10 | D17: 3.351887 | E17: 10 | F17: 10 | G17: 10 | H17: 10 | I17: 10 | J17: 10
A18: 45974 | B18: 1.21259 | C18: 10 | D18: 2.674741 | E18: - | F18: - | G18: - | H18: - | I18: - | J18: -
A19: 45975 | B19: 1.39973 | C19: 10 | D19: 3.041914 | E19: 10 | F19: 10 | G19: 10 | H19: 9.99967 | I19: 10 | J19: 9.999978
A20: 45976 | B20: 0.49992 | C20: 10 | D20: 2.744729 | E20: 10 | F20: 10 | G20: 10 | H20: - | I20: - | J20: -
A21: 45977 | B21: 0.20053 | C21: 3.74991 | D21: 1.722941 | E21: - | F21: - | G21: - | H21: - | I21: - | J21: -
A22: 45978 | B22: 1.10684 | C22: 10 | D22: 3.030889 | E22: 10 | F22: 10 | G22: 10 | H22: 10 | I22: 10 | J22: 10
A23: 45979 | B23: 1.21287 | C23: 10 | D23: 3.044253 | E23: 10 | F23: 10 | G23: 10 | H23: 9.99976 | I23: 10 | J23: 9.9999598
A24: 45980 | B24: 1.3409 | C24: 10 | D24: 3.239922 | E24: 10 | F24: 10 | G24: 10 | H24: 9.9995 | I24: 10 | J24: 9.9995789
A25: 45981 | B25: 1.44295 | C25: 10 | D25: 3.090909 | E25: 10 | F25: 10 | G25: 10 | H25: - | I25: - | J25: -
A26: 45982 | B26: 1.41492 | C26: 10 | D26: 3.152903 | E26: 10 | F26: 10 | G26: 10 | H26: 9.9995 | I26: 10 | J26: 9.999844
A27: 45983 | B27: 1.46263 | C27: 10 | D27: 3.301417 | E27: 10 | F27: 10 | G27: 10 | H27: - | I27: - | J27: -
A28: 45984 | B28: 1.55153 | C28: 9.99935 | D28: 2.868866 | E28: - | F28: - | G28: - | H28: - | I28: - | J28: -
A29: 45985 | B29: 1.55054 | C29: 10 | D29: 3.32278 | E29: 10 | F29: 10 | G29: 10 | H29: - | I29: - | J29: -
A30: 45986 | B30: 1.79929 | C30: 10 | D30: 3.501412 | E30: 10 | F30: 10 | G30: 10 | H30: - | I30: - | J30: -
A31: 45987 | B31: 1.88031 | C31: 10 | D31: 3.448021 | E31: 8.33 | F31: 10 | G31: 9.97 | H31: 9.99921 | I31: 9.99921 | J31: 9.99921
A32: 45988 | B32: 1.80089 | C32: 10 | D32: 3.606731 | E32: 10 | F32: 10 | G32: 10 | H32: 9.99927 | I32: 9.99927 | J32: 9.99927
A33: 45989 | B33: 1.93071 | C33: 10 | D33: 3.687986 | E33: 6.66 | F33: 10 | G33: 9.67 | H33: - | I33: - | J33: -
A34: 45990 | B34: 2.03038 | C34: 10 | D34: 3.75691 | E34: 10 | F34: 10 | G34: 10 | H34: 9.99945 | I34: 10 | J34: 9.9999389
A35: 45991 | B35: 1.36028 | C35: 4.20037 | D35: 2.674059 | E35: - | F35: - | G35: - | H35: - | I35: - | J35: -
B36: 0.09936 | C36: 10 | D36: 3.2171593 | E36: 6.66 | F36: 10 | G36: 9.9864408 | H36: 9.9991 | I36: 10 | J36: 9.9998062
A37: Source: IEX, PXIL and HPX
A38: * Weighted average price computed based on Area Clearing Volume (ACV) and Area Clearing Price (ACP) for each hour of the day. Here, ACV and ACP represent the scheduled volume and weighted average price of all the bid areas of power exchanges.
A39: # Maximum/Minimum in the month

Sheet Table-40(b)
A1: Table-40(b) : PRICE OF GREEN DAY AHEAD TRANSACTIONS OF ELECTRICITY (DAY-WISE)(₹/kWh), NOVEMBER 2025
A2: Market Segment → | B2: Green Day ahead market of IEX | E2: Green Day ahead market of PXIL | H2: Green Day ahead market of HPX
A3: Date | B3: Minimum ACP | C3: Maximum ACP | D3: Weighted Average Price* | E3: Minimum ACP | F3: Maximum ACP | G3: Weighted Average Price* | H3: Minimum ACP | I3: Maximum ACP | J3: Weighted Average Price*
A6: 45962 | B6: 1.2002 | C6: 6.00059 | D6: 2.553816 | E6: 3 | F6: 3 | G6: 3 | H6: - | I6: - | J6: -
A7: 45963 | B7: 0.93096 | C7: 7.50098 | D7: 2.891267 | E7: 3 | F7: 3 | G7: 3 | H7: - | I7: - | J7: -
A8: 45964 | B8: 1.40054 | C8: 10 | D8: 3.467499 | E8: 3 | F8: 3.15 | G8: 3.1 | H8: - | I8: - | J8: -
A9: 45965 | B9: 1.8487 | C9: 10 | D9: 3.577036 | E9: - | F9: - | G9: - | H9: 3.1 | I9: 3.1 | J9: 3.1
A10: 45966 | B10: 1.64878 | C10: 10 | D10: 3.418251 | E10: - | F10: - | G10: - | H10: 3.05 | I10: 3.05 | J10: 3.05
A11: 45967 | B11: 1.64879 | C11: 10 | D11: 3.509439 | E11: - | F11: - | G11: - | H11: 3.1 | I11: 3.1 | J11: 3.1
A12: 45968 | B12: 1.64882 | C12: 10 | D12: 3.298209 | E12: - | F12: - | G12: - | H12: 2.9 | I12: 2.9 | J12: 2.9
A13: 45969 | B13: 1.64875 | C13: 10 | D13: 3.202346 | E13: - | F13: - | G13: - | H13: - | I13: - | J13: -
A14: 45970 | B14: 0.69989 | C14: 6.00069 | D14: 2.367233 | E14: - | F14: - | G14: - | H14: - | I14: - | J14: -
A15: 45971 | B15: 1.49967 | C15: 10 | D15: 2.883969 | E15: - | F15: - | G15: - | H15: - | I15: - | J15: -
A16: 45972 | B16: 1.69951 | C16: 10 | D16: 3.1874 | E16: - | F16: - | G16: - | H16: - | I16: - | J16: -
A17: 45973 | B17: 1.79934 | C17: 10 | D17: 3.16754 | E17: - | F17: - | G17: - | H17: - | I17: - | J17: -
A18: 45974 | B18: 1.80065 | C18: 10 | D18: 3.005324 | E18: - | F18: - | G18: - | H18: - | I18: - | J18: -
A19: 45975 | B19: 1.80081 | C19: 10 | D19: 3.167606 | E19: - | F19: - | G19: - | H19: - | I19: - | J19: -
A20: 45976 | B20: 1.39941 | C20: 10 | D20: 3.267401 | E20: - | F20: - | G20: - | H20: - | I20: - | J20: -
A21: 45977 | B21: 0.69917 | C21: 5.00044 | D21: 2.545846 | E21: - | F21: - | G21: - | H21: - | I21: - | J21: -
A22: 45978 | B22: 0.99849 | C22: 10 | D22: 3.040969 | E22: - | F22: - | G22: - | H22: 2.85 | I22: 2.85 | J22: 2.85
A23: 45979 | B23: 1.30631 | C23: 10 | D23: 3.540047 | E23: - | F23: - | G23: - | H23: 2.95 | I23: 2.95 | J23: 2.95
A24: 45980 | B24: 1.5052 | C24: 10 | D24: 3.597251 | E24: - | F24: - | G24: - | H24: 2.975 | I24: 2.975 | J24: 2.975
A25: 45981 | B25: 1.50415 | C25: 10 | D25: 3.511229 | E25: - | F25: - | G25: - | H25: 2.95 | I25: 2.95 | J25: 2.95
A26: 45982 | B26: 1.60311 | C26: 10 | D26: 3.596523 | E26: - | F26: - | G26: - | H26: 3.025 | I26: 3.025 | J26: 3.025
A27: 45983 | B27: 1.41413 | C27: 10 | D27: 3.443238 | E27: - | F27: - | G27: - | H27: 2.95 | I27: 2.95 | J27: 2.95
A28: 45984 | B28: 0.69977 | C28: 5.00051 | D28: 2.211485 | E28: - | F28: - | G28: - | H28: 2.95 | I28: 2.95 | J28: 2.95
A29: 45985 | B29: 1.7512 | C29: 10 | D29: 3.671275 | E29: - | F29: - | G29: - | H29: 2.95 | I29: 2.95 | J29: 2.95
A30: 45986 | B30: 1.95019 | C30: 10 | D30: 3.935385 | E30: - | F30: - | G30: - | H30: - | I30: - | J30: -
A31: 45987 | B31: 2.30058 | C31: 10 | D31: 4.122685 | E31: - | F31: - | G31: - | H31: - | I31: - | J31: -
A32: 45988 | B32: 2.30014 | C32: 10 | D32: 3.993526 | E32: - | F32: - | G32: - | H32: - | I32: - | J32: -
A33: 45989 | B33: 2.29942 | C33: 10 | D33: 3.841305 | E33: - | F33: - | G33: - | H33: - | I33: - | J33: -
A34: 45990 | B34: 1.55172 | C34: 10 | D34: 3.485002 | E34: - | F34: - | G34: - | H34: - | I34: - | J34: -
A35: 45991 | B35: 1.79012 | C35: 6.50019 | D35: 3.571379 | E35: - | F35: - | G35: - | H35: - | I35: - | J35: -
B36: 0.69917 | C36: 10 | D36: 3.2882272 | E36: 3 | F36: 3.15 | G36: 3.0185185 | H36: 2.85 | I36: 3.1 | J36: 2.9823967
A37: Source: IEX, PXIL and HPX
A38: * Weighted average price computed based on Area Clearing Volume (ACV) and Area Clearing Price (ACP) for each hour of the day. Here, ACV and ACP represent the scheduled volume and weighted average price of all the bid areas of power exchanges.
A39: # Maximum/Minimum in the month

Sheet Table 28(c)
S1: IEX, PXIL, NLDC
A2: Table-28(c) : PRICE OF REAL TIME TRANSACTIONS AND DSM (DAY-WISE) (₹/kWh), APRIL 2023
A3: Market Segment | B3: Real Time market of IEX | E3: Real Time market of PXIL | H3: Real Time market of HPX | K3: Under Drawl/Over Drawl from the Grid (DSM)**
A4: Date | B4: Minimum ACP | C4: Maximum ACP | D4: Weighted Average Price* | E4: Minimum ACP | F4: Maximum ACP | G4: Weighted Average Price* | H4: Minimum ACP | I4: Maximum ACP | J4: Weighted Average Price* | K4: All India Grid
K5: Minimum Price | L5: Maximum Price | M5: Average Price
A7: 45017 | B7: 1.91602 | C7: 5.49992 | D7: 3.031343 | E7: - | F7: - | G7: - | H7: - | I7: - | J7: - | K7: 2.2246 | L7: 10.999 | M7: 4.3784244
A8: 45018 | B8: 1.44959 | C8: 6.25074 | D8: 3.353462 | E8: - | F8: - | G8: - | H8: - | I8: - | J8: - | K8: 2.0093 | L8: 6.2507 | M8: 3.7857567
A9: 45019 | B9: 2.35991 | C9: 7.35927 | D9: 4.011507 | E9: - | F9: - | G9: - | H9: - | I9: - | J9: - | K9: 2.4502 | L9: 7.3593 | M9: 4.453327
A10: 45020 | B10: 2.39952 | C10: 9.46304 | D10: 4.372767 | E10: - | F10: - | G10: - | H10: - | I10: - | J10: - | K10: 2.7016 | L10: 9.463 | M10: 4.6378892
A11: 45021 | B11: 2.36282 | C11: 10 | D11: 4.481707 | E11: - | F11: - | G11: - | H11: - | I11: - | J11: - | K11: 2.6296 | L11: 10 | M11: 4.8109716
A12: 45022 | B12: 1.74084 | C12: 10 | D12: 5.121935 | E12: - | F12: - | G12: - | H12: - | I12: - | J12: - | K12: 2.7075 | L12: 10 | M12: 5.4816595
A13: 45023 | B13: 2.70088 | C13: 10 | D13: 5.722161 | E13: - | F13: - | G13: - | H13: - | I13: - | J13: - | K13: 2.4986 | L13: 10 | M13: 5.6197766
A14: 45024 | B14: 2.40039 | C14: 10 | D14: 6.108288 | E14: - | F14: - | G14: - | H14: - | I14: - | J14: - | K14: 2.62 | L14: 10 | M14: 6.2386862
A15: 45025 | B15: 0.19962 | C15: 10 | D15: 5.036896 | E15: - | F15: - | G15: - | H15: - | I15: - | J15: - | K15: 2.3295 | L15: 10 | M15: 5.7407322
A16: 45026 | B16: 2.70031 | C16: 10 | D16: 5.99173 | E16: - | F16: - | G16: - | H16: - | I16: - | J16: - | K16: 2.8695 | L16: 10 | M16: 6.9911122
A17: 45027 | B17: 3.18917 | C17: 10 | D17: 7.64212 | E17: - | F17: - | G17: - | H17: - | I17: - | J17: - | K17: 3.0493 | L17: 10 | M17: 7.6293345
A18: 45028 | B18: 2.66926 | C18: 10 | D18: 7.0975 | E18: - | F18: - | G18: - | H18: - | I18: - | J18: - | K18: 2.8695 | L18: 10 | M18: 7.1983397
... A24: 45034 | B24: 3.79915 | C24: 10 | D24: 7.360038 | E24: - | F24: - | G24: - | H24: - | I24: - | J24: - | K24: 2.7004 | L24: 10.001 | M24: 8.0676704
A25: 45035 | B25: 1.97974 | C25: 10 | D25: 6.21617 | E25: - | F25: - | G25: - | H25: 10 | I25: 10 | J25: 10 | K25: 2.7004 | L25: 10 | M25: 8.0320788
A26: 45036 | B26: 2.21244 | C26: 10 | D26: 5.093844 | E26: - | F26: - | G26: - | H26: - | I26: - | J26: - | K26: 2.6629 | L26: 10.0681 | M26: 7.876284
A27: 45037 | B27: 2.49948 | C27: 9.99926 | D27: 4.051108 | E27: - | F27: - | G27: - | H27: - | I27: - | J27: - | K27: 2.8162 | L27: 10.1272 | M27: 7.8226594
A28: 45038 | B28: 1.9792 | C28: 4.9503 | D28: 3.390491 | E28: - | F28: - | G28: - | H28: - | I28: - | J28: - | K28: 2.6992 | L28: 10 | M28: 6.7584765
A29: 45039 | B29: 0.6993 | C29: 5.5011 | D29: 2.773249 | E29: - | F29: - | G29: - | H29: - | I29: - | J29: - | K29: 1.7857 | L29: 10 | M29: 4.1963428
A30: 45040 | B30: 1.99881 | C30: 6.45047 | D30: 3.568151 | E30: - | F30: - | G30: - | H30: - | I30: - | J30: - | K30: 1.9999 | L30: 10 | M30: 5.2370908
A31: 45041 | B31: 2.6781 | C31: 5.99956 | D31: 3.845516 | E31: - | F31: - | G31: - | H31: - | I31: - | J31: - | K31: 1.9999 | L31: 10 | M31: 5.2370908
A32: 45042 | B32: 1.02934 | C32: 8.00212 | D32: 3.551639 | E32: - | F32: - | G32: - | H32: - | I32: - | J32: - | K32: 2.6292 | L32: 10 | M32: 4.5188022
A33: 45043 | B33: 1.65 | C33: 5.50097 | D33: 3.55889 | E33: - | F33: - | G33: - | H33: - | I33: - | J33: - | K33: 2.8074 | L33: 9.8576 | M33: 4.2882504
A34: 45044 | B34: 1.65896 | C34: 5.00468 | D34: 3.533276 | E34: - | F34: - | G34: - | H34: - | I34: - | J34: - | K34: 2.8199 | L34: 9.8748 | M34: 4.1611238
A35: 45045 | B35: 1.80474 | C35: 5.99993 | D35: 3.349026 | E35: - | F35: - | G35: - | H35: - | I35: - | J35: - | K35: 2.5007 | L35: 9.8748 | M35: 4.0129077
A36: 45046 | B36: 1.39942 | C36: 5.00011 | D36: 2.686346 | E36: - | F36: - | G36: - | H36: - | I36: - | J36: - | K36: 1.6143 | L36: 9.8638 | M36: 3.3001476
B37: =MIN(B7:B36) -> 0.19946 | C37: =MAX(C7:C36) -> 10 | D37: 4.898441 | E37: - | F37: - | G37: - | H37: =MIN(H7:H36) -> 10 | I37: =MAX(I7:I36) -> 10 | J37: 10 | K37: =MIN($K$7:$K$36) -> 1.6143 | L37: =MAX($L$7:$L$36) -> 10.999 | M37: =AVERAGE($M$7:$M$36) -> 5.9216127
A38: Source: Data on price of PX transactions from IEX, PXIL and HPX and data on DSM Price from NLDC.
A39: * Weighted average price computed based on Area Clearing Volume (ACV) and Area Clearing Price (ACP) for each hour of the day. Here, ACV and ACP represent the scheduled volume and weighted average price of all the bid areas of power exchanges.
A40: ** CERC DSM Regulations 2022 came into effect from 05.12.2022, wherein normal rate of charges for deviation for a time block is equal to the highest of the [weighted average Area Clearing Price (ACP) of the Day Ahead Market segments of all the Power Exchanges; or the weighted average ACP of the Real Time Market segments of all the Power Exchanges; or the Weighted Average Ancillary Service Charge of all the regions]. Thereafter a ceiling of Rs. 12/kWh was imposed by CERC from 28.12.2022
A41: # Maximum/Minimum in the month

Sheet Table-40(c)
A1: Table-40(c) : PRICE OF REAL TIME TRANSACTIONS (DAY-WISE) (₹/kWh), NOVEMBER 2025
A2: Market Segment → | B2: Real Time market of IEX | E2: Real Time market of PXIL | H2: Real Time market of HPX
A3: Date | B3: Minimum ACP | C3: Maximum ACP | D3: Weighted Average Price* | E3: Minimum ACP | F3: Maximum ACP | G3: Weighted Average Price* | H3: Minimum ACP | I3: Maximum ACP | J3: Weighted Average Price*
A6: 45962 | B6: 0.89958 | C6: 10 | D6: 3.650613 | E6: 10 | F6: 10 | G6: 10 | H6: - | I6: - | J6: -
A7: 45963 | B7: 0.01986 | C7: 6.50045 | D7: 2.527156 | E7: - | F7: - | G7: - | H7: - | I7: - | J7: -
A8: 45964 | B8: 0.01956 | C8: 10 | D8: 2.477158 | E8: - | F8: - | G8: - | H8: - | I8: - | J8: -
A9: 45965 | B9: 0.02974 | C9: 10 | D9: 2.506958 | E9: - | F9: - | G9: - | H9: - | I9: - | J9: -
A10: 45966 | B10: 0.09942 | C10: 10 | D10: 2.456415 | E10: - | F10: - | G10: - | H10: - | I10: - | J10: -
A11: 45967 | B11: 0.04928 | C11: 10 | D11: 2.576524 | E11: 10 | F11: 10 | G11: 10 | H11: - | I11: - | J11: -
A12: 45968 | B12: 0.01004 | C12: 10 | D12: 2.811187 | E12: 10 | F12: 10 | G12: 10 | H12: - | I12: - | J12: -
A13: 45969 | B13: 0.40004 | C13: 10 | D13: 2.678264 | E13: 10 | F13: 10 | G13: 10 | H13: - | I13: - | J13: -
A14: 45970 | B14: 0.05869 | C14: 4.10595 | D14: 2.099938 | E14: - | F14: - | G14: - | H14: - | I14: - | J14: -
A15: 45971 | B15: 1.41424 | C15: 10 | D15: 3.197633 | E15: 10 | F15: 10 | G15: 10 | H15: - | I15: - | J15: -
A16: 45972 | B16: 1.52664 | C16: 10 | D16: 3.135416 | E16: 10 | F16: 10 | G16: 10 | H16: - | I16: - | J16: -
A17: 45973 | B17: 1.41473 | C17: 10 | D17: 3.112315 | E17: 10 | F17: 10 | G17: 10 | H17: - | I17: - | J17: -
A18: 45974 | B18: 1.4144 | C18: 10 | D18: 3.048221 | E18: - | F18: - | G18: - | H18: - | I18: - | J18: -
A19: 45975 | B19: 0.30012 | C19: 10 | D19: 2.834518 | E19: 5.5 | F19: 10 | G19: 7.92 | H19: - | I19: - | J19: -
A20: 45976 | B20: 0.24904 | C20: 10 | D20: 2.639222 | E20: - | F20: - | G20: - | H20: - | I20: - | J20: -
A21: 45977 | B21: 0.29961 | C21: 4.58405 | D21: 2.325636 | E21: - | F21: - | G21: - | H21: - | I21: - | J21: -
A22: 45978 | B22: 0.09998 | C22: 10 | D22: 2.788677 | E22: 10 | F22: 10 | G22: 10 | H22: - | I22: - | J22: -
A23: 45979 | B23: 0.99947 | C23: 10 | D23: 2.887931 | E23: 10 | F23: 10 | G23: 10 | H23: - | I23: - | J23: -
A24: 45980 | B24: 1.6929 | C24: 10 | D24: 3.191258 | E24: 10 | F24: 10 | G24: 10 | H24: - | I24: - | J24: -
A25: 45981 | B25: 0.49923 | C25: 10 | D25: 3.252503 | E25: 10 | F25: 10 | G25: 10 | H25: - | I25: - | J25: -
A26: 45982 | B26: 1.93846 | C26: 10 | D26: 3.563967 | E26: 10 | F26: 10 | G26: 10 | H26: - | I26: - | J26: -
A27: 45983 | B27: 2.07206 | C27: 10 | D27: 3.716328 | E27: 10 | F27: 10 | G27: 10 | H27: - | I27: - | J27: -
A28: 45984 | B28: 2.04961 | C28: 8.00097 | D28: 3.225943 | E28: - | F28: - | G28: - | H28: - | I28: - | J28: -
A29: 45985 | B29: 0.59989 | C29: 10 | D29: 3.449169 | E29: 10 | F29: 10 | G29: 10 | H29: - | I29: - | J29: -
A30: 45986 | B30: 0.99987 | C30: 10 | D30: 3.258543 | E30: 10 | F30: 10 | G30: 10 | H30: - | I30: - | J30: -
A31: 45987 | B31: 2.00082 | C31: 10 | D31: 3.653454 | E31: 10 | F31: 10 | G31: 10 | H31: - | I31: - | J31: -
A32: 45988 | B32: 1.69453 | C32: 10 | D32: 3.572572 | E32: 10 | F32: 10 | G32: 10 | H32: - | I32: - | J32: -
A33: 45989 | B33: 0.09926 | C33: 10 | D33: 3.737104 | E33: 10 | F33: 10 | G33: 10 | H33: 10 | I33: 10 | J33: 10
A34: 45990 | B34: 1.376 | C34: 10 | D34: 3.454955 | E34: 10 | F34: 10 | G34: 10 | H34: - | I34: - | J34: -
A35: 45991 | B35: 1.69415 | C35: 3.85347 | D35: 2.833854 | E35: - | F35: - | G35: - | H35: - | I35: - | J35: -
B36: 0.01004 | C36: 10 | D36: 3.0362147 | E36: 5.5 | F36: 10 | G36: 9.8951881 | H36: 10 | I36: 10 | J36: 10
A37: Source: Data on price of PX transactions from IEX, PXIL and HPX
A38: * Weighted average price computed based on Area Clearing Volume (ACV) and Area Clearing Price (ACP) for each hour of the day. Here, ACV and ACP represent the scheduled volume and weighted average price of all the bid areas of power exchanges.
A39: # Maximum/Minimum in the month

Sheet Table-40(d)
A1: Table-40(d) : PRICE OF HIGH PRICE DAY AHEAD TRANSACTIONS OF ELECTRICITY (DAY-WISE) (₹/kWh), NOVEMBER 2025
A2: Market Segment → | B2: High Price Day ahead market of IEX | E2: High Price Day ahead market of PXIL | H2: High Price Day ahead market of HPX
A3: Date | B3: Minimum ACP | C3: Maximum ACP | D3: Weighted Average Price* | E3: Minimum ACP | F3: Maximum ACP | G3: Weighted Average Price* | H3: Minimum ACP | I3: Maximum ACP | J3: Weighted Average Price*
A6: 45962 | B6: - | C6: - | D6: - | E6: - | F6: - | G6: - | H6: - | I6: - | J6: -
A7: 45963 | B7: - | C7: - | D7: - | E7: - | F7: - | G7: - | H7: - | I7: - | J7: -
A8: 45964 | B8: - | C8: - | D8: - | E8: - | F8: - | G8: - | H8: - | I8: - | J8: -
A9: 45965 | B9: - | C9: - | D9: - | E9: - | F9: - | G9: - | H9: - | I9: - | J9: -
A10: 45966 | B10: - | C10: - | D10: - | E10: - | F10: - | G10: - | H10: - | I10: - | J10: -
A11: 45967 | B11: - | C11: - | D11: - | E11: - | F11: - | G11: - | H11: - | I11: - | J11: -
A12: 45968 | B12: - | C12: - | D12: - | E12: - | F12: - | G12: - | H12: - | I12: - | J12: -
A13: 45969 | B13: - | C13: - | D13: - | E13: - | F13: - | G13: - | H13: - | I13: - | J13: -
A14: 45970 | B14: - | C14: - | D14: - | E14: - | F14: - | G14: - | H14: - | I14: - | J14: -
A15: 45971 | B15: - | C15: - | D15: - | E15: - | F15: - | G15: - | H15: - | I15: - | J15: -
A16: 45972 | B16: - | C16: - | D16: - | E16: - | F16: - | G16: - | H16: - | I16: - | J16: -
A17: 45973 | B17: - | C17: - | D17: - | E17: - | F17: - | G17: - | H17: - | I17: - | J17: -
... A35: 45991 | B35: - | C35: - | D35: - | E35: - | F35: - | G35: - | H35: - | I35: - | J35: -
B36: - | C36: - | D36: - | E36: - | F36: - | G36: - | H36: - | I36: - | J36: -
A37: Source: IEX, PXIL and HPX
A38: * Weighted average price computed based on Area Clearing Volume (ACV) and Area Clearing Price (ACP) for each hour of the day. Here, ACV and ACP represent the scheduled volume and weighted average price of all the bid areas of power exchanges.
A39: # Maximum/Minimum in the month

Sheet Table-41
A1: Table-41: VOLUME OF SHORT-TERM TRANSACTIONS OF ELECTRICITY (REGIONAL ENTITY*-WISE) (MU), NOVEMBER 2025
A2: Name of the Entity | B2: Through Bilateral | E2: Through Power Exchange (DAM + GDAM + HPDAM + RTM) | H2: Total Net***
B3: Sale | C3: Purchase | D3: Net** | E3: Sale | F3: Purchase | G3: Net**
A4: Punjab | B4: 494.20809 | C4: 0 | D4: -494.20809 | E4: 11.991317 | F4: 885.94088 | G4: 873.94956 | H4: 379.74146
A5: Telangana | B5: 4.87804 | C5: 37.826885 | D5: 32.948845 | E5: 146.54474 | F5: 850.04699 | G5: 703.50226 | H5: 736.4511
A6: Rajasthan | B6: 42.46644 | C6: 397.70923 | D6: 355.24279 | E6: 114.59882 | F6: 645.76705 | G6: 531.16823 | H6: 886.41102
A7: West Bengal | B7: 55.793 | C7: 25.76762 | D7: -30.02538 | E7: 89.864655 | F7: 628.67706 | G7: 538.81241 | H7: 508.78702
A8: Kerala | B8: 0 | C8: 243.70229 | D8: 243.70229 | E8: 10.144775 | F8: 137.16616 | G8: 127.02138 | H8: 370.72367
A9: Uttar Pradesh | B9: 916.57116 | C9: 35.693385 | D9: -880.87778 | E9: 583.43067 | F9: 587.90739 | G9: 4.476715 | H9: -876.40106
A10: Maharashtra | B10: 46.176105 | C10: 702.03383 | D10: 655.85773 | E10: 73.504053 | F10: 612.79709 | G10: 539.29303 | H10: 1195.1508
A11: Karnataka | B11: 46.55809 | C11: 140.79405 | D11: 94.235965 | E11: 307.75594 | F11: 981.54003 | G11: 673.7841 | H11: 768.02006
A12: Gujarat | B12: 13.14518 | C12: 1031.4727 | D12: 1018.3276 | E12: 10.411595 | F12: 1847.9682 | G12: 1837.5567 | H12: 2855.8842
A13: Assam | B13: 0.0958 | C13: 1.989 | D13: 1.8932 | E13: 181.28392 | F13: 16.888268 | G13: -164.39566 | H13: -162.50245
A14: Tamil Nadu | B14: 11.172245 | C14: 611.61802 | D14: 600.44578 | E14: 244.14433 | F14: 630.92192 | G14: 386.7776 | H14: 987.22338
A15: Andhra Pradesh | B15: 2.7699575 | C15: 373.76931 | D15: 370.99935 | E15: 62.821465 | F15: 458.45104 | G15: 395.62957 | H15: 766.62893
... A590: Kopili Power Station NEEPCO | B590: 0 | C590: 0 | D590: 0 | E590: 0.002575 | F590: 0 | G590: -0.002575 | H590: -0.002575
A591: Source: NLDC
A592: * in case of a state, the entities which are "selling" also include generators connected to state grid and the entities which are "buying" also include open access consumers.
A593: ** (-) indicates sale and (+) indicates purchase,
A594: *** Total net includes net of transactions through bilateral and power exchanges

Sheet Table 32 (INTERIM)
A1: Table-32: VOLUME OF SHORT-TERM TRANSACTIONS OF ELECTRICITY (REGIONAL ENTITY*-WISE) (MUs), JULY 2024 | L1: NLDC
A2: Name of the Entity | B2: Through DAM | D2: Through GDAM | F2: Through HP-DAM | H2: Through RTM | J2: Total Net*** | M2: Through Power Exchange (DAM) | P2: Through Power Exchange (GDAM) | S2: Through Power Exchange (HPDAM) | V2: Through Power Exchange (RTM)
B3: Sale | C3: Purchase | D3: Sale | E3: Purchase | F3: Sale | G3: Purchase | H3: Sale | I3: Purchase | M3: Sale | N3: Purchase | O3: Net** | P3: Sale | Q3: Purchase | R3: Net** | S3: Sale | T3: Purchase | U3: Net** | V3: Sale | W3: Purchase | X3: Net** | Y3: NET (Sum) | Z3: Check
A4: PUNJAB | B4: =M4 -> 0 | C4: =N4 -> 380.15284 | D4: =P4 -> 0 | E4: =Q4 -> 448.10215 | F4: =S4 -> 0 | G4: =T4 -> 0 | H4: =V4 -> 30.369255 | I4: =W4 -> 604.96667 | J4: 1402.8524 | M4: 0 | N4: 380.15284 | O4: 380.15284 | P4: 0 | Q4: 448.10215 | R4: 448.10215 | S4: 0 | T4: 0 | U4: 0 | V4: 30.369255 | W4: 604.96667 | X4: 574.59742 | Y4: =O4+R4+X4+U4 -> 1402.8524 | Z4: =Y4-J4 -> 0
A5: HARYANA | B5: =M5 -> 88.932248 | C5: =N5 -> 114.00639 | D5: =P5 -> 0 | E5: =Q5 -> 12.061543 | F5: =S5 -> 0 | G5: =T5 -> 0 | H5: =V5 -> 154.81667 | I5: =W5 -> 91.540032 | J5: -26.140948 | M5: 88.932248 | N5: 114.00639 | O5: 25.074143 | P5: 0 | Q5: 12.061543 | R5: 12.061543 | S5: 0 | T5: 0 | U5: 0 | V5: 154.81667 | W5: 91.540032 | X5: -63.276633 | Y5: =O5+R5+X5+U5 -> -26.140948 | Z5: =Y5-J5 -> 0
A6: RAJASTHAN | B6: =M6 -> 57.947177 | C6: =N6 -> 290.91754 | D6: =P6 -> 7.450175 | E6: =Q6 -> 0 | F6: =S6 -> 0 | G6: =T6 -> 0 | H6: =V6 -> 38.911728 | I6: =W6 -> 489.19261 | J6: 675.80108 | M6: 57.947177 | N6: 290.91754 | O6: 232.97036 | P6: 7.450175 | Q6: 0 | R6: -7.450175 | S6: 0 | T6: 0 | U6: 0 | V6: 38.911728 | W6: 489.19261 | X6: 450.28089 | Y6: =O6+R6+X6+U6 -> 675.80108 | Z6: =Y6-J6 -> 0
A7: DELHI | B7: =M7 -> 199.4764 | C7: =N7 -> 18.303933 | D7: =P7 -> 2.414575 | E7: =Q7 -> 6.4549875 | F7: =S7 -> 0 | G7: =T7 -> 0 | H7: =V7 -> 167.62792 | I7: =W7 -> 79.210235 | J7: -265.54974 | M7: 199.4764 | N7: 18.303933 | O7: -181.17247 | P7: 2.414575 | Q7: 6.4549875 | R7: 4.0404125 | S7: 0 | T7: 0 | U7: 0 | V7: 167.62792 | W7: 79.210235 | X7: -88.417683 | Y7: =O7+R7+X7+U7 -> -265.54974 | Z7: =Y7-J7 -> 0
A8: UTTAR PRADESH | B8: =M8 -> 238.06018 | C8: =N8 -> 261.5162 | D8: =P8 -> 17.9492 | E8: =Q8 -> 11.893123 | F8: =S8 -> 0 | G8: =T8 -> 0 | H8: =V8 -> 117.24884 | I8: =W8 -> 235.16122 | J8: 135.31232 | M8: 238.06018 | N8: 261.5162 | O8: 23.456025 | P8: 17.9492 | Q8: 11.893123 | R8: -6.0560775 | S8: 0 | T8: 0 | U8: 0 | V8: 117.24884 | W8: 235.16122 | X8: 117.91237 | Y8: =O8+R8+X8+U8 -> 135.31232 | Z8: =Y8-J8 -> 0
A9: UTTARAKHAND | B9: =M9 -> 3.30175 | C9: =N9 -> 85.097685 | D9: =P9 -> 17.642985 | E9: =Q9 -> 0 | F9: =S9 -> 0 | G9: =T9 -> 0 | H9: =V9 -> 27.949418 | I9: =W9 -> 61.253315 | J9: 97.456848 | M9: 3.30175 | N9: 85.097685 | O9: 81.795935 | P9: 17.642985 | Q9: 0 | R9: -17.642985 | S9: 0 | T9: 0 | U9: 0 | V9: 27.949418 | W9: 61.253315 | X9: 33.303897 | Y9: =O9+R9+X9+U9 -> 97.456848 | Z9: =Y9-J9 -> 0
A10: HIMACHAL PRADESH | B10: =M10 -> 145.16264 | C10: =N10 -> 38.102153 | D10: =P10 -> 52.77888 | E10: =Q10 -> 0 | F10: =S10 -> 0 | G10: =T10 -> 0 | H10: =V10 -> 83.299832 | I10: =W10 -> 92.309843 | J10: -150.82936 | M10: 145.16264 | N10: 38.102153 | O10: -107.06049 | P10: 52.77888 | Q10: 0 | R10: -52.77888 | S10: 0 | T10: 0 | U10: 0 | V10: 83.299832 | W10: 92.309843 | X10: 9.01001 | Y10: =O10+R10+X10+U10 -> -150.82936 | Z10: =Y10-J10 -> 0
A11: J & K | B11: =M11 -> 3.8416075 | C11: =N11 -> 0 | D11: =P11 -> 15.146818 | E11: =Q11 -> 0 | F11: =S11 -> 0 | G11: =T11 -> 0 | H11: =V11 -> 32.91902 | I11: =W11 -> 0.565025 | J11: -51.34242 | M11: 3.8416075 | N11: 0 | O11: -3.8416075 | P11: 15.146818 | Q11: 0 | R11: -15.146818 | S11: 0 | T11: 0 | U11: 0 | V11: 32.91902 | W11: 0.565025 | X11: -32.353995 | Y11: =O11+R11+X11+U11 -> -51.34242 | Z11: =Y11-J11 -> 0
A12: CHANDIGARH | B12: =M12 -> 14.27022 | C12: =N12 -> 7.098585 | D12: =P12 -> 0 | E12: =Q12 -> 0 | F12: =S12 -> 0 | G12: =T12 -> 0 | H12: =V12 -> 1.9162175 | I12: =W12 -> 1.63944 | J12: -7.4484125 | M12: 14.27022 | N12: 7.098585 | O12: -7.171635 | P12: 0 | Q12: 0 | R12: 0 | S12: 0 | T12: 0 | U12: 0 | V12: 1.9162175 | W12: 1.63944 | X12: -0.2767775 | Y12: =O12+R12+X12+U12 -> -7.4484125 | Z12: =Y12-J12 -> 0
A13: MP | B13: =M13 -> 61.00127 | C13: =N13 -> 46.754462 | D13: =P13 -> 23.814315 | E13: =Q13 -> 5.35119 | F13: =S13 -> 0 | G13: =T13 -> 0 | H13: =V13 -> 102.73804 | I13: =W13 -> 62.266462 | J13: -73.18151 | M13: 61.00127 | N13: 46.754462 | O13: -14.246808 | P13: 23.814315 | Q13: 5.35119 | R13: -18.463125 | S13: 0 | T13: 0 | U13: 0 | V13: 102.73804 | W13: 62.266462 | X13: -40.471577 | Y13: =O13+R13+X13+U13 -> -73.18151 | Z13: =Y13-J13 -> 0
A14: MAHARASHTRA | B14: =M14 -> 44.884295 | C14: =N14 -> 77.461617 | D14: =P14 -> 51.641977 | E14: =Q14 -> 62.158162 | F14: =S14 -> 0 | G14: =T14 -> 0 | H14: =V14 -> 56.45345 | I14: =W14 -> 129.3057 | J14: 115.94576 | M14: 44.884295 | N14: 77.461617 | O14: 32.577323 | P14: 51.641977 | Q14: 62.158162 | R14: 10.516185 | S14: 0 | T14: 0 | U14: 0 | V14: 56.45345 | W14: 129.3057 | X14: 72.852252 | Y14: =O14+R14+X14+U14 -> 115.94576 | Z14: =Y14-J14 -> 0
A15: GUJARAT | B15: =M15 -> 86.5898 | C15: =N15 -> 522.56096 | D15: =P15 -> 0 | E15: =Q15 -> 19.412408 | F15: =S15 -> 0.2 | G15: =T15 -> 0 | H15: =V15 -> 42.950052 | I15: =W15 -> 95.91875 | J15: 508.15227 | M15: 86.5898 | N15: 522.56096 | O15: 435.97117 | P15: 0 | Q15: 19.412408 | R15: 19.412408 | S15: 0.2 | T15: 0 | U15: -0.2 | V15: 42.950052 | W15: 95.91875 | X15: 52.968698 | Y15: =O15+R15+X15+U15 -> 508.15227 | Z15: =Y15-J15 -> 0
... A136: ONGC PALATANA | B136: =M136 -> 3.5554525 | C136: =N136 -> 0 | D136: =P136 -> 0 | E136: =Q136 -> 0 | F136: =S136 -> 0 | G136: =T136 -> 0 | H136: =V136 -> 4.63736 | I136: =W136 -> 0 | J136: -8.1928125 | M136: 3.5554525 | N136: 0 | O136: -3.5554525 | P136: 0 | Q136: 0 | R136: 0 | S136: 0 | T136: 0 | U136: 0 | V136: 4.63736 | W136: 0 | X136: -4.63736 | Y136: =O136+R136+X136+U136 -> -8.1928125 | Z136: =Y136-J136 -> 0
A137: Source: NLDC
A138: * in case of a state, the entities which are "selling" also include generators connected to state grid and the entities which are "buying" also include open access consumers.
A139: ** (-) indicates sale and (+) indicates purchase,
A140: *** Total net includes net of transactions through various segments on power exchange

Sheet Table-42
A1: Table-42: VOLUME AND CHARGES UNDER DSM (DAY-WISE), NOVEMBER 2025
A2: Date | B2: Volume (MU) | C2: All India Grid Charges (₹/kWh)
C3: Minimum | D3: Maximum | E3: Average
A4: 45962 | B4: 91.399106 | C4: 1.7423 | D4: 12.117 | E4: 4.0776971
A5: 45963 | B5: 95.162747 | C5: 1.1316 | D5: 10 | E5: 3.2589057
A6: 45964 | B6: 104.95583 | C6: 1.2066 | D6: 10.6269 | E6: 3.8120433
A7: 45965 | B7: 95.499025 | C7: 1.2193 | D7: 10 | E7: 3.5314258
A8: 45966 | B8: 92.023532 | C8: 1.3823 | D8: 11.593 | E8: 3.5251358
A9: 45967 | B9: 88.939629 | C9: 1.5362 | D9: 10 | E9: 3.6627842
A10: 45968 | B10: 85.282929 | C10: 1.5171 | D10: 10 | E10: 3.6223022
A11: 45969 | B11: 83.825165 | C11: 1.4753 | D11: 10 | E11: 3.4078897
A12: 45970 | B12: 88.794391 | C12: 1.2286 | D12: 10 | E12: 2.8555124
A13: 45971 | B13: 83.258675 | C13: 1.6303 | D13: 10.5142 | E13: 3.8356382
A14: 45972 | B14: 82.897055 | C14: 1.753 | D14: 10.7207 | E14: 3.8952272
A15: 45973 | B15: 82.450888 | C15: 1.6178 | D15: 10.8342 | E15: 3.7908394
... A33: 45991 | B33: 85.502632 | C33: 2.1386 | D33: 7.4283 | E33: 3.1872336
A34: Total | B34: 2624.1277 | C34: 1.1316 | D34: 13.0776 | E34: 3.7182389
A35: Source: NLDC
A36: # Maximum/Minimum in the month
A37: Note: CERC DSM Regulations 2022 came into effect from 05.12.2022, wherein normal rate of charges for deviation for a time block is equal to the highest of the [weighted average Area Clearing Price (ACP) of the Day Ahead Market segments of all the Power Exchanges; or the weighted average ACP of the Real Time Market segments of all the Power Exchanges; or the Weighted Average Ancillary Service Charge of all the regions]. Thereafter a ceiling of Rs. 12/kWh was imposed by CERC from 28.12.2022. Further after HP-DAM introduced, the ceiling for such plants was 20/kWh

Sheet Table 29
A1: Table-32: VOLUME OF SHORT-TERM TRANSACTIONS OF ELECTRICITY (REGIONAL ENTITY*-WISE) (MUs), APRIL 2023 | M1: NLDC
A2: Name of the Entity | B2: Through Bilateral | E2: Through Power Exchange (DAM + GDAM + HPDAM + RTM) | H2: Through DSM with Regional Grid | K2: Total Net*** | N2: Through Power Exchange (DAM) | Q2: Through Power Exchange (GDAM) | T2: Through Power Exchange (HPDAM) | W2: Through Power Exchange (RTM)
B3: Sale | C3: Purchase | D3: Net** | E3: Sale | F3: Purchase | G3: Net** | H3: Import (Over Drawl) | I3: Export (Under Drawl) | J3: Net** | N3: Sale | O3: Purchase | P3: Net** | Q3: Sale | R3: Purchase | S3: Net** | T3: Sale | U3: Purchase | V3: Net** | W3: Sale | X3: Purchase | Y3: Net** | Z3: NET (Sum) | AA3: Check | AC3: NET (Sum) | AD3: Check
A4: PUNJAB | B4: 1530.2463 | C4: 70.888697 | D4: -1459.3576 | E4: =N4+Q4+W4+T4 -> 3.8604725 | F4: =O4+R4+X4+U4 -> 611.49463 | G4: =F4-E4 -> 607.63415 | H4: 28.521963 | I4: 62.914665 | J4: -34.392702 | K4: -886.11617 | N4: 0.0432 | O4: 420.43336 | P4: 420.39016 | Q4: 0.8156 | R4: 1.415525 | S4: 0.599925 | T4: 0 | U4: 0 | V4: 0 | W4: 3.0016725 | X4: 189.64574 | Y4: 186.64407 | Z4: =P4+S4+Y4+V4 -> 607.63415 | AA4: =Z4-G4 -> 0 | AC4: =D4+G4+J4 -> -886.11617 | AD4: =K4-AC4 -> 0
A5: HARYANA | B5: 8.256 | C5: 221.8571 | D5: 213.6011 | E5: =N5+Q5+W5+T5 -> 253.46409 | F5: =O5+R5+X5+U5 -> 46.600417 | G5: =F5-E5 -> -206.86367 | H5: 34.894685 | I5: 71.18914 | J5: -36.294455 | K5: -29.55703 | N5: 226.79951 | O5: 22.51195 | P5: -204.28756 | Q5: 0.3976 | R5: 0.04917 | S5: -0.34843 | T5: 0 | U5: 0 | V5: 0 | W5: 26.26698 | X5: 24.039297 | Y5: -2.2276825 | Z5: =P5+S5+Y5+V5 -> -206.86367 | AA5: =Z5-G5 -> 0 | AC5: =D5+G5+J5 -> -29.55703 | AD5: =K5-AC5 -> 0
A6: RAJASTHAN | B6: 177.35409 | C6: 106.14757 | D6: -71.206527 | E6: =N6+Q6+W6+T6 -> 193.25219 | F6: =O6+R6+X6+U6 -> 265.9765 | G6: =F6-E6 -> 72.724312 | H6: 32.059325 | I6: 151.22881 | J6: -119.16948 | K6: -117.6517 | N6: 50.653888 | O6: 136.2157 | P6: 85.561808 | Q6: 1.9036375 | R6: 0.13735 | S6: -1.7662875 | T6: 0 | U6: 0 | V6: 0 | W6: 140.69467 | X6: 129.62346 | Y6: -11.071208 | Z6: =P6+S6+Y6+V6 -> 72.724312 | AA6: =Z6-G6 -> 0 | AC6: =D6+G6+J6 -> -117.6517 | AD6: =K6-AC6 -> 0
A7: DELHI | B7: 39.566657 | C7: 362.97068 | D7: 323.40402 | E7: =N7+Q7+W7+T7 -> 337.89806 | F7: =O7+R7+X7+U7 -> 39.455072 | G7: =F7-E7 -> -298.44299 | H7: 3.83153 | I7: 58.84741 | J7: -55.01588 | K7: -30.054847 | N7: 216.08869 | O7: 3.652185 | P7: -212.43651 | Q7: 0 | R7: 13.15742 | S7: 13.15742 | T7: 0 | U7: 0 | V7: 0 | W7: 121.80936 | X7: 22.645467 | Y7: -99.163897 | Z7: =P7+S7+Y7+V7 -> -298.44298 | AA7: =Z7-G7 -> 0 | AC7: =D7+G7+J7 -> -30.054848 | AD7: =K7-AC7 -> 8.5265128e-14
A8: UTTAR PRADESH | B8: 139.33186 | C8: 496.72854 | D8: 357.39668 | E8: =N8+Q8+W8+T8 -> 1051.6829 | F8: =O8+R8+X8+U8 -> 295.79471 | G8: =F8-E8 -> -755.88816 | H8: 48.277267 | I8: 108.29279 | J8: -60.015525 | K8: -458.507 | N8: 951.74875 | O8: 167.26899 | P8: -784.47977 | Q8: 3.713775 | R8: 2.503215 | S8: -1.21056 | T8: 0 | U8: 0 | V8: 0 | W8: 96.22034 | X8: 126.02251 | Y8: 29.802167 | Z8: =P8+S8+Y8+V8 -> -755.88816 | AA8: =Z8-G8 -> 0 | AC8: =D8+G8+J8 -> -458.507 | AD8: =K8-AC8 -> 0
A9: UTTARAKHAND | B9: 10.176218 | C9: 85.029307 | D9: 74.85309 | E9: =N9+Q9+W9+T9 -> 24.891415 | F9: =O9+R9+X9+U9 -> 186.95982 | G9: =F9-E9 -> 162.0684 | H9: 23.53817 | I9: 17.380885 | J9: 6.157285 | K9: 243.07878 | N9: 13.610225 | O9: 166.07238 | P9: 152.46215 | Q9: 0 | R9: 0 | S9: 0 | T9: 0 | U9: 0 | V9: 0 | W9: 11.28119 | X9: 20.887442 | Y9: 9.6062525 | Z9: =P9+S9+Y9+V9 -> 162.06841 | AA9: =Z9-G9 -> 0 | AC9: =D9+G9+J9 -> 243.07878 | AD9: =K9-AC9 -> 0
A10: HIMACHAL PRADESH | B10: 81.359848 | C10: 141.32471 | D10: 59.964858 | E10: =N10+Q10+W10+T10 -> 143.55292 | F10: =O10+R10+X10+U10 -> 36.877738 | G10: =F10-E10 -> -106.67518 | H10: 16.10449 | I10: 14.883228 | J10: 1.2212625 | K10: -45.489058 | N10: 72.88544 | O10: 30.847777 | P10: -42.037663 | Q10: 4.6584 | R10: 0 | S10: -4.6584 | T10: 0 | U10: 0 | V10: 0 | W10: 66.009075 | X10: 6.02996 | Y10: -59.979115 | Z10: =P10+S10+Y10+V10 -> -106.67518 | AA10: =Z10-G10 -> 0 | AC10: =D10+G10+J10 -> -45.489058 | AD10: =K10-AC10 -> 0
A11: J & K | B11: 100.91 | C11: 4.728735 | D11: -96.181265 | E11: =N11+Q11+W11+T11 -> 42.66579 | F11: =O11+R11+X11+U11 -> 534.46564 | G11: =F11-E11 -> 491.79985 | H11: 33.534023 | I11: 37.27451 | J11: -3.7404875 | K11: 391.8781 | N11: 9.0691075 | O11: 406.13505 | P11: 397.06594 | Q11: 6.9137325 | R11: 0 | S11: -6.9137325 | T11: 0 | U11: 0 | V11: 0 | W11: 26.68295 | X11: 128.3306 | Y11: 101.64764 | Z11: =P11+S11+Y11+V11 -> 491.79985 | AA11: =Z11-G11 -> 0 | AC11: =D11+G11+J11 -> 391.8781 | AD11: =K11-AC11 -> 0
A12: CHANDIGARH | B12: 0 | C12: 0 | D12: 0 | E12: =N12+Q12+W12+T12 -> 35.554942 | F12: =O12+R12+X12+U12 -> 0 | G12: =F12-E12 -> -35.554942 | H12: 3.9047525 | I12: 6.8453975 | J12: -2.940645 | K12: -38.495587 | N12: 35.149942 | O12: 0 | P12: -35.149942 | Q12: 0 | R12: 0 | S12: 0 | T12: 0 | U12: 0 | V12: 0 | W12: 0.405 | X12: 0 | Y12: -0.405 | Z12: =P12+S12+Y12+V12 -> -35.554942 | AA12: =Z12-G12 -> 0 | AC12: =D12+G12+J12 -> -38.495587 | AD12: =K12-AC12 -> 0
A13: MP | B13: 142.62231 | C13: 154.52673 | D13: 11.904418 | E13: =N13+Q13+W13+T13 -> 425.36377 | F13: =O13+R13+X13+U13 -> 37.503025 | G13: =F13-E13 -> -387.86075 | H13: 18.925541 | I13: 115.5894 | J13: -96.663856 | K13: -472.62019 | N13: 48.918547 | O13: 23.047582 | P13: -25.870965 | Q13: 6.48845 | R13: 4.3967575 | S13: -2.0916925 | T13: 0 | U13: 0 | V13: 0 | W13: 369.95677 | X13: 10.058685 | Y13: -359.89809 | Z13: =P13+S13+Y13+V13 -> -387.86075 | AA13: =Z13-G13 -> 0 | AC13: =D13+G13+J13 -> -472.62019 | AD13: =K13-AC13 -> 0
A14: MAHARASHTRA | B14: 210.47737 | C14: 1466.2085 | D14: 1255.7311 | E14: =N14+Q14+W14+T14 -> 131.90535 | F14: =O14+R14+X14+U14 -> 536.67334 | G14: =F14-E14 -> 404.76799 | H14: 102.523 | I14: 56.598979 | J14: 45.924021 | K14: 1706.4232 | N14: 80.32166 | O14: 225.31905 | P14: 144.99739 | Q14: 0.636 | R14: 39.699465 | S14: 39.063465 | T14: 0 | U14: 0 | V14: 0 | W14: 50.947688 | X14: 271.65483 | Y14: 220.70714 | Z14: =P14+S14+Y14+V14 -> 404.76799 | AA14: =Z14-G14 -> 0 | AC14: =D14+G14+J14 -> 1706.4232 | AD14: =K14-AC14 -> 0
A15: GUJARAT | B15: 249.65655 | C15: 585.18322 | D15: 335.52667 | E15: =N15+Q15+W15+T15 -> 80.187648 | F15: =O15+R15+X15+U15 -> 1113.244 | G15: =F15-E15 -> 1033.0563 | H15: 65.892704 | I15: 101.01869 | J15: -35.125989 | K15: 1333.457 | N15: 62.96214 | O15: 956.76789 | P15: 893.80575 | Q15: 0 | R15: 9.30242 | S15: 9.30242 | T15: 0.0506 | U15: 0 | V15: -0.0506 | W15: 17.174907 | X15: 147.17365 | Y15: 129.99874 | Z15: =P15+S15+Y15+V15 -> 1033.0563 | AA15: =Z15-G15 -> 0 | AC15: =D15+G15+J15 -> 1333.457 | AD15: =K15-AC15 -> 0
... A232: PARE HEP | B232: 0 | C232: 0 | D232: 0 | E232: =N232+Q232+W232+T232 -> 0 | F232: =O232+R232+X232+U232 -> 0 | G232: =F232-E232 -> 0 | H232: 0.3463423 | I232: 0.596847 | J232: -0.2505047 | K232: -0.2505047 | N232: 0 | O232: 0 | P232: 0 | Q232: 0 | R232: 0 | S232: 0 | T232: 0 | U232: 0 | V232: 0 | W232: 0 | X232: 0 | Y232: 0 | Z232: =P232+S232+Y232+V232 -> 0 | AA232: =Z232-G232 -> 0 | AC232: =D232+G232+J232 -> -0.2505047 | AD232: =K232-AC232 -> 0
A233: Source: NLDC
A234: * in case of a state, the entities which are "selling" also include generators connected to state grid and the entities which are "buying" also include open access consumers.
A235: ** (-) indicates sale and (+) indicates purchase,
A236: *** Total net includes net of transactions through bilateral, power exchange and DSM

Sheet Table-43
A1: Table-43: VOLUME OF ELECTRICITY UNDER DRAWAL/ OVER INJECTION (EXPORTED) UNDER DSM, NOVEMBER 2025
A2: Name of the Entity | B2: Volume of Under drawal/ Over injection (MU) | C2: % of Volume
A3: Madhya Pradesh | B3: 145.74954 | C3: 5.8897746
A4: Gujarat | B4: 123.56551 | C4: 4.9933124
A5: Uttar Pradesh | B5: 120.69378 | C5: 4.8772652
A6: Punjab | B6: 95.509176 | C6: 3.8595491
A7: Tamil Nadu | B7: 91.072748 | C7: 3.680272
A8: Maharashta | B8: 90.51884 | C8: 3.6578884
A9: Rajasthan | B9: 82.262203 | C9: 3.3242357
A10: Haryana | B10: 74.666098 | C10: 3.0172752
A11: Andhra Pradesh | B11: 54.949362 | C11: 2.2205171
A12: Telangana | B12: 54.091311 | C12: 2.1858431
A13: AREH5L_KHAVDAPS1_QCA | B13: 46.72854 | C13: 1.8883117
A14: Chattisgarh | B14: 43.866775 | C14: 1.7726671
... A310: Volume Exported by top 5 Regional Entities | B310: 576.59076 | C310: 23.300173

Sheet Table-44
A1: Table-44: VOLUME OF ELECTRICITY OVER DRAWAL/ UNDER INJECTION (IMPORTED) UNDER DSM, NOVEMBER 2025
A2: Name of the Entity | B2: Volume of Over drawal/ Under Injection (MU) | C2: % of Volume
A3: Maharashta | B3: 101.23062 | C3: 3.6497454
A4: AREH5L_KHAVDAPS1_QCA | B4: 99.738464 | C4: 3.5959474
A5: Rajasthan | B5: 86.540976 | C5: 3.1201282
A6: Gujarat | B6: 84.558701 | C6: 3.0486597
A7: Karnataka | B7: 76.98354 | C7: 2.7755466
A8: West Bengal | B8: 76.807865 | C8: 2.7692129
A9: MANIKARAN_BHUJ1_QCA | B9: 72.028552 | C9: 2.5969007
A10: Odisha | B10: 68.236674 | C10: 2.4601892
A11: Uttar Pradesh | B11: 60.144145 | C11: 2.168423
A12: MAL_TUTICORIN_QCA6 | B12: 59.604651 | C12: 2.1489722
A13: Tamil Nadu | B13: 58.727187 | C13: 2.1173363
A14: Adani Remewable Energy Holding 5 Ltd | B14: 58.55751 | C14: 2.1112188
... A310: Volume Imported by top 5 Regional Entities | B310: 449.05231 | C310: 16.190027

Sheet Table-45
A1: Table-45 : VOLUME AND PRICE OF RENEWABLE ENERGY CERTIFICATES (RECs) TRANSACTED THROUGH POWER EXCHANGES AND THROUGH TRADERS (BILATERAL), NOVEMBER 2025
B2: Details of REC Transactions | C2: Through Power Exchange | F2: Through Traders
C3: IEX | D3: PXIL | E3: HPX | F3: Solar
A4: A | B4: Volume of Buy Bid | C4: 599487 | D4: 735857 | E4: 470000 | F4: -
A5: B | B5: Volume of Sell Bid | C5: 2722693 | D5: 2321329 | E5: 807990 | F5: -
A6: C | B6: Ratio of Buy Bid to Sell Bid Volume | C6: 0.22018164 | D6: 0.31699815 | E6: 0.58169037 | F6: -
A7: D | B7: Traded Volume (MWh) | C7: 474487 | D7: 610141 | E7: 240000 | F7: 188007
A8: E | B8: Weighted average Price (₹/MWh) | C8: 367.4077 | D8: 368.6307 | E8: 370 | F8: 371.62
A9: Source: Power Exchanges & Grid-India REC Report
A10: Note 1: 1 REC = 1 MWh

Sheet Table-46(a,b)
A1: Table-46(a) : VOLUME AND PRICE OF CROSS BORDER TRADE THROUGH DAY AHEAD MARKET AT IEX, NOVEMBER 2025
A2: Sr. No. | B2: Neighboring Country | C2: Volume (MU) | F2: Weighted Average Price (₹/kWh)
C3: Sale | D3: Purchase | E3: Net | F3: Sale | G3: Purchase
A4: 1 | B4: Nepal | C4: 315.57 | D4: 0 | E4: -315.57 | F4: 3.0418373 | G4: -
A5: 2 | B5: Bhutan | C5: 0 | D5: 10.49 | E5: 10.49 | F5: - | G5: 2.25
B6: Total | C6: 315.57 | D6: 10.49 | E6: -305.08 | F6: - | G6: -
A7: Source: IEX
A8: * Net indicates difference of volume purchased and sold by the respective neighbouring country
A9: Note: No Cross Border transactions were recorded in DAM at PXIL and HPX
A12: Table-46(b) : VOLUME AND PRICE OF CROSS BORDER TRADE THROUGH REAL TIME MARKET AT IEX, NOVEMBER 2025
A13: Sr. No. | B13: Neighboring Country | C13: Volume (MU) | F13: Weighted Average Price (₹/kWh)
C14: Sale | D14: Purchase | E14: Net | F14: Sale | G14: Purchase
A15: 1 | B15: Nepal | C15: 152.71 | D15: 2.11 | E15: -150.6 | F15: 3.080296 | G15: 3.3467299
A16: 2 | B16: Bhutan | C16: 0 | D16: 2.17 | E16: 2.17 | F16: - | G16: 2.99
B17: Total | C17: 152.71 | D17: 4.28 | E17: -148.43 | F17: - | G17: -
A18: Source: IEX
A19: * Net indicates difference of volume purchased and sold by the respective neighbouring country
A20: Note: No Cross Border transactions were recorded in RTM at PXIL and HPX

Sheet List of Licensees
A1: Form IV Compliance Status of Trading Licensee - July 2015
A2: Sr.No. | B2: Name of Trading Licensee | C2: Date of Issue | D2: Present Category of License | E2: FORM-IV (A-I) (Hard-copy) | F2: FORM-IV (A-I) (Soft copy-Email) | G2: FORM-IV (A-I) (Webpost)
A3: 1 | B3: PTC India Ltd. | C3: 30.06.2004 | D3: I | H3: http://www.ptcindia.com/statutory-information.html | J3: 011 -46026724
A4: 2 | B4: NTPC Vidyut Vyapar Nigam Ltd. | C4: 23.07.2004 | D4: I | E4: YES | H4: http://www.nvvn.co.in/Form.php | J4: 011- 24369565, 09650990156(Mr Anurag Gupta)
A5: 3 | B5: Tata Power Trading Co. Ltd. | C5: 09.06.2004 | D5: I | E5: YES | H5: www.tatapowertrading.com | J5: 0-22-67172852
A6: 4 | B6: Reliance Energy Trading (P) Ltd. | C6: 30.06.2004 | D6: I | H6: http://www.relianceenergytrading.com/HTML/FormIV.html | J6: 011 3032 3444
A7: 5 | B7: National Energy Trading & Services Ltd. | C7: 23.07.2004 | D7: I | E7: YES | H7: http://www.lancogroup.com/DynTestform.aspx?pageid=35 | J7: 09717097981-Navneet
A8: 6 | B8: Adani Enterprises Ltd. | C8: 09.06.2004 | D8: I | E8: YES | H8: http://adani.com/download.aspx | J8: 0124-2555332
A9: 7 | B9: Instinct Infra & Power Ltd. | C9: 07.09.2005 | D9: III | E9: YES | H9: http://www.instincttrade.com | J9: 9910555026-salil
A10: 8 | B10: Essar Electric Power Development Corporation Ltd. | C10: 14.12.2005 | D10: II | E10: YES | H10: http://www.essar.com/article.aspx?cont_id=uZJCH0l2iwA= | J10: 022-50011100
A11: 9 | B11: JSW Power Trading Company Ltd. | C11: 25.04.2006 | D11: I | H11: http://www.jsw.in/companies/company_JSWEnergyStatuary_compliance.shtml | J11: 022-2351300
A12: 10 | B12: Jai Prakash Associate Ltd. | C12: 23.03.2011 | D12: I | H12: http://www.jalindia.com/statutory-reports.htm | I12: late submission and not posted on web | J12: 011-26141540 09654891985 Mr Dhingra
A13: 11 | B13: Ambitious Power Trading Company Ltd. | C13: 16.09.2008 | D13: IV | H13: http://www.jindalpower.com/about-us/chhattisgarh-energy-trading-ltd.aspx | I13: No submission and not posted on web | J13: 011-269739150/ 0124-6120000(Mr Manjeet)
A14: 12 | B14: RPG Power Trading Company Ltd | C14: 23.09.2008 | D14: II | E14: YES | H14: http://rpgpowertrading.co.in/about_us.htm | J14: 033-2109358 033-66252010
A15: 13 | B15: GMR Energy Trading Ltd | C15: 14.10.2008 | D15: I | E15: YES | H15: http://www.gmrenergytrading.in/form-iv.asp | J15: 080-40432000080-40432744
A16: 14 | B16: Knowledge Infrastructure Systems (P) Ltd | C16: 18.12.2008 | D16: I | H16: http://www.knowledgeispower.in/ | I16: No submission and not posted on web | J16: 011-46067070
A17: 15 | B17: Mittal Processors (P) Ltd | C17: 12.02.2009 | D17: II | E17: YES | H17: http://www.mittalsgroup.com/trading_contract_detail.htmll | I17: Will upload on New website | J17: 0120 2690374, 2605013
A18: 16 | B18: Shree Cement Ltd | C18: 16.3.2010 | D18: I | H18: http://www.shreepowertrading.com/ | J18: 011-23370320 011-23370828
A19: 17 | B19: Customised Energy Solutions India Pvt. Ltd. | C19: 08.06.2011 | D19: IV | E19: YES | H19: http://ces-ltd.in/search.html | J19: 0997 1174089
A20: 18 | B20: Manikaran Power Limited | C20: 29.6.2012 | D20: II | E20: YES | H20: http://www.manikaranpowerltd.in/sahortterm-solutions.php | J20: 9999889615
A21: 19 | B21: Arunachal Pradesh Power Corporation Private Limited, Itanagar. | C21: 11.9.2012 | D21: III | H21: http://www.appcpl.com/contactus.html | J21: 011-45111969/8902243310
A22: 20 | B22: Pune Power Development Pvt Ltd | C22: 21.08.2007 | D22: IV | H22: http://kalyanipower.com/ | J22: 020 -25560058
A23: 21 | B23: Indrajit Power Technology (P) Ltd | C23: 16.05.2008 | D23: III | E23: YES | H23: http://www.indrainfra.in/statutoryinformation.htm | J23: 07152-305000
A24: 22 | B24: Global Energy (P) Ltd. | C24: 28.11.2008 | D24: I | H24: http://www.globalenergy.co.in/ | J24: 011-47334444
A25: 23 | B25: Greenko Energies (P) Ltd | C25: 22.01.2008 | D25: IV | H25: http://www.greenkotrading.com/statutory_info.html | J25: 0771-4266902/ 040 40301000
A26: 24 | B26: Karam Chand Thapar & Bros Ltd. | C26: 27.01.2005 | D26: I | H26: http://www.kctcsl.com/updates/sep2011/sep2011.htm#4 | J26: 033 4005 7000
A27: 25 | B27: Suryachakar Power (P) Corporation Ltd. | C27: 22.02.2006 | D27: IV | H27: http://www.suryachakra.in/html/SuryachakraPowerCorporationLimited.html | J27: 040 2355 0597 / 98
A28: 26 | B28: Visa Power Ltd | C28: 28.06.2007 | D28: IV | H28: http://www.visapower.net/ | J28: 033-305191202/30119000
A29: 27 | B29: Vandana Vidyut | C29: 03.04.2008 | D29: IV | E29: YES | H29: http://vandanavidhyut.com/ | J29: 0771- 4006000
A30: 28 | B30: Audhunic Alloys & Power Ltd | C30: 26.06.2008 | D30: IV | H30: http://www.adhunikgroup.com/power_trading/powertrading.html | J30: 033-30915300/30517300
A31: 29 | B31: Indiabulls Power Trading Ltd | C31: 12.09.2008 | D31: IV | H31: http://www.indiabulls.com/power/powerTrade.aspx?comp=IPTL# | J31: 022 30491400
A32: 30 | B32: Shyam Indus Power Solutions (P) Ltd | C32: 11.11.2008 | D32: IV | H32: http://www.shyamindus.com/statinfo.asp | J32: 011-45764400, 45764444
A33: 31 | B33: PCM Power Trading Corporation Ltd | C33: 01.09.2010 | D33: III | H33: http://www.pcmpowertrading.co.in/aboutus.html | J33: 09932653577(Mr. Gautam) 0353-2777028
A34: 32 | B34: My Home Power Private Ltd. | C34: 26.04.2011 | D34: III | H34: http://www.myhomepower.in/corporate.html | J34: 040 6622 2700.
A35: 33 | B35: DLF Energy Private Limited | C35: 07.03.2012 | D35: III | E35: YES | H35: http://www.dlf.in/ | J35: 0124-4568900/9818456201 (Ms Sneh)
A36: 34 | B36: SN Power Markets Pvt. Ltd. | C36: 21.5.2012 | D36: I | H36: http://www.snpower.com/ | J36: 0120 460 5100
A37: 35 | B37: Gemac Engineering Services (P) Ltd. | C37: 21.6.2012 | D37: IV | H37: http://gemac.asia/power-index.html | J37: 044 – 24343753
A38: 36 | B38: Green Fields Power Services Private Limited | C38: 08.02.2013 | D38: IV | J38: 044 24662991/93/94
A39: 37 | B39: HMM INFRA LIMITED, Chandigarh | C39: 11.3.2013 | D39: IV
A40: 38 | B40: Newfields Advertising Private Limited,New Delhi | C40: 30.4.2013 | D40: IV
A41: 39 | B41: Vedprakash Power Private Limited,New Delhi | C41: 19.08.2013 | D41: IV | E41: YES
A42: 40 | B42: Pan India Network Infravest Ltd | C42: 18.11.2013 | D42: I | E42: YES
A43: 41 | B43: Solar Energy Corporation of India | C43: 01.04.2014 | D43: III
A44: 42 | B44: Parshavnath Power Projects (P) Ltd | C44: 19.05.2014 | D44: IV | E44: YES
A45: 43 | B45: Rajasthan Renewable Energy Corporation Ltd. | C45: 03.06.2014 | D45: III
A46: 44 | B46: Jai International Pvt. Ltd. | C46: 18.07.2014 | D46: III
A47: 45 | B47: IL&FS Energy Development Company Limited | C47: 04.09.2014 | D47: I
A48: 46 | B48: Provestment Services Limited | C48: 27.01.2015 | D48: IV
A49: 47 | B49: IPCL Power Trading Private Limited | C49: 10.02.2015 | D49: III
A50: 1 | B50: IEX | E50: YES
A51: 2 | B51: PXIL | E51: YES
A52: 3 | B52: NLDC
A53: NO: Not Submitted/Posted On Web, Yes: Submitted/Posted on Web, NA: Not Applicable
A54: NO: Not Submitted/Posted On Web, Yes: Submitted/Posted on Web, NA: Not Applicable

Sheet Comparison sheet  (N)
A1: Comparison of Key Statistics in Monthly MMC Reports
A2: S.No. | B2: Particular | C2: 44652 | D2: 44986 | E2: ='Table 27'!$A$4 -> 45017 | F2: Change over the Month (Mar-23 to Apr-23) | G2: Change over the Year (Apr-22 to Apr-23)
A3: I | B3: Generation and Transaction
A4: 1 | B4: Total Generation (in MUs) | C4: 127136.86 | D4: 120082.42 | E4: ='Summary Table-1 (N)'!$C$21 -> 123650.15 | F4: =(E4-D4)/D4 -> 0.029710677 | G4: =(E4-C4)/C4 -> -0.027424855
A5: 2 | B5: Total Short Term Transactions (in MUs) | C5: =SUM(C6:C7) -> 13625.106 | D5: =SUM(D6:D7) -> 16970.345 | E5: ='Summary Table-1 (N)'!$C$20 -> #REF! | F5: =(E5-D5)/D5 -> #REF! | G5: =(E5-C5)/C5 -> #REF!
A6: 2.1 | B6: Bilateral (in MUs) | C6: 7592.3467 | D6: 9856.4946 | E6: ='Summary Table-1 (N)'!$C$3 -> #REF! | F6: =(E6-D6)/D6 -> #REF! | G6: =(E6-C6)/C6 -> #REF!
A7: 2.2 | B7: Through Power Exchanges (in MUs) | C7: 6032.7592 | D7: 7113.8506 | E7: ='Summary Table-1 (N)'!$C$6 -> 10670.87 | F7: =(E7-D7)/D7 -> 0.50001316 | G7: =(E7-C7)/C7 -> 0.76882074
A8: 3 | B8: Short Term Transactions as percentage of Total Generation | C8: =C5/C4 -> 0.10716881 | D8: =D5/D4 -> 0.14132248 | E8: ='Summary Table-1 (N)'!$E$20/100 -> #REF! | F8: =E8-D8 -> #REF! | G8: =E8-C8 -> #REF!
A9: 4 | B9: Share of Top 5 Trading Licensees | C9: 0.77505626 | D9: 0.80705169 | E9: ='Table-2'!$C$41 -> 0.80300829 | F9: =E9-D9 -> -0.0040433927 | G9: =E9-C9 -> 0.027952035
A10: 5 | B10: HHI Index for Traders | C10: 0.14626219 | D10: 0.1954814 | E10: ='Table-2'!$C$42 -> 0.16646569
A11: II | B11: Volume, Price and Congestion
B12: A. Bilateral Market
A13: 6 | B13: Weighted Average Price (Rs/kWh) | C13: 6.4120254 | D13: 7.4719218 | E13: ='Table-3 to 26'!$C$5 -> 4.78 | F13: =(E13-D13)/D13 -> -0.36027168 | G13: =(E13-C13)/C13 -> -0.25452572
B14: B. Power Exchanges
B15: a. IEX
B16: i. Day Ahead Market
A17: 7 | B17: Market Clearing Volume (in MUs) | C17: 4113.6453 | D17: 4718.3822 | E17: ='Table 27'!$D$34 -> 4408.9276 | F17: =(E17-D17)/D17 -> -0.065584879 | G17: =(E17-C17)/C17 -> 0.071781183
A18: 8 | B18: Weighted Average Price (Rs/kWh) | C18: 9.5211479 | D18: 5.4361932 | E18: ='Table-3 to 26'!$C$19 -> 3.2171593 | F18: =(E18-D18)/D18 -> -0.40819629 | G18: =(E18-C18)/C18 -> -0.66210384
A19: 9 | B19: Ratio of Buy Bid to Sell Bid Volume | C19: 2.6056969 | D19: 1.0950067 | E19: =#REF! -> #REF!
A20: 10 | B20: Congestion Percentage | C20: 0.0090277778 | D20: 0 | E20: ='Table-38'!$C$9 -> 0
B21: ii. Term Ahead Market
A22: 11 | B22: Volume of Transactions | C22: 1171.4959 | D22: 1086.9521 | E22: ='Table-3 to 26'!$C$64 -> 421.31996 | F22: =(E22-D22)/D22 -> -0.61238407 | G22: =(E22-C22)/C22 -> -0.6403573
A23: 12 | B23: Weighted Average Price (Rs/kWh) | C23: 10.720518 | D23: 6.8981021 | E23: ='Table-3 to 26'!$D$64 -> 4.8485813 | F23: =(E23-D23)/D23 -> -0.29711372 | G23: =(E23-C23)/C23 -> -0.54772883
B24: iii. Real Time Market
A25: 13 | B25: Market Clearing Volume (in MUs) | C25: 1704.277 | D25: 2097.7223 | E25: ='Table 27'!$K$34 -> 2152.4548 | F25: =(E25-D25)/D25 -> 0.026091431 | G25: =(E25-C25)/C25 -> 0.26297242
A26: 14 | B26: Weighted Average Price (Rs/kWh) | C26: 9.1219241 | D26: 4.8233508 | E26: ='Table-3 to 26'!$C$40 -> 3.0362147 | F26: =(E26-D26)/D26 -> -0.37051755 | G26: =(E26-C26)/C26 -> -0.66715195
A27: 15 | B27: Ratio of Buy Bid to Sell Bid Volume | C27: 4.3712065 | D27: 1.0091971 | E27: =#REF! -> #REF!
A28: 16 | B28: Congestion Percentage | C28: 0.018055556 | D28: 0.022849462 | E28: ='Table-38'!$L$9 -> 6.944e-06
B29: iv. Green Term Ahead Market
A30: 17 | B30: Volume of Transactions | C30: 120.76962 | D30: 96.915467 | E30: ='Table-3 to 26'!$C$114 -> 33.4085 | F30: =(E30-D30)/D30 -> -0.65528206 | G30: =(E30-C30)/C30 -> -0.72337001
A31: 18 | B31: Weighted Average Price (Rs/kWh) | C31: 9.5607937 | D31: 5.6907838 | E31: ='Table-3 to 26'!$D$114 -> 5.8422737 | F31: =(E31-D31)/D31 -> 0.026620213 | G31: =(E31-C31)/C31 -> -0.38893424
B32: v. Green Day Ahead Market
A33: 19 | B33: Market Clearing Volume (in MUs) | C33: 214.73366 | D33: 297.74622 | E33: ='Table 27'!G34 -> 157.55123 | F33: =(E33-D33)/D33 -> -0.47085399 | G33: =(E33-C33)/C33 -> -0.26629469
A34: 20 | B34: Weighted Average Price (Rs/kWh) | C34: 9.2863966 | D34: 5.6651987 | E34: ='Table-3 to 26'!$C$26 -> 3.2882272 | F34: =(E34-D34)/D34 -> -0.41957425 | G34: =(E34-C34)/C34 -> -0.64590924
A35: 21 | B35: Ratio of Buy Bid to Sell Bid Volume | C35: 6.2658251 | D35: 3.1544767 | E35: =#REF! -> #REF!
A36: 22 | B36: Congestion Percentage | C36: 0 | D36: 0 | E36: ='Table-38'!F9 -> 0
B37: vi. High Price Day Ahead Market
A38: 23 | B38: Market Clearing Volume (in MUs) | C38: NA | D38: 0 | E38: ='Table 27'!J34 -> 0.19375 | F38: =IFERROR((E38-D38)/D38,"-") -> - | G38: =IFERROR((E38-C38)/C38,"-") -> -
A39: 24 | B39: Weighted Average Price (Rs/kWh) | C39: NA | D39: - | E39: ='Table-40(a)'!#REF! -> #REF! | F39: =IFERROR((E39-D39)/D39,"-") -> - | G39: =IFERROR((E39-C39)/C39,"-") -> -
A40: 25 | B40: Ratio of Buy Bid to Sell Bid Volume | C40: NA | D40: 0.007114602 | E40: =#REF! -> #REF!
A41: 26 | B41: Congestion Percentage | C41: NA | D41: 0 | E41: 0
B42: b. PXIL
B43: i. Day Ahead Market
A44: 27 | B44: Market Clearing Volume (in MUs) | C44: 0 | D44: 0 | E44: ='Table 27'!$E$34 -> 0 | F44: =IFERROR((E44-D44)/D44,"-") -> - | G44: -
A45: 28 | B45: Weighted Average Price (Rs/kWh) | C45: - | D45: - | E45: ='Table-3 to 26'!$D$19 -> 9.9864408 | F45: =IFERROR((E45-D45)/D45,"-") -> - | G45: =IFERROR((E45-C45)/C45,"-") -> -
A46: 29 | B46: Ratio of Buy Bid to Sell Bid Volume | C46: 0.8516129 | D46: 0.10734343 | E46: =#REF! -> #REF!
A47: 30 | B47: Congestion Percentage | C47: 0 | D47: 0 | E47: ='Table-38'!$D$9 -> 0
B48: ii. Term Ahead Market
A49: 31 | B49: Volume of Transactions | C49: 1734.4769 | D49: 560.69276 | E49: ='Table-3 to 26'!$C$80 -> 542.87405 | F49: =(E49-D49)/D49 -> -0.03177981 | G49: =(E49-C49)/C49 -> -0.68700993
A50: 32 | B50: Weighted Average Price (Rs/kWh) | C50: 11.204748 | D50: 8.2228868 | E50: ='Table-3 to 26'!$D$80 -> 4.8826682 | F50: =(E50-D50)/D50 -> -0.40620997 | G50: =(E50-C50)/C50 -> -0.56423221
B51: iii. Real Time Market
A52: 33 | B52: Market Clearing Volume (in MUs) | C52: 0.10325 | D52: 0 | E52: ='Table 27'!$L$34 -> 0 | F52: =IFERROR((E52-D52)/D52,"-") -> - | G52: =IFERROR((E52-C52)/C52,"-") -> -1
A53: 34 | B53: Weighted Average Price (Rs/kWh) | C53: 8.3680387 | D53: - | E53: ='Table-3 to 26'!$D$40 -> 9.8951881 | F53: =IFERROR((E53-D53)/D53,"-") -> - | G53: =IFERROR((E53-C53)/C53,"-") -> 0.18249788
A54: 35 | B54: Ratio of Buy Bid to Sell Bid Volume | C54: 5.5812095 | D54: 0 | E54: =#REF! -> #REF!
A55: 36 | B55: Congestion Percentage | C55: 0 | D55: 0 | E55: ='Table-38'!M9 -> 0
B56: iv. Green Term Ahead Market
A57: 37 | B57: Volume of Transactions | C57: 208.6106 | D57: 30.7933 | E57: ='Table-3 to 26'!$C$130 -> 63.384305 | F57: =(E57-D57)/D57 -> 1.0583797 | G57: =(E57-C57)/C57 -> -0.69615971
A58: 38 | B58: Weighted Average Price (Rs/kWh) | C58: 8.6013943 | D58: 6.1366559 | E58: ='Table-3 to 26'!$D$130 -> 3.7135418 | F58: =(E58-D58)/D58 -> -0.39485905 | G58: =(E58-C58)/C58 -> -0.56826282
B59: v. Green Day Ahead Market
A60: 39 | B60: Market Clearing Volume (in MUs) | C60: 0 | D60: 0 | E60: ='Table 27'!H34 -> 0 | F60: - | G60: -
A61: 40 | B61: Weighted Average Price (Rs/kWh) | C61: - | D61: - | E61: ='Table-3 to 26'!$D$26 -> 3.0185185 | F61: - | G61: -
A62: 41 | B62: Ratio of Buy Bid to Sell Bid Volume | C62: 0 | D62: 0 | E62: =#REF! -> #REF!
A63: 42 | B63: Congestion Percentage | C63: 0 | D63: 0 | E63: ='Table-38'!$G$9 -> 0
B64: c. HPX
B65: i. Day Ahead Market
A66: 43 | B66: Market Clearing Volume (in MUs) | C66: NA | D66: 0 | E66: ='Table 27'!$F$34 -> 0 | F66: =IFERROR((E66-D66)/D66,"-") -> - | G66: =IFERROR((E66-C66)/C66,"-") -> -
A67: 44 | B67: Weighted Average Price (Rs/kWh) | C67: NA | D67: - | E67: ='Table-3 to 26'!$E$19 -> 9.9998062 | F67: =IFERROR((E67-D67)/D67,"-") -> - | G67: =IFERROR((E67-C67)/C67,"-") -> -
A68: 45 | B68: Ratio of Buy Bid to Sell Bid Volume | C68: NA | D68: 0 | E68: =#REF! -> #REF!
A69: 46 | B69: Congestion Percentage | C69: NA | D69: 0 | E69: ='Table-38'!$E$9 -> 0
B70: ii. Term Ahead Market
A71: 47 | B71: Volume of Transactions | C71: NA | D71: 665.87908 | E71: ='Table-3 to 26'!$C$97 -> 252.18815 | F71: =IFERROR((E71-D71)/D71,"-") -> -0.62127035 | G71: =IFERROR((E71-C71)/C71,"-") -> -
A72: 48 | B72: Weighted Average Price (Rs/kWh) | C72: NA | D72: 6.6086378 | E72: ='Table-3 to 26'!$D$97 -> 5.2101611 | F72: =IFERROR((E72-D72)/D72,"-") -> -0.21161346 | G72: =IFERROR((E72-C72)/C72,"-") -> -
B73: iii. Real Time Market
A74: 49 | B74: Market Clearing Volume (in MUs) | C74: NA | D74: 0 | E74: ='Table 27'!$M$34 -> 0.1062 | F74: =IFERROR((E74-D74)/D74,"-") -> - | G74: =IFERROR((E74-C74)/C74,"-") -> -
A75: 50 | B75: Weighted Average Price (Rs/kWh) | C75: NA | D75: - | E75: ='Table-3 to 26'!$E$40 -> 10 | F75: =IFERROR((E75-D75)/D75,"-") -> - | G75: =IFERROR((E75-C75)/C75,"-") -> -
A76: 51 | B76: Ratio of Buy Bid to Sell Bid Volume | C76: NA | D76: 0 | E76: =#REF! -> #REF!
A77: 52 | B77: Congestion Percentage | C77: NA | D77: 0 | E77: ='Table-38'!$N$9 -> 0
B78: iv. Green Term Ahead Market
A79: 53 | B79: Volume of Transactions | C79: NA | D79: 8.5665 | E79: ='Table-3 to 26'!$C$146 -> 25.002 | F79: =IFERROR((E79-D79)/D79,"-") -> 1.9185782 | G79: -
A80: 54 | B80: Weighted Average Price (Rs/kWh) | C80: NA | D80: 7.3910319 | E80: ='Table-3 to 26'!$D$146 -> 4.4463593 | F80: =IFERROR((E80-D80)/D80,"-") -> -0.39841157 | G80: -
B81: v. Green Day Ahead Market
A82: 55 | B82: Market Clearing Volume (in MUs) | C82: NA | D82: 0 | E82: ='Table 27'!I34 -> 0 | F82: - | G82: -
A83: 56 | B83: Weighted Average Price (Rs/kWh) | C83: NA | D83: - | E83: ='Table-3 to 26'!$E$26 -> 2.9823967 | F83: - | G83: -
A84: 57 | B84: Ratio of Buy Bid to Sell Bid Volume | C84: NA | D84: 0 | E84: =#REF! -> #REF!
A85: 58 | B85: Congestion Percentage | C85: NA | D85: 0 | E85: ='Table-38'!$H$9 -> 0
B86: C. DSM
A87: 59 | B87: Average Deviation Price (Rs/kWh) | C87: 7.0459419 | D87: 5.9261107 | E87: ='Table-42'!$E$34 -> 3.7182389 | F87: =(E87-D87)/D87 -> -0.37256675 | G87: =(E87-C87)/C87 -> -0.47228646
A88: III | B88: REC Market
A89: 60 | B89: Solar Clearing Volume on IEX | C89: 77433 | D89: 868807 | E89: ='Table-45'!$C$7 -> 474487 | F89: =(E89-(D89+D90))/(D89+D90) -> -0.45386375 | G89: =(E89-(C89+C90))/(C89+C90) -> 0.90649673
A90: 61 | B90: Non-Solar Clearing Volume on IEX | C90: 171446
A91: 62 | B91: Solar Clearing Volume on PXIL | C91: 62753 | D91: 106309 | E91: ='Table-45'!$D$7 -> 610141 | F91: =(E91-(D91+D92))/(D91+D92) -> 4.7393165 | G91: =(E91-(C91+C92))/(C91+C92) -> 1.7410857
A92: 63 | B92: Non-Solar Clearing Volume on PXIL | C92: 159838
A93: 64 | B93: Solar Clearing Volume on HPX | C93: NA | D93: 1521 | E93: ='Table-45'!$E$7 -> 240000 | F93: =(E93-(D93+D94))/(D93+D94) -> 156.79093 | G93: -
A94: 65 | B94: Non-Solar Clearing Volume on HPX | C94: NA
A95: 66 | B95: Solar Clearing Price (Rs/MWh) | C95: 2244.7641 | D95: 1000 | E95: ='Table-45'!#REF! -> #REF! | F95: =(E95-D95)/D95 -> #REF! | G95: =(E95-C95)/C95 -> #REF!
A96: 67 | B96: Non-Solar Clearing Price (Rs/MWh) | C96: 1000 | G96: =(E95-C96)/C96 -> #REF!
A97: 68 | B97: Volume through Traders (Bilateral) | C97: NA | D97: 90049 | E97: ='Table-45'!F7 -> 188007 | F97: =IFERROR((E97-D97)/D97,"-") -> 1.08783 | G97: -
A98: 69 | B98: Sale Price through Traders (Bilateral) | C98: NA | D98: 924.54917 | E98: ='Table-45'!F8 -> 371.62 | F98: =IFERROR((E98-D98)/D98,"-") -> -0.59805275 | G98: -
A99: Note:

Sheet Figure 7
A1: Figure 7: Bilateral Contracts Executed by Traders in MAY, 2019
A2: Excluding Banking | B2: Percentage
A3: Upto one week | B3: 45 | C3: =B3/$B$7 -> 0.54216867
A4: More than one week and upto one month | B4: 36 | C4: =B4/$B$7 -> 0.43373494
A5: More than one month and upto 3 months | B5: 2 | C5: =B5/$B$7 -> 0.024096386
A6: More than three months and upto 12 months | B6: 0 | C6: =B6/$B$7 -> 0
B7: =SUM(B3:B6) -> 83 | C7: =SUM(C3:C6) -> 1
C18: =C17/1.53*100 -> 0

Sheet Forward Curve

Sheet Sheet1
A1: ACBIL | B1: ACB ( India) Limited | G1: ACBIL | H1: =VLOOKUP(G1,A1:$A$1:$B$52,2,FALSE) -> ACB ( India) Limited
A2: ACP | B2: Area Clearing Price | C2: DGEN Mega power | G2: AD HYDRO | H2: =VLOOKUP(G2,A$1:$A2:$B$52,2,FALSE) -> AD Hydro Power Limited
A3: ACV | B3: Area Clearing Volume | C3: GMR Chattisgarh | G3: BALCO | H3: =VLOOKUP(G3,A$1:$A3:$B$52,2,FALSE) -> Bharat Aluminium Company Limited
A4: AD HYDRO | B4: AD Hydro Power Limited | C4: KORBA WEST Power | G4: CGPL | H4: =VLOOKUP(G4,A$1:$A4:$B$52,2,FALSE) -> Coastal Gujarat Power Limited
A5: BALCO | B5: Bharat Aluminium Company Limited | C5: MAITHON POWER LTD | G5: CHUZACHEN HEP | H5: =VLOOKUP(G5,A$1:$A5:$B$52,2,FALSE) -> Chuzachen Hydro electric power project
A6: CEA | B6: Central Electricity Authority | G6: DCPP | H6: =VLOOKUP(G6,A$1:$A6:$B$52,2,FALSE) -> Donga Mahua Captive Power Plant
A7: CERC | B7: Central Electricity Regulatory Commission | G7: DGEN Mega power | H7: =VLOOKUP(G7,A$1:$A7:$B$52,2,FALSE) -> #N/A
A8: CGPL | B8: Coastal Gujarat Power Limited | G8: EMCO | H8: =VLOOKUP(G8,A$1:$A8:$B$52,2,FALSE) -> EMCO Energy Limited
A9: CHUZACHEN HEP | B9: Chuzachen Hydro electric power project | G9: ESSAR STEEL | H9: =VLOOKUP(G9,A$1:$A9:$B$52,2,FALSE) -> Essar Steel Ltd
A10: DB Power | B10: Diligent Power Pvt. Ltd. | G10: GMR Chattisgarh | H10: =VLOOKUP(G10,A$1:$A10:$B$52,2,FALSE) -> #N/A
A11: DCPP | B11: Donga Mahua Captive Power Plant | G11: GMR KAMALANGA | H11: =VLOOKUP(G11,A$1:$A11:$B$52,2,FALSE) -> GMR Kamalanga Energy Ltd.
A12: DHARIWAL POWER | B12: Dhariwal Power Station | G12: JAYPEE NIGRIE | H12: =VLOOKUP(G12,A$1:$A12:$B$52,2,FALSE) -> Jaypee Nigrie Super Thermal Power Project
A13: DSM | B13: Deviation Settlement Mechanism | G13: JINDAL POWER | H13: =VLOOKUP(G13,A$1:$A13:$B$52,2,FALSE) -> Jindal Power Limited
A14: DVC | B14: Damodar Valley Corporation | G14: JINDAL STAGE-II | H14: =VLOOKUP(G14,A$1:$A14:$B$52,2,FALSE) -> Jindal Power Ltd Stage II
A15: EMCO | B15: EMCO Energy Limited | G15: KARCHAM WANGTOO | H15: =VLOOKUP(G15,A$1:$A15:$B$52,2,FALSE) -> Jaypee Karcham Hydro Corporation Limited
A16: ESSAR STEEL | B16: Essar Steel Ltd | G16: KORBA WEST Power | H16: =VLOOKUP(G16,A$1:$A16:$B$52,2,FALSE) -> #N/A
A17: GMR KAMALANGA | B17: GMR Kamalanga Energy Ltd. | G17: LANCO BUDHIL | H17: =VLOOKUP(G17,A$1:$A17:$B$52,2,FALSE) -> Lanco Budhil Hydro Power Private Limited
... A32: MUs | B32: Million Units | G32: VANDANA VIDYUT | H32: =VLOOKUP(G32,A$1:$A32:$B$52,2,FALSE) -> Vandana Vidyut Limited
A33: NEEPCO Stations | B33: North Eastern Electric Power Corporation Limited. Stations
A34: NHPC Stations | B34: National Hydro Electric Power Corporation Ltd. Stations
A35: NJPC | B35: Nathpa Jhakri Hydroelectric Power Station
A36: NLDC | B36: National Load Despatch Centre
A37: NSPCL | B37: NTPC - SAIL Power Company Private Limited
A38: ONGC PALATANA | B38: Oil and Natural Gas Corporation, Palatana
A39: OTC | B39: Over The Counter
A40: PX | B40: Power Exchange
A41: PXIL | B41: Power Exchange India Limited
A42: RANGIT HEP | B42: Rangit Hydro electric power project
A43: REC | B43: Renewable Energy Certificate
A44: RGPPL | B44: Ratnagiri Gas and Power Private Limited
... A52: VANDANA VIDYUT | B52: Vandana Vidyut Limited
