Workbook
Name _ftn1: Contents!#REF!
Name _ftnref1: Contents!#REF!
Name OLE_LINK1: Contents!$A$1

Sheet Contents
B1: Contents
A3: S.No | B3: Contents | C3: Page No
B4: Cover page | C4: 1
B5: Contents | C5: 2
B6: List of Tables and Figures | C6: 3
B7: Abbreviations | C7: 4
B8: Introduction | C8: 6
A9: I | B9: Volume of Short-term Transactions of Electricity | C9: 6
A10: II | B10: Price of Short-term Transactions of Electricity | C10: 7
A11: (i) | B11: Price of electricity transacted through Traders | C11: 7
A12: (ii) | B12: Price of electricity transacted Through Power Exchange | C12: 8
A13: (iii) | B13: Price of electricity transacted Through DSM | C13: 8
A14: III | B14: Volume of Short-term Transactions of Electricity (Regional Entity-wise) | C14: 8
A15: IV | B15: Congestion on Inter-state Transmission Corridor for Day-Ahead Market on Power Exchanges | C15: 9
A16: V | B16: Bilateral Contracts executed by Traders | C16: 10
A17: (i) | B17: Duration of bilateral contracts | C17: 10
A18: (ii) | B18: Forward Curve based on Prices of bilateral contracts | C18: 10
A19: VI | B19: Volume and Price of Renewable Energy Certificates (RECs) | C19: 11
A20: VII | B20: Inferences | C20: 12

Sheet Abbrevation
A1: Abbreviations
A2: Abbreviation | B2: Expanded Version | F2: Abbreviation | G2: Expanded Version
A3: ACBIL | B3: ACB ( India) Limited | F3: ACBIL | G3: ACB ( India) Limited
A4: ACP | B4: Area Clearing Price | F4: ACP | G4: Area Clearing Price
A5: ACV | B5: Area Clearing Volume | F5: ACV | G5: Area Clearing Volume
A6: AD HYDRO | B6: AD Hydro Power Limited | F6: ADHUNIK | G6: Adhunik Power Ltd.
A7: ADANI HVDC | B7: Adani Power Ltd. (HVDC Mundra) | F7: AD HYDRO | G7: AD Hydro Power Limited
A8: BALCO | B8: Bharat Aluminium Company Limited | F8: BALCO | G8: Bharat Aluminum Company Limited
A9: CEA | B9: Central Electricity Authority | F9: CEA | G9: Central Electricity Authority
A10: CERC | B10: Central Electricity Regulatory Commission | F10: CERC | G10: Central Electricity Regulatory Commission
A11: CGPL | B11: Coastal Gujarat Power Limited | F11: CGPL | G11: Coastal Gujarat Power Limited
A12: CHUZACHEN HEP | B12: Chuzachen Hydro electric power project | F12: CHUZACHEN HEP | G12: Chuzachen Hydro electric power project
A13: DCPP | B13: Donga Mahua Captive Power Plant | F13: DCPP | G13: Donga Mahua Captive Power Plant
A14: DOYANG HEP | B14: Doyang Hydro electric power project | C14: 2x300MW Aquired by GMR | F14: DOYANG HEP | G14: Doyang Hydro electric power project
A15: DVC | B15: Damodar Valley Corporation | F15: DVC | G15: Damodar Valley Corporation
A16: EMCO | B16: EMCO Energy Limited | F16: EMCO | G16: EMCO Energy Limited
A17: ESSAR STEEL | B17: Essar Steel Ltd | F17: ESSAR STEEL | G17: Essar Steel Ltd
A18: GMR KAMALANGA | B18: GMR Kamalanga Energy Ltd. | F18: HHI | G18: Herfindahl-Hirschman Index
A19: IEX | B19: Indian Energy Exchange Limited | F19: IEX | G19: Indian Energy Exchange Limited
A20: J&K | B20: Jammu & Kashmir | C20: 70 (2x35) MW | F20: J&K | G20: Jammu & Kashmir
A21: JINDAL POWER | B21: Jindal Power Limited | F21: KARCHAM WANGTOO | G21: Jaypee Karcham Hydro Corporation Limited
A22: JINDAL STAGE-II | B22: Jindal Power Ltd Stage II | F22: LANKO_AMK | G22: Lanco Amarkantak Power Private Limited
A23: KARCHAM WANGTOO | B23: Jaypee Karcham Hydro Corporation Limited | F23: LANCO BUDHIL | G23: Lanco Budhil Hydro Power Project
A24: LANCO BUDHIL | B24: Lanco Budhil Hydro Power Private Limited | F24: MAITHON | G24: Maithon Power Ltd.
A25: LANKO_AMK | B25: Lanco Amarkantak Power Private Limited | F25: MALANA | G25: Malana Hydroelectric Plant
A26: LANKO_KONDAPALLY | B26: Lanco Kondapalli Power Limited | F26: Meenakshi | G26: Meenakshi Energy Private Limited
A27: MALANA | B27: Malana Hydroelectric Plant | F27: MP | G27: Madhya Pradesh
A28: Meenakshi | B28: Meenakshi Energy Private Limited | F28: MUs | G28: Million Units
A29: MP | B29: Madhya Pradesh | F29: NEEPCO Stations | G29: North Eastern Electric Power Corporation Limited. Stations
A30: MUs | B30: Million Units | F30: NHPC Stations | G30: National Hydro Electric Power Corporation Ltd. Stations
A31: NEEPCO Stations | B31: North Eastern Electric Power Corporation Limited. Stations | F31: NJPC | G31: Nathpa Jhakri Hydroelectric Power Station
A32: NHPC Stations | B32: National Hydro Electric Power Corporation Ltd. Stations | F32: NLDC | G32: National Load Despatch Centre
A33: NJPC | B33: Nathpa Jhakri Hydroelectric Power Station | F33: NSPCL | G33: NTPC - SAIL Power Company Private Limited
A34: NLDC | B34: National Load Despatch Centre | C34: a subsidiary of Hyderabad-based Madhucon Projects Limited | F34: ONGC PALATANA | G34: Oil and Natural Gas Corporation, Palatana
A35: NSPCL | B35: NTPC - SAIL Power Company Private Limited | F35: PX | G35: Power Exchange
A36: ONGC PALATANA | B36: Oil and Natural Gas Corporation, Palatana | F36: PXIL | G36: Power Exchange India Limited
A37: PX | B37: Power Exchange | F37: RANGANADI HEP | G37: Ranganadi Hydro Electric Project
A38: PXIL | B38: Power Exchange India Limited | F38: REC | G38: Renewable Energy Certificate
A39: RANGANADI HEP | B39: Ranganadi Hydro Electric Project | F39: RGPPL | G39: Ratnagiri Gas and Power Private Limited
A40: REC | B40: Renewable Energy Certificate | F40: RLDC | G40: Regional Load Despatch Centre
...

Sheet Abbreviations-List
A2: ACBIL | B2: ACB ( India) Limited | H2: Chuzachen Hydro electric power project | K2: ACBIL | L2: ACB ( India) Limited
A3: ACP | B3: Area Clearing Price | H3: Doyang Hydro electric power project | K3: ACP | L3: Area Clearing Price
A4: ACV | B4: Area Clearing Volume | H4: Essar Steel Ltd | K4: ACV | L4: Area Clearing Volume
A5: AD HYDRO | B5: AD Hydro Power Limited | H5: GMR Kamalanga Energy Ltd. | K5: AD HYDRO | L5: AD Hydro Power Limited
A6: BALCO | B6: Bharat Aluminium Company Limited | H6: Jindal Power Ltd Stage II | K6: BALCO | L6: Bharat Aluminum Company Limited
A7: CEA | B7: Central Electricity Authority | H7: Malana Hydroelectric Plant | K7: CEA | L7: Central Electricity Authority
A8: CERC | B8: Central Electricity Regulatory Commission | H8: Oil and Natural Gas Corporation, Palatana | K8: CERC | L8: Central Electricity Regulatory Commission
A9: CGPL | B9: Coastal Gujarat Power Limited | H9: Ranganadi Hydro Electric Project | K9: CGPL | L9: Coastal Gujarat Power Limited
A10: CHUZACHEN HEP | B10: Chuzachen Hydro electric power project | K10: CHUZACHEN HEP | L10: Chuzachen Hydro electric power project
A11: DB Power | B11: Diligent Power Pvt. Ltd. | K11: DCPP | L11: Donga Mahua Captive Power Plant
A12: DCPP | B12: Donga Mahua Captive Power Plant | K12: DOYANG HEP | L12: Doyang Hydro electric power project
A13: DVC | B13: Damodar Valley Corporation | K13: DVC | L13: Damodar Valley Corporation
A14: EMCO | B14: EMCO Energy Limited | K14: EMCO | L14: EMCO Energy Limited
A15: ESSAR STEEL | B15: Essar Steel Ltd | K15: ESSAR STEEL | L15: Essar Steel Ltd
A16: GMR KAMALANGA | B16: GMR Kamalanga Energy Ltd. | K16: HHI | L16: Herfindahl-Hirschman Index
A17: IEX | B17: Indian Energy Exchange Limited | K17: IEX | L17: Indian Energy Exchange Limited
A18: J&K | B18: Jammu & Kashmir | K18: J&K | L18: Jammu & Kashmir
A19: JINDAL POWER | B19: Jindal Power Limited | K19: JINDAL POWER | L19: Jindal Power Limited
A20: JINDAL STAGE-II | B20: Jindal Power Ltd Stage II | K20: KARCHAM WANGTOO | L20: Jaypee Karcham Hydro Corporation Limited
A21: JITPL | B21: Jindal India Thermal Power Ltd. | K21: KSK Mahanadi | L21: KSK Mahanadi Power Project
... A24: LANKO_AMK | B24: Lanco Amarkantak Power Private Limited | K24: LANKO_KONDAPALLY | L24: Lanco Kondapalli Power Limited
A25: MALANA | B25: Malana Hydroelectric Plant | G25: MAITHON POWER LTD | K25: Meenakshi | L25: Meenakshi Energy Private Limited
A26: Meenakshi | B26: Meenakshi Energy Private Limited | G26: ADHUNIK POWER LTD | K26: MP | L26: Madhya Pradesh
A27: MP | B27: Madhya Pradesh | K27: MUs | L27: Million Units
A28: MUs | B28: Million Units | K28: NEEPCO Stations | L28: North Eastern Electric Power Corporation Limited. Stations
A29: NEEPCO Stations | B29: North Eastern Electric Power Corporation Limited. Stations | K29: NEW Grid | L29: North, East, North-East and Western Regional Grid
A30: NHPC Stations | B30: National Hydro Electric Power Corporation Ltd. Stations | K30: NHPC Stations | L30: National Hydro Electric Power Corporation Ltd. Stations
A31: NJPC | B31: Nathpa Jhakri Hydroelectric Power Station | K31: NJPC | L31: Nathpa Jhakri Hydroelectric Power Station
A32: NLDC | B32: National Load Despatch Centre | K32: NLDC | L32: National Load Despatch Centre
A33: NSPCL | B33: NTPC - SAIL Power Company Private Limited | K33: NSPCL | L33: NTPC - SAIL Power Company Private Limited
A34: ONGC PALATANA | B34: Oil and Natural Gas Corporation, Palatana | K34: PX | L34: Power Exchange
A35: OTC | B35: Over The Counter | K35: PXIL | L35: Power Exchange India Limited
A36: PX | B36: Power Exchange | K36: RANGANADI HEP | L36: Ranganadi Hydro Electric Project
A37: PXIL | B37: Power Exchange India Limited | K37: REC | L37: Renewable Energy Certificate
A38: RANGIT HEP | B38: Rangit Hydro electric power project | K38: RGPPL | L38: Ratnagiri Gas and Power Private Limited
... A46: TEESTA HEP | B46: Teesta Hydro electric power project | K46: UT | L46: Union Territory
A47: UI | B47: Unscheduled Interchange
A48: UT | B48: Union Territory
A49: VANDANA VIDYUT | B49: Vandana Vidyut Limited

Sheet Table-1
A1: Table-1: VOLUME OF SHORT-TERM TRANSACTIONS OF ELECTRICITY AND DSM (ALL INDIA), NOVEMBER 2025
A2: Sr.No | B2: Transactions | C2: Volume (MUs) | D2: % to Volume of short-term transactions | E2: % to Total Generation
A3: A | B3: Short-term transactions
A4: 1 | B4: Bilateral* (Traders, PX, Direct) | C4: 6914.44 | D4: 34.213917 | E4: 6.192989
A5: 2 | B5: Through Power Exchanges (Collective Market) | C5: 10670.87 | D5: 52.801419 | E5: 9.5574736
B6: (i) IEX
B7: (a) DAM | C7: 5625.9233 | D7: 27.8381 | E7: 5.0389158
B8: (b) RTM | C8: 4232.9838 | D8: 20.94558 | E8: 3.7913153
B9: (c) GDAM | C9: 777.48585 | D9: 3.8471425 | E9: 0.69636316
B10: (d) HP-DAM | C10: 0 | D10: 0 | E10: 0
B11: (ii)PXIL
B12: (a) DAM | C12: 15.205 | D12: 0.075237127 | E12: 0.013618514
B13: (b) RTM | C13: 14.06375 | D13: 0.069590013 | E13: 0.012596342
B14: (c) GDAM | C14: 0.2684 | D14: 0.0013280924 | E14: 0.00024039521
B15: (d) HP-DAM | C15: 0 | D15: 0 | E15: 0
B16: (iii)HPX
B17: (a) DAM | C17: 4.22625 | D17: 0.02091226 | E17: 0.0037852841
B18: (b) RTM | C18: 0.16875 | D18: 0.00083500593 | E18: 0.00015114267
B19: (c) GDAM | C19: 0.5445 | D19: 0.0026942858 | E19: 0.000487687
B20: (d) HP-DAM | C20: 0 | D20: 0 | E20: 0
A21: B | B21: Through DSM | C21: 2624.1277 | D21: 12.984665 | E21: 2.3503268
B22: Total Short-term transaction and DSM | C22: 20209.437 | D22: - | E22: 18.100789
B23: Total Generation | C23: 111649.48 | D23: - | E23: -
A24: Source: NLDC
A25: * With change in the regime on implemtation of GNA Regulations from 1st October 2023, the volume here are not strictly comparable to the volumes in previous months. Discrepancies identified in the data provided by NLDC prompted further validation. The volume under GNA is as per 'Acceptance' and not 'Scheduled'. Thus, the volume herein and in August 2024 issue are subject to revisions. The Commission has directed NLDC to make necessary provisions in scheduling softwares for GNA and T-GNA. Readers are advised to interpret the data with caution, considering the ongoing adjustments.Furthermore, any revisions or clarifications on GNA and/or T-GNA volumes will be communicated in subsequent reports.

Sheet Summary Table-1 (N)
A1: Table-1: VOLUME OF SHORT-TERM TRANSACTIONS OF ELECTRICITY (ALL INDIA), APRIL 2023 | K1: NLDC
A2: Sr.No | B2: Short-term transactions | C2: Volume (MUs) | D2: % to Volume of short-term transactions | E2: % to Total Generation | G2: Figure 1 Data
A3: 1 | B3: Bilateral | C3: =C4+C5 -> #REF! | D3: =(C3/$C$20)*100 -> #REF! | E3: =(C3/$C$21)*100 -> #REF! | G3: =B3 -> Bilateral | I3: =D3/100 -> #REF!
B4: (i) Through Traders and PXs | C4: ='Table-39'!B34 -> 6914.4405 | D4: =(C4/$C$20)*100 -> #REF! | E4: =(C4/$C$21)*100 -> 5.5919386 | G4: Power Exchanges | I4: =D6/100 -> #REF!
B5: (ii) Direct | C5: ='Table-39'!#REF! -> #REF! | D5: =(C5/$C$20)*100 -> #REF! | E5: =(C5/$C$21)*100 -> #REF! | G5: DSM | I5: =#REF!/100 -> #REF!
A6: 2 | B6: Through Power Exchanges | C6: =SUM(C8:C11,C13:C15,C17:C19) -> 10670.87 | D6: =(C6/$C$20)*100 -> #REF! | E6: =(C6/$C$21)*100 -> 8.6298881 | I6: =SUM(I3:I4) -> #REF! | K6: =C6+'Table-3 to 26'!C64+'Table-3 to 26'!C80 -> 11635.064 | P6: =C21 -> 123650.15
B7: (i) IEX
B8: (a) DAM | C8: ='Table-39'!C34 -> 5625.9233 | D8: =(C8/$C$20)*100 -> #REF! | E8: =(C8/$C$21)*100 -> 4.5498718 | G8: Figure 2 Data | P8: =C20 -> #REF!
B9: (b) RTM | C9: ='Table-39'!L34 -> 4232.9838 | D9: =(C9/$C$20)*100 -> #REF! | E9: =(C9/$C$21)*100 -> 3.4233552 | G9: Long-term | H9: =100-H13 -> #REF!
B10: (c) GDAM | C10: ='Table-39'!F34 -> 777.48585 | D10: =(C10/$C$20)*100 -> #REF! | E10: =(C10/$C$21)*100 -> 0.62877874 | G10: Bilateral | H10: =I10 -> #REF! | I10: =E3 -> #REF!
B11: (d) HP-DAM | C11: ='Table-39'!I34 -> 0 | D11: =(C11/$C$20)*100 -> #REF! | E11: =(C11/$C$21)*100 -> 0 | G11: Through Power Exchanges | H11: =I11 -> 8.6298881 | I11: =E6 -> 8.6298881
B12: (ii)PXIL | G12: Through DSM | H12: =I12 -> #REF! | I12: =#REF! -> #REF!
B13: (a) DAM | C13: ='Table-39'!D34 -> 15.205 | D13: =(C13/$C$20)*100 -> #REF! | E13: =(C13/$C$21)*100 -> 0.012296791 | H13: =SUM(H10:H11) -> #REF! | P13: =E20 -> #REF!
B14: (b) RTM | C14: ='Table-39'!M34 -> 14.06375 | D14: =(C14/$C$20)*100 -> #REF! | E14: =(C14/$C$21)*100 -> 0.011373824 | K14: =125+285 -> 410
B15: (c) GDAM | C15: ='Table-39'!G34 -> 0.2684 | D15: =(C15/$C$20)*100 -> #REF! | E15: =(C15/$C$21)*100 -> 0.00021706403
B16: (ii)HPX
B17: (a) DAM | C17: ='Table-39'!E34 -> 4.22625 | D17: =(C17/$C$20)*100 -> #REF! | E17: =(C17/$C$21)*100 -> 0.0034179093
B18: (b) RTM | C18: ='Table-39'!N34 -> 0.16875 | D18: =(C18/$C$20)*100 -> #REF! | E18: =(C18/$C$21)*100 -> 0.00013647375
B19: (c) GDAM | C19: ='Table-39'!H34 -> 0.5445 | D19: =(C19/$C$20)*100 -> #REF! | E19: =(C19/$C$21)*100 -> 0.00044035531
B20: Total | C20: =C3+C6 -> #REF! | D20: - | E20: =C20/C21*100 -> #REF! | P20: =E3 -> #REF!
B21: Total Generation | C21: ='Table 27'!O34 -> 123650.15 | D21: - | E21: - | P21: =C6 -> 10670.87
A22: Source: NLDC | P22: =E6 -> 8.6298881
P23: =#REF! -> #REF!
P24: =#REF! -> #REF!
P25: =D3 -> #REF!
P26: =D4 -> #REF!
P27: =D5 -> #REF!
P28: =D6 -> #REF!
P29: =D8 -> #REF!
P30: =D13 -> #REF!
P31: =#REF! -> #REF!

Sheet Fig 7

Sheet data-chart 4 (E)
A1: VOLUME OF SHORT-TERM TRANSACTIONS OF ELECTRICITY (ALL INDIA) (MUs)
A3: Date | B3: Bilateral Transactions | C3: PX Transactions | D3: DSM Volume
A4: ='Table-39'!#REF! -> #REF! | B4: ='Table-39'!#REF!+'Table-39'!#REF! -> #REF! | C4: =SUM('Table-39'!#REF!) -> #REF! | D4: ='Table-42'!#REF! -> #REF!
A5: ='Table-39'!A4 -> 45962 | B5: ='Table-39'!B4+'Table-39'!#REF! -> #REF! | C5: =SUM('Table-39'!C4:N4) -> 349.53233 | D5: ='Table-42'!B4 -> 91.399106
A6: ='Table-39'!A5 -> 45963 | B6: ='Table-39'!B5+'Table-39'!#REF! -> #REF! | C6: =SUM('Table-39'!C5:N5) -> 354.09554 | D6: ='Table-42'!B5 -> 95.162747 | P6: `
A7: ='Table-39'!A6 -> 45964 | B7: ='Table-39'!B6+'Table-39'!#REF! -> #REF! | C7: =SUM('Table-39'!C6:N6) -> 361.03476 | D7: ='Table-42'!B6 -> 104.95583
A8: ='Table-39'!A7 -> 45965 | B8: ='Table-39'!B7+'Table-39'!#REF! -> #REF! | C8: =SUM('Table-39'!C7:N7) -> 331.65512 | D8: ='Table-42'!B7 -> 95.499025
A9: ='Table-39'!A8 -> 45966 | B9: ='Table-39'!B8+'Table-39'!#REF! -> #REF! | C9: =SUM('Table-39'!C8:N8) -> 349.08858 | D9: ='Table-42'!B8 -> 92.023532
A10: ='Table-39'!A9 -> 45967 | B10: ='Table-39'!B9+'Table-39'!#REF! -> #REF! | C10: =SUM('Table-39'!C9:N9) -> 352.35815 | D10: ='Table-42'!B9 -> 88.939629
A11: ='Table-39'!A10 -> 45968 | B11: ='Table-39'!B10+'Table-39'!#REF! -> #REF! | C11: =SUM('Table-39'!C10:N10) -> 359.41466 | D11: ='Table-42'!B10 -> 85.282929
A12: ='Table-39'!A11 -> 45969 | B12: ='Table-39'!B11+'Table-39'!#REF! -> #REF! | C12: =SUM('Table-39'!C11:N11) -> 360.52147 | D12: ='Table-42'!B11 -> 83.825165
A13: ='Table-39'!A12 -> 45970 | B13: ='Table-39'!B12+'Table-39'!#REF! -> #REF! | C13: =SUM('Table-39'!C12:N12) -> 351.55794 | D13: ='Table-42'!B13 -> 83.258675
A14: ='Table-39'!A13 -> 45971 | B14: ='Table-39'!B13+'Table-39'!#REF! -> #REF! | C14: =SUM('Table-39'!C13:N13) -> 362.75631 | D14: ='Table-42'!B14 -> 82.897055
A15: ='Table-39'!A14 -> 45972 | B15: ='Table-39'!B14+'Table-39'!#REF! -> #REF! | C15: =SUM('Table-39'!C14:N14) -> 361.88327 | D15: ='Table-42'!B15 -> 82.450888
A16: ='Table-39'!A15 -> 45973 | B16: ='Table-39'!B15+'Table-39'!#REF! -> #REF! | C16: =SUM('Table-39'!C15:N15) -> 356.53129 | D16: ='Table-42'!B16 -> 83.637638
A17: ='Table-39'!A16 -> 45974 | B17: ='Table-39'!B16+'Table-39'!#REF! -> #REF! | C17: =SUM('Table-39'!C16:N16) -> 325.95021 | D17: ='Table-42'!B17 -> 82.645183
A18: ='Table-39'!A17 -> 45975 | B18: ='Table-39'!B17+'Table-39'!#REF! -> #REF! | C18: =SUM('Table-39'!C17:N17) -> 340.16861 | D18: ='Table-42'!B18 -> 80.292489
A19: ='Table-39'!A18 -> 45976 | B19: ='Table-39'!B18+'Table-39'!#REF! -> #REF! | C19: =SUM('Table-39'!C18:N18) -> 328.73165 | D19: ='Table-42'!B19 -> 86.426462
A20: ='Table-39'!A19 -> 45977 | B20: ='Table-39'!B19+'Table-39'!#REF! -> #REF! | C20: =SUM('Table-39'!C19:N19) -> 328.32008 | D20: ='Table-42'!B20 -> 84.694055
A21: ='Table-39'!A20 -> 45978 | B21: ='Table-39'!B20+'Table-39'!#REF! -> #REF! | C21: =SUM('Table-39'!C20:N20) -> 329.70352 | D21: ='Table-42'!B21 -> 84.501902
A22: ='Table-39'!A21 -> 45979 | B22: ='Table-39'!B21+'Table-39'!#REF! -> #REF! | C22: =SUM('Table-39'!C21:N21) -> 350.03562 | D22: ='Table-42'!B22 -> 87.865638
A23: ='Table-39'!A22 -> 45980 | B23: ='Table-39'!B22+'Table-39'!#REF! -> #REF! | C23: =SUM('Table-39'!C22:N22) -> 353.69316 | D23: ='Table-42'!B23 -> 81.274629
A24: ='Table-39'!A23 -> 45981 | B24: ='Table-39'!B23+'Table-39'!#REF! -> #REF! | C24: =SUM('Table-39'!C23:N23) -> 361.45333 | D24: ='Table-42'!B24 -> 91.713132
A25: ='Table-39'!A24 -> 45982 | B25: ='Table-39'!B24+'Table-39'!#REF! -> #REF! | C25: =SUM('Table-39'!C24:N24) -> 363.65634 | D25: ='Table-42'!B25 -> 87.819912
A26: ='Table-39'!A25 -> 45983 | B26: ='Table-39'!B25+'Table-39'!#REF! -> #REF! | C26: =SUM('Table-39'!C25:N25) -> 349.85334 | D26: ='Table-42'!B29 -> 85.195745
A27: ='Table-39'!A30 -> 45988 | B27: ='Table-39'!B30+'Table-39'!#REF! -> #REF! | C27: =SUM('Table-39'!C30:N30) -> 373.92759 | D27: ='Table-42'!B31 -> 83.307071
A28: ='Table-39'!#REF! -> #REF! | B28: ='Table-39'!#REF!+'Table-39'!#REF! -> #REF! | C28: =SUM('Table-39'!#REF!) -> #REF! | D28: ='Table-42'!B32 -> 84.328694
A29: ='Table-39'!#REF! -> #REF! | B29: ='Table-39'!#REF!+'Table-39'!#REF! -> #REF! | C29: =SUM('Table-39'!#REF!) -> #REF! | D29: ='Table-42'!#REF! -> #REF!
A30: ='Table-39'!#REF! -> #REF! | B30: ='Table-39'!#REF!+'Table-39'!#REF! -> #REF! | C30: =SUM('Table-39'!#REF!) -> #REF! | D30: ='Table-42'!#REF! -> #REF!
A31: ='Table-39'!#REF! -> #REF! | B31: ='Table-39'!#REF!+'Table-39'!#REF! -> #REF! | C31: =SUM('Table-39'!#REF!) -> #REF! | D31: ='Table-42'!#REF! -> #REF!
A32: ='Table-39'!#REF! -> #REF! | B32: ='Table-39'!#REF!+'Table-39'!#REF! -> #REF! | C32: =SUM('Table-39'!#REF!) -> #REF! | D32: ='Table-42'!#REF! -> #REF!
A33: ='Table-39'!#REF! -> #REF! | B33: ='Table-39'!#REF!+'Table-39'!#REF! -> #REF! | C33: =SUM('Table-39'!#REF!) -> #REF! | D33: ='Table-42'!#REF! -> #REF!
A34: ='Table 27'!A34 -> Total | B34: =SUM(B4:B33) -> #REF! | C34: =SUM(C4:C33) -> #REF! | D34: =SUM(D4:D33) -> #REF!

Sheet data-chart4 (N)
A1: VOLUME OF SHORT-TERM TRANSACTIONS OF ELECTRICITY (ALL INDIA) (MUs)
A3: Date | B3: Bilateral Transactions | C3: PX Transactions
A4: ='Table 27'!A4 -> 45017 | B4: ='Table-39'!#REF!+'Table-39'!#REF! -> #REF! | C4: =SUM('Table-39'!#REF!) -> #REF!
A5: ='Table 27'!A5 -> 45018 | B5: ='Table-39'!B4+'Table-39'!#REF! -> #REF! | C5: =SUM('Table-39'!C4:N4) -> 349.53233
A6: ='Table 27'!A6 -> 45019 | B6: ='Table-39'!B5+'Table-39'!#REF! -> #REF! | C6: =SUM('Table-39'!C5:N5) -> 354.09554 | O6: `
A7: ='Table 27'!A7 -> 45020 | B7: ='Table-39'!B6+'Table-39'!#REF! -> #REF! | C7: =SUM('Table-39'!C6:N6) -> 361.03476
A8: ='Table 27'!A8 -> 45021 | B8: ='Table-39'!B7+'Table-39'!#REF! -> #REF! | C8: =SUM('Table-39'!C7:N7) -> 331.65512
A9: ='Table 27'!A9 -> 45022 | B9: ='Table-39'!B8+'Table-39'!#REF! -> #REF! | C9: =SUM('Table-39'!C8:N8) -> 349.08858
A10: ='Table 27'!A10 -> 45023 | B10: ='Table-39'!B9+'Table-39'!#REF! -> #REF! | C10: =SUM('Table-39'!C9:N9) -> 352.35815
A11: ='Table 27'!A11 -> 45024 | B11: ='Table-39'!B10+'Table-39'!#REF! -> #REF! | C11: =SUM('Table-39'!C10:N10) -> 359.41466
A12: ='Table 27'!A12 -> 45025 | B12: ='Table-39'!B11+'Table-39'!#REF! -> #REF! | C12: =SUM('Table-39'!C11:N11) -> 360.52147
A13: ='Table 27'!A13 -> 45026 | B13: ='Table-39'!B12+'Table-39'!#REF! -> #REF! | C13: =SUM('Table-39'!C12:N12) -> 351.55794
A14: ='Table 27'!A14 -> 45027 | B14: ='Table-39'!B13+'Table-39'!#REF! -> #REF! | C14: =SUM('Table-39'!C13:N13) -> 362.75631
A15: ='Table 27'!A15 -> 45028 | B15: ='Table-39'!B14+'Table-39'!#REF! -> #REF! | C15: =SUM('Table-39'!C14:N14) -> 361.88327
A16: ='Table 27'!A16 -> 45029 | B16: ='Table-39'!B15+'Table-39'!#REF! -> #REF! | C16: =SUM('Table-39'!C15:N15) -> 356.53129
A17: ='Table 27'!A17 -> 45030 | B17: ='Table-39'!B16+'Table-39'!#REF! -> #REF! | C17: =SUM('Table-39'!C16:N16) -> 325.95021
A18: ='Table 27'!A18 -> 45031 | B18: ='Table-39'!B17+'Table-39'!#REF! -> #REF! | C18: =SUM('Table-39'!C17:N17) -> 340.16861
... A26: ='Table 27'!A26 -> 45039 | B26: ='Table-39'!B25+'Table-39'!#REF! -> #REF! | C26: =SUM('Table-39'!C25:N25) -> 349.85334
A27: ='Table 27'!A27 -> 45040 | B27: ='Table-39'!B30+'Table-39'!#REF! -> #REF! | C27: =SUM('Table-39'!C30:N30) -> 373.92759
A28: ='Table 27'!A28 -> 45041 | B28: ='Table-39'!#REF!+'Table-39'!#REF! -> #REF! | C28: =SUM('Table-39'!#REF!) -> #REF!
A29: ='Table 27'!A29 -> 45042 | B29: ='Table-39'!#REF!+'Table-39'!#REF! -> #REF! | C29: =SUM('Table-39'!#REF!) -> #REF!
A30: ='Table 27'!A30 -> 45043 | B30: ='Table-39'!#REF!+'Table-39'!#REF! -> #REF! | C30: =SUM('Table-39'!#REF!) -> #REF!
A31: ='Table 27'!A31 -> 45044 | B31: ='Table-39'!#REF!+'Table-39'!#REF! -> #REF! | C31: =SUM('Table-39'!#REF!) -> #REF!
A32: ='Table 27'!A32 -> 45045 | B32: ='Table-39'!#REF!+'Table-39'!#REF! -> #REF! | C32: =SUM('Table-39'!#REF!) -> #REF!
A33: ='Table 27'!A33 -> 45046 | B33: ='Table-39'!#REF!+'Table-39'!#REF! -> #REF! | C33: =SUM('Table-39'!#REF!) -> #REF!
A34: ='Table 27'!A34 -> Total | B34: ='Table 27'!B34+'Table 27'!C34 -> 9603.429 | C34: ='Table 27'!D34+'Table 27'!E34+'Table 27'!K34+'Table 27'!L34+'Table 27'!G34+'Table 27'!H34+'Table 27'!F34+'Table 27'!I34+'Table 27'!M34+'Table 27'!J34 -> 6719.2336

Sheet Table-2
A1: Table-2: PERCENTAGE SHARE OF ELECTRICITY TRANSACTED BY TRADING LICENSEES, NOVEMBER 2025
A2: Sr.No | B2: Name of the Trading Licensee | C2: % Share in total Volume transacted by Trading Licensees
A3: 1 | B3: PTC India Ltd. | C3: 29.691231
A4: 2 | B4: Powerpulse Trading Solutions Ltd. | C4: 17.88369
A5: 3 | B5: NTPC Vidyut Vyapar Nigam Ltd. | C5: 16.360319
A6: 4 | B6: JSW Power Trading Company Ltd | C6: 9.3178793
A7: 5 | B7: Manikaran Power Ltd. | C7: 7.0477106
A8: 6 | B8: Tata Power Trading Company (P) Ltd. | C8: 5.8234873
A9: 7 | B9: Greenko Energies Pvt Ltd | C9: 3.6610782
A10: 8 | B10: Arunachal Pradesh Power Corporation (P) Ltd | C10: 2.2423511
A11: 9 | B11: GMR Energy Trading Ltd. | C11: 1.5521894
A12: 10 | B12: Energyedge Power Trading Pvt. Ltd. | C12: 1.1073792
A13: 11 | B13: Kreate Energy (I) Pvt. Ltd. | C13: 0.99909053
A14: 12 | B14: Ideal Energy Solution Pvt. Ltd. | C14: 0.94773918
... A39: 37 | B39: Elsa Consultancy | C39: 0.0040730956
A40: TOTAL | C40: 1
A41: Top 5 trading licensees | C41: 0.80300829
A42: Herfindahl-Hirschman Index | C42: 0.16646569
A43: Note:
A44: 1. Volume of electricity transacted by the trading licensees includes bilateral transactions (inter-state & intra-state) and the transactions undertaken through power exchanges.
A45: 2. Volume of electricity transacted by Global Energy Ltd. and Instinct Infra & Power Ltd. is not included.
A46: Source: Information submitted by trading licensees

Sheet Table-3 to 26
A1: Table-3: PRICE OF ELECTRICITY TRANSACTED THROUGH TRADERS, NOVEMBER 2025
A2: Sr.No | B2: Item | C2: Sale Price of Traders (₹/kWh)
A3: 1 | B3: Minimum | C3: 2.02
A4: 2 | B4: Maximum | C4: 9.73
A5: 3 | B5: Weighted Average | C5: 4.78
A6: Source: Information submitted by trading licensees
A8: Table-4: PRICE OF ELECTRICITY TRANSACTED THROUGH TRADERS (TIME-WISE), NOVEMBER 2025
A9: Sr.No | B9: Period of Trade | C9: Sale Price of Traders (₹/kWh)
A10: 1 | B10: RTC | C10: 4.6
A11: 2 | B11: PEAK | C11: 8.12
A12: 3 | B12: Other than Peak | C12: 4.41
A13: Source: Information submitted by trading licensees
A15: Table-5: PRICE OF ELECTRICITY TRANSACTED IN DAY AHEAD MARKET THROUGH POWER EXCHANGES, NOVEMBER 2025
A16: Sr.No | B16: ACP | C16: Price in IEX (₹/kWh) | D16: Price in PXIL ( ₹/kWh) | E16: Price in HPX ( ₹/kWh)
A17: 1 | B17: Minimum | C17: 0.09936 | D17: 6.66 | E17: 9.9991
A18: 2 | B18: Maximum | C18: 10 | D18: 10 | E18: 10
A19: 3 | B19: Weighted Average | C19: 3.2171593 | D19: 9.9864408 | E19: 9.9998062
A20: Source: Information submitted by IEX, PXIL and HPX
A22: Table-6: PRICE OF ELECTRICITY TRANSACTED IN GREEN DAY AHEAD MARKET THROUGH POWER EXCHANGES, NOVEMBER 2025
A23: Sr.No | B23: ACP | C23: Price in IEX (₹/kWh) | D23: Price in PXIL (₹/kWh) | E23: Price in HPX ( ₹/kWh)
A24: 1 | B24: Minimum | C24: 0.69917 | D24: 3 | E24: 2.85
A25: 2 | B25: Maximum | C25: 10 | D25: 3.15 | E25: 3.1
A26: 3 | B26: Weighted Average | C26: 3.2882272 | D26: 3.0185185 | E26: 2.9823967
A27: Source: Information submitted by IEX, PXIL and HPX
A29: Table-7: PRICE OF ELECTRICITY TRANSACTED IN HIGH PRICE DAY AHEAD MARKET THROUGH POWER EXCHANGES, NOVEMBER 2025
A30: Sr.No | B30: ACP | C30: Price in IEX (₹/kWh) | D30: Price in PXIL (₹/kWh) | E30: Price in HPX ( ₹/kWh)
A31: 1 | B31: Minimum | C31: - | D31: - | E31: -
A32: 2 | B32: Maximum | C32: - | D32: - | E32: -
A33: 3 | B33: Weighted Average | C33: - | D33: - | E33: -
A36: Table-8: PRICE OF ELECTRICITY TRANSACTED IN REAL TIME MARKET THROUGH POWER EXCHANGES, NOVEMBER 2025
A37: Sr.No | B37: ACP | C37: Price in IEX (₹/kWh) | D37: Price in PXIL (₹/kWh) | E37: Price in HPX ( ₹/kWh)
A38: 1 | B38: Minimum | C38: 0.01004 | D38: 5.5 | E38: 10
A39: 2 | B39: Maximum | C39: 10 | D39: 10 | E39: 10
A40: 3 | B40: Weighted Average | C40: 3.0362147 | D40: 9.8951881 | E40: 10
A41: Source: Information submitted by IEX, PXIL and HPX
A43: Table-XX: CHARGES FOR DEVIATION UNDER DSM, APRIL 2023
A44: Sr.No | B44: Item | C44: Charge in All India Grid (₹/kWh)
A45: 1 | B45: Minimum | C45: ='Table 28(c)'!K37 -> 1.6143
A46: 2 | B46: Maximum | C46: ='Table 28(c)'!L37 -> 10.999
A47: 3 | B47: Average | C47: ='Table 28(c)'!M37 -> 5.9216127
...

Sheet Table-27
A1: Table-27: VOLUME OF ELECTRICITY SOLD THROUGH BILATERAL, NOVEMBER 2025
A2: Name of the Entity | B2: Volume of Sale (MU) | C2: % of Volume
A3: Uttar Pradesh | B3: 916.57116 | C3: 13.255898
A4: Punjab | B4: 494.20809 | C4: 7.1474777
A5: SEMBCORP ENERGY INDIA LIMITED | B5: 312.3748 | C5: 4.5177162
A6: JSW ENERGY (UTKAL) LIMITED | B6: 254.96793 | C6: 3.6874702
A7: 2X600 VEDANTA LIMITED Chhattisgarh Power Plant | B7: 249.55395 | C7: 3.6091705
A8: Chhattisgarh | B8: 239.80852 | C8: 3.4682274
A9: Odisha | B9: 220.89101 | C9: 3.1946331
A10: SKS Power Generation Chhattisgarh Limited | B10: 220.2959 | C10: 3.1860265
A11: Jindal Power Limited, Stage-2 | B11: 196.88111 | C11: 2.8473904
A12: Adani Power Limited - Raigarh TPP | B12: 188.51784 | C12: 2.7264366
A13: Adani Power Limited-Raipur TPP | B13: 184.39226 | C13: 2.6667705
A14: Jindal India Power Limited | B14: 169.66704 | C14: 2.4538072
... A164: Volume Sold by top 5 Regional Entities | B164: 2227.6759 | C164: 32.217732
A165: Herfindahl-Hirschman Index | C165: 0.038173151

Sheet Table-28
A1: Table-28: VOLUME OF ELECTRICITY PURCHASED THROUGH BILATERAL, NOVEMBER 2025
A2: Name of the Entity | B2: Volume of Purchase (MU) | C2: % of Volume
A3: Gujarat | B3: 1031.4727 | C3: 14.91766
A4: Madhya Pradesh | B4: 798.71089 | C4: 11.551345
A5: Maharashtra | B5: 702.03383 | C5: 10.153155
A6: Tamil Nadu | B6: 611.61802 | C6: 8.8455172
A7: Rajasthan | B7: 397.70923 | C7: 5.7518642
A8: Damodar Valley Corporation | B8: 383.18671 | C8: 5.5418325
A9: Andhra Pradesh | B9: 373.76931 | C9: 5.4056335
A10: Jammu Kashmir | B10: 366.3457 | C10: 5.2982696
A11: Odisha | B11: 334.8229 | C11: 4.8423715
A12: HIMACHAL PRADESH | B12: 268.13384 | C12: 3.877882
A13: Uttarakhand | B13: 265.80661 | C13: 3.8442244
A14: Delhi | B14: 245.0115 | C14: 3.5434755
... A56: Volume Purchased by top 5 Regional Entities | B56: 3541.5447 | C56: 51.219541
A57: Herfindahl-Hirschman Index | C57: 0.075133185

Sheet Table-29
A1: Table-29: VOLUME OF ELECTRICITY SOLD IN DAY AHEAD MARKET THROUGH POWER EXCHANGES, NOVEMBER 2025
A2: Name of the Entity | B2: Volume of Sale (MU) | C2: % of Volume
A3: Odisha | B3: 506.29819 | C3: 8.9684038
A4: Chhattisgarh | B4: 305.50054 | C4: 5.4115387
A5: Uttar Pradesh | B5: 305.17692 | C5: 5.4058061
A6: Bihar | B6: 294.82058 | C6: 5.2223572
A7: NEPAL ELECTRICITY AUTHORITY MUZAFFARPUR | B7: 294.79688 | C7: 5.2219374
A8: Madhya Pradesh | B8: 207.56114 | C8: 3.6766715
A9: Jindal Power Limited, Stage-1 | B9: 198.30727 | C9: 3.5127514
A10: Jaypee Nigrie Super Thermal Power Plant | B10: 198.2095 | C10: 3.5110195
A11: KSK MAHANADI POWER COMPANY LIMITED | B11: 186.91911 | C11: 3.3110251
A12: MAHAN ENERGEN LIMITED U2 | B12: 186.48872 | C12: 3.3034015
A13: Jindal Power Limited, Stage-2 | B13: 168.4565 | C13: 2.9839845
A14: Adani Power Limited-Raipur TPP | B14: 145.02243 | C14: 2.5688809
... A207: Volume sold by top 5 Regional Entities | B207: 1706.5931 | C207: 30.230043
A208: Herfindahl-Hirschman Index | C208: 0.03145022

Sheet Table-30
A1: Table-30: VOLUME OF ELECTRICITY PURCHASED IN DAY AHEAD MARKET THROUGH POWER EXCHANGES, NOVEMBER 2025
A2: Name of the Entity | B2: Volume of Purchase (MU) | C2: % of Volume
A3: Gujarat | B3: 1436.9368 | C3: 25.453437
A4: Karnataka | B4: 496.70915 | C4: 8.7985466
A5: West Bengal | B5: 471.21963 | C5: 8.3470335
A6: Telangana | B6: 450.19115 | C6: 7.9745418
A7: Tamil Nadu | B7: 340.44009 | C7: 6.0304466
A8: Rajasthan | B8: 326.35073 | C8: 5.7808722
A9: Maharashtra | B9: 311.85604 | C9: 5.5241179
A10: Uttar Pradesh | B10: 305.42062 | C10: 5.410123
A11: Andhra Pradesh | B11: 284.77174 | C11: 5.0443552
A12: Delhi | B12: 194.07511 | C12: 3.4377843
A13: Madhya Pradesh | B13: 162.02128 | C13: 2.869993
A14: Uttarakhand | B14: 150.94096 | C14: 2.6737197
... A45: Volume purchased by top 5 Regional Entities | B45: 3195.4968 | C45: 56.604006
A46: Herfindahl-Hirschman Index | C46: 0.10562048

Sheet Table-31
A1: Table-31: VOLUME OF ELECTRICITY SOLD IN GREEN DAY AHEAD MARKET THROUGH POWER EXCHANGES, NOVEMBER 2025
A2: Name of the Entity | B2: Volume of Sale (MU) | C2: % of Volume
A3: Karnataka | B3: 221.69149 | C3: 28.484112
A4: ADANI RENEWABLE ENERGY FIFTY SEVEN LIMITED_PSS13 | B4: 64.985322 | C4: 8.3496629
A5: Adani Renewable Energy Fifty Six Limited_PSS10 | B5: 38.503245 | C5: 4.9471035
A6: ADANI RENEWABLE ENERGY FIFTY SIX LIMITED_PSS9 | B6: 36.24746 | C6: 4.6572682
A7: Juna Renewable Energy Private Limited | B7: 28.442677 | C7: 3.6544678
A8: Maharashtra | B8: 26.20878 | C8: 3.3674447
A9: Madhya Pradesh | B9: 25.826825 | C9: 3.3183691
A10: HIMACHAL PRADESH | B10: 25.11756 | C10: 3.2272389
A11: ADANI RENEWABLE ENERGY FORTY FIVE LIMITED_PSS5 | B11: 22.210395 | C11: 2.8537107
A12: AMBUJA CEMENTS LIMITED_Essel Park RJ | B12: 20.885057 | C12: 2.6834243
A13: Uttar Pradesh | B13: 16.62015 | C13: 2.1354461
A14: Rongnichu HEP | B14: 15.46517 | C14: 1.987048
... A81: Volume sold by top 5 Regional Entities | B81: 389.87019 | C81: 50.092615
A82: Herfindahl-Hirschman Index | C82: 0.10272184

Sheet Table-32
A1: Table-32: VOLUME OF ELECTRICITY PURCHASED IN GREEN DAY AHEAD MARKET THROUGH POWER EXCHANGES, NOVEMBER 2025
A2: Name of the Entity | B2: Volume of Purchase (MU) | C2: % of Volume
A3: Odisha | B3: 117.04773 | C3: 15.03892
A4: Damodar Valley Corporation | B4: 113.67217 | C4: 14.60521
A5: Gujarat | B5: 113.162 | C5: 14.539661
A6: Tamil Nadu | B6: 94.526708 | C6: 12.145299
A7: ArcelorMittal Nippon Steel India Limited | B7: 50.86232 | C7: 6.5350638
A8: Haryana | B8: 33.400995 | C8: 4.2915391
A9: Greenko AP01 IREP Private Limited_Drawee | B9: 29.957545 | C9: 3.8491061
A10: Rajasthan | B10: 29.80833 | C10: 3.8299342
A11: Telangana | B11: 29.434148 | C11: 3.7818572
A12: Andhra Pradesh | B12: 28.508692 | C12: 3.6629498
A13: Maharashtra | B13: 23.741615 | C13: 3.0504501
A14: Uttar Pradesh | B14: 23.207828 | C14: 2.9818662
... A35: Volume purchased by top 5 Regional Entities | B35: 489.27092 | C35: 62.864154
A36: Herfindahl-Hirschman Index | C36: 0.095392686

Sheet Table-33
A1: Table-33: VOLUME OF ELECTRICITY SOLD IN HIGH PRICE DAY AHEAD MARKET THROUGH POWER EXCHANGES, NOVEMBER 2025
A2: Name of the Entity | B2: Volume of Sale (MU) | C2: % of Volume
A3: No trade | B3: 0 | C3: 0
A4: Total | B4: 0 | C4: 0
A5: Volume sold by top Regional Entities | B5: 0 | C5: -
A6: Herfindahl-Hirschman Index | C6: 0

Sheet Table-34
A1: Table-34: VOLUME OF ELECTRICITY PURCHASED IN HIGH PRICE DAY AHEAD MARKET THROUGH POWER EXCHANGES, NOVEMBER 2025
A2: Name of the Entity | B2: Volume of Purchase (MU) | C2: % of Volume
A3: No trade | B3: 0 | C3: 0
A4: TOTAL | B4: 0 | C4: 0
A5: Volume purchased by top Regional Entities | B5: 0 | C5: -
A6: Herfindahl-Hirschman Index | C6: 0

Sheet Table-35
A1: Table-35: VOLUME OF ELECTRICITY SOLD IN REAL TIME MARKET THROUGH POWER EXCHANGES, NOVEMBER 2025
A2: Name of the Entity | B2: Volume of Sale (MU) | C2: % of Volume
A3: Bihar | B3: 1002.2635 | C3: 23.598112
A4: Odisha | B4: 285.75329 | C4: 6.7280096
A5: Uttar Pradesh | B5: 261.6336 | C5: 6.1601158
A6: Jharkhand | B6: 253.04661 | C6: 5.9579367
A7: Madhya Pradesh | B7: 166.19555 | C7: 3.9130441
A8: NEPAL ELECTRICITY AUTHORITY MUZAFFARPUR | B8: 134.98193 | C8: 3.1781251
A9: Tamil Nadu | B9: 133.89861 | C9: 3.1526184
A10: Assam | B10: 111.67626 | C10: 2.6293974
A11: 2X600 VEDANTA LIMITED Chhattisgarh Power Plant | B11: 79.99602 | C11: 1.8834918
A12: Haryana | B12: 79.146092 | C12: 1.8634804
A13: Telangana | B13: 65.926433 | C13: 1.5522259
A14: Sasan Power Limited | B14: 54.728855 | C14: 1.288581
... A251: Volume sold by top 5 Regional Entities | B251: 1968.8925 | C251: 46.357218
A252: Herfindahl-Hirschman Index | C252: 0.074927825

Sheet Table-36
A1: Table-36: VOLUME OF ELECTRICITY PURCHASED IN REAL TIME MARKET THROUGH POWER EXCHANGES, NOVEMBER 2025
A2: Name of the Entity | B2: Volume of Purchase (MU) | C2: % of Volume
A3: Punjab | B3: 727.14151 | C3: 17.120426
A4: Karnataka | B4: 465.90139 | C4: 10.969571
A5: Telangana | B5: 370.42169 | C5: 8.721517
A6: Gujarat | B6: 297.86946 | C6: 7.0132868
A7: Rajasthan | B7: 289.60799 | C7: 6.8187718
A8: Maharashtra | B8: 277.19943 | C8: 6.5266143
A9: Uttar Pradesh | B9: 259.27893 | C9: 6.1046793
A10: Tamil Nadu | B10: 195.95513 | C10: 4.6137307
A11: West Bengal | B11: 156.18575 | C11: 3.6773675
A12: Andhra Pradesh | B12: 145.17061 | C12: 3.4180178
A13: Odisha | B13: 132.69025 | C13: 3.1241698
A14: Damodar Valley Corporation | B14: 109.9501 | C14: 2.5887567
... A73: Volume purchased by top 5 Regional Entities | B73: 2150.942 | C73: 50.643572
A74: Herfindahl-Hirschman Index | C74: 0.075241062

Sheet Table-37
A1: Table-37: TOTAL VOLUME OF NET SHORT-TERM TRANSACTIONS (REGIONAL ENTITY-WISE), NOVEMBER 2025
A2: S. No. | B2: Name of the Entity | C2: Total volume of net short-term transactions of electricity*
A3: 1 | B3: Gujarat | C3: 2855.8842
A4: 2 | B4: Maharashtra | C4: 1195.1508
A5: 3 | B5: Tamil Nadu | C5: 987.22338
A6: 4 | B6: Rajasthan | C6: 886.41102
A7: 5 | B7: Karnataka | C7: 768.02006
A8: 6 | B8: Andhra Pradesh | C8: 766.62893
A9: 7 | B9: Telangana | C9: 736.4511
A10: 8 | B10: Damodar Valley Corporation | C10: 644.36993
A11: 9 | B11: Madhya Pradesh | C11: 509.44813
A12: 10 | B12: West Bengal | C12: 508.78702
A13: 11 | B13: Uttarakhand | C13: 457.58403
A14: 12 | B14: Delhi | C14: 434.19775
... A323: 321 | B323: Bihar | C323: -1230.1164
A324: * Total volume of net short-term transactions of electricity includes net of transactions of electricity through bilateral and power exchanges
A325: (-) indicates sale and (+) indicates purchase

Sheet Table-38
A1: Table-38: DETAILS OF CONGESTION IN POWER EXCHANGES, NOVEMBER 2025
B2: Details of Congestion | C2: Day Ahead Market | F2: Green Day Ahead Market | I2: High Price Day Ahead Market | L2: Real Time Market
C3: IEX | D3: PXIL | E3: HPX | F3: IEX | G3: PXIL | H3: HPX | I3: IEX | J3: PXIL | K3: HPX | L3: IEX | M3: PXIL | N3: HPX
A4: A | B4: Unconstrained Cleared Volume (MUs) | C4: 5625.923 | D4: 15.205 | E4: 4.22625 | F4: 777.486 | G4: 0.2684 | H4: 0.5445 | I4: 0 | J4: 0 | K4: 0 | L4: 4232.987 | M4: 14.0637 | N4: 0.16875
A5: B | B5: Actual Cleared Volume and hence scheduled (MUs) | C5: 5625.9233 | D5: 15.205 | E5: 4.22625 | F5: 777.48585 | G5: 0.2684 | H5: 0.5445 | I5: 0 | J5: 0 | K5: 0 | L5: 4232.9838 | M5: 14.06375 | N5: 0.16875
A6: C | B6: Volume of electricity that could not be cleared and hence not scheduled because of congestion (MUs) * | C6: -0.0002925 | D6: 0 | E6: 0 | F6: 0.0001475 | G6: 0 | H6: 0 | I6: 0 | J6: 0 | K6: 0 | L6: 0.0031875 | M6: -5e-05 | N6: 0
A7: D | B7: Volume of electricity that could not be cleared and hence not scheduled because of reasons other than congestion (MUs) | C7: 0 | D7: 0 | E7: 0 | F7: 0 | G7: 0 | H7: 0 | I7: 0 | J7: 0 | K7: 0 | L7: 0 | M7: 0 | N7: 0
A8: E | B8: Volume of electricity that could not be cleared and hence not scheduled as % to Unconstrained Cleared Volume | C8: -5.1991469e-08 | D8: 0 | E8: 0 | F8: 1.8971403e-07 | G8: 0 | H8: 0 | I8: 0 | J8: 0 | K8: 0 | L8: 7.5301436e-07 | M8: -3.5552522e-06 | N8: 0
A9: F | B9: Percentage of the time congestion occurred during the month (Number of hours congestion occurred/Total number of hours in the month) | C9: 0 | D9: 0 | E9: 0 | F9: 0 | G9: 0 | H9: 0 | I9: 0 | J9: 0 | K9: 0 | L9: 6.944e-06 | M9: 0 | N9: 0
A10: G | B10: Congestion occurrence (%) time block wise
B11: 0.00 - 6.00 hours | C11: 0 | D11: 0 | E11: 0 | F11: 0 | G11: 0 | H11: 0 | I11: 0 | J11: 0 | K11: 0 | L11: 0 | M11: 0 | N11: 0
B12: 6.00 - 12.00 hours | C12: 0 | D12: 0 | E12: 0 | F12: 0 | G12: 0 | H12: 0 | I12: 0 | J12: 0 | K12: 0 | L12: 0 | M12: 0 | N12: 0
B13: 12.00 - 18.00 hours | C13: 0 | D13: 0 | E13: 0 | F13: 0 | G13: 0 | H13: 0 | I13: 0 | J13: 0 | K13: 0 | L13: 0 | M13: 0 | N13: 0
B14: 18.00 - 24.00 hours | C14: 0 | D14: 0 | E14: 0 | F14: 0 | G14: 0 | H14: 0 | I14: 0 | J14: 0 | K14: 0 | L14: 1 | M14: 0 | N14: 0
A15: * This power would have been scheduled had there been no congestion
A16: Source: IEX, PXIL, HPX & NLDC

Sheet Table 16B
A1: Table-16B: DETAILS OF CONGESTION IN RTM IN POWER EXCHANGES (REAL TIME MARKET), JUNE 2020 | K1: Check
B2: Details of Congestion | C2: IEX | D2: PXIL | H2: Cleared Volume (ACV) in MUs | I2: Unconstrained MCV in MUs | K2: IEX | L2: PXIL
A3: A | B3: Unconstrained Cleared Volume (MUs) | C3: =I3 -> 515.46874 | D3: =I4 -> 1.862675 | G3: IEX | H3: 515.46502 | I3: 515.46874 | K3: =I3-C5-C6 -> 515.46502 | L3: =I4-D5-D6 -> 1.862675
A4: B | B4: Actual Cleared Volume and hence scheduled (MUs) | C4: =H5 -> 2152.4548 | D4: =H6 -> 0 | E4: <-- NLDC | G4: PXIL | H4: 1.862675 | I4: 1.862675 | K4: =IF(ROUND(K3,2)=ROUND(C4,2),"Matched","Not Matching") -> Not Matching | L4: =IF(ROUND(L3,2)=ROUND(D4,2),"Matched","Not Matching") -> Not Matching
A5: C | B5: Volume of electricity that could not be cleared and hence not scheduled because of congestion (MUs) * | C5: =I3-H3 -> 0.00372 | D5: =I4-H4 -> 0 | E5: <-- IEX & PXIL congestion | G5: NLDC -IEX | H5: ='Table 27'!K34 -> 2152.4548
A6: D | B6: Volume of electricity that could not be cleared and hence not scheduled because of reasons other than congestion (MUs) | C6: 0 | D6: 0 | E6: <-- IEX & PXIL curtailment etc | G6: NLDC - PXIL | H6: ='Table 27'!L34 -> 0
A7: E | B7: Volume of electricity that could not be cleared as % to Unconstrained Cleared Volume | C7: 0.00069444444 | D7: 0
A8: F | B8: Percentage of the time congestion occurred during the month (Number of hours congestion occurred/Total number of hours in the month) | C8: 0 | D8: 0
A9: G | B9: Congestion occurrence (%) time block wise
B10: 0.00 - 6.00 hours | C10: 1 | D10: 0
B11: 6.00 - 12.00 hours | C11: 0 | D11: 0
B12: 12.00 - 18.00 hours | C12: 0 | D12: 0
B13: 18.00 - 24.00 hours | C13: 0 | D13: 0
A14: *This power would have been scheduled had there been no congestion.
A15: Source: IEX & PXIL& NLDC

Sheet Table 27
A1: Table-27: VOLUME OF SHORT-TERM TRANSACTIONS OF ELECTRICITY IN INDIA (DAY-WISE) (MUs), APRIL 2023 | Q1: NLDC
A2: Date | B2: Bilateral | D2: Day Ahead Market# | G2: Green Day Ahead Market# | J2: High Price Day Ahead Market | K2: Real Time Market# | N2: Deviation Settlement (Over Drawl+Under Generation) | O2: Total Electricity Generation (MU) as given at CEA Website*
B3: Through Traders and PXs** | C3: Direct | D3: IEX | E3: PXIL | F3: HPX | G3: IEX | H3: PXIL | I3: HPX | J3: IEX | K3: IEX | L3: PXIL | M3: HPX
A4: 45017 | B4: 203.88992 | C4: 80.553645 | D4: 167.20629 | E4: 0 | F4: 0 | G4: 4.5506175 | H4: 0 | I4: 0 | J4: 0 | K4: 79.49152 | L4: 0 | M4: 0 | N4: 66.758468 | O4: 3653.65
A5: 45018 | B5: 192.98302 | C5: 96.136993 | D5: 153.66063 | E5: 0 | F5: 0 | G5: 5.14725 | H5: 0 | I5: 0 | J5: 0 | K5: 62.098897 | L5: 0 | M5: 0 | N5: 67.727354 | O5: 3553.7
A6: 45019 | B6: 198.49889 | C6: 97.751892 | D6: 161.04127 | E6: 0 | F6: 0 | G6: 5.06565 | H6: 0 | I6: 0 | J6: 0 | K6: 67.903638 | L6: 0 | M6: 0 | N6: 61.735427 | O6: 3771.8
A7: 45020 | B7: 198.27072 | C7: 95.766683 | D7: 155.33243 | E7: 0 | F7: 0 | G7: 4.9521525 | H7: 0 | I7: 0 | J7: 0 | K7: 60.96739 | L7: 0 | M7: 0 | N7: 60.610065 | O7: 3925.54
A8: 45021 | B8: 207.54685 | C8: 93.78512 | D8: 146.94868 | E8: 0 | F8: 0 | G8: 5.937925 | H8: 0 | I8: 0 | J8: 0 | K8: 63.232707 | L8: 0 | M8: 0 | N8: 61.330355 | O8: 3979.8
A9: 45022 | B9: 210.46666 | C9: 99.711912 | D9: 158.72815 | E9: 0 | F9: 0 | G9: 4.601935 | H9: 0 | I9: 0 | J9: 0 | K9: 75.911145 | L9: 0 | M9: 0 | N9: 60.75623 | O9: 4010.79
A10: 45023 | B10: 207.75244 | C10: 100.11164 | D10: 165.2024 | E10: 0 | F10: 0 | G10: 3.45755 | H10: 0 | I10: 0 | J10: 0 | K10: 72.080292 | L10: 0 | M10: 0 | N10: 62.139508 | O10: 4039.85
A11: 45024 | B11: 195.96714 | C11: 97.950525 | D11: 163.45984 | E11: 0 | F11: 0 | G11: 5.4531225 | H11: 0 | I11: 0 | J11: 0 | K11: 78.111345 | L11: 0 | M11: 0 | N11: 62.027723 | O11: 3983.35
A12: 45025 | B12: 176.54017 | C12: 96.943275 | D12: 188.88451 | E12: 0 | F12: 0 | G12: 4.6343175 | H12: 0 | I12: 0 | J12: 0 | K12: 77.648618 | L12: 0 | M12: 0 | N12: 63.451872 | O12: 3914.2
A13: 45026 | B13: 197.34097 | C13: 97.55345 | D13: 190.83544 | E13: 0 | F13: 0 | G13: 4.401175 | H13: 0 | I13: 0 | J13: 0 | K13: 71.603418 | L13: 0 | M13: 0 | N13: 65.119509 | O13: 4111.57
A14: 45027 | B14: 230.17963 | C14: 90.719855 | D14: 180.97347 | E14: 0 | F14: 0 | G14: 3.9927025 | H14: 0 | I14: 0 | J14: 0 | K14: 66.914065 | L14: 0 | M14: 0 | N14: 72.785022 | O14: 4286.99
A15: 45028 | B15: 232.319 | C15: 93.15531 | D15: 174.34655 | E15: 0 | F15: 0 | G15: 6.045805 | H15: 0 | I15: 0 | J15: 0 | K15: 67.585882 | L15: 0 | M15: 0 | N15: 64.242466 | O15: 4308.39
... A33: 45046 | B33: 182.28411 | C33: 90.68643 | D33: 115.47826 | E33: 0 | F33: 0 | G33: 5.84415 | H33: 0 | I33: 0 | J33: 0 | K33: 82.902525 | L33: 0 | M33: 0 | N33: 83.403379 | O33: 3692.71
A34: Total | B34: =SUM(B4:B33) -> 6716.4815 | C34: =SUM(C4:C33) -> 2886.9476 | D34: =SUM(D4:D33) -> 4408.9276 | E34: =SUM(E4:E33) -> 0 | F34: =SUM(F4:F33) -> 0 | G34: =SUM(G4:G33) -> 157.55123 | H34: =SUM(H4:H33) -> 0 | I34: =SUM(I4:I33) -> 0 | ... O34: =SUM(O4:O33) -> 123650.15
A35: Source: NLDC
A36: * Gross Electricity Generation excluding electricity generation from renewables and captive power plants.
A37: ** The volume of bilateral through PXs represents the volume through term-ahead contracts.
A38: # Scheduled volume of all the bid areas.

Sheet Table-39
A1: Table-39: VOLUME OF SHORT-TERM TRANSACTIONS OF ELECTRICITY IN INDIA (DAY-WISE) (MU), NOVEMBER 2025
A2: Date | B2: Bilateral** (Traders, PX, Direct) | C2: Day Ahead Market# | F2: Green Day Ahead Market# | I2: High Price Day Ahead Market | L2: Real Time Market# | O2: Total Electricity Generation (MU) as given at CEA Website*
C3: IEX | D3: PXIL | E3: HPX | F3: IEX | G3: PXIL | H3: HPX | I3: IEX | J3: PXIL | K3: HPX | L3: IEX | M3: PXIL | N3: HPX
A4: 45962 | B4: 233.54205 | C4: 149.37147 | D4: 0 | E4: 0 | F4: 27.72707 | G4: 0.1155 | H4: 0 | I4: 0 | J4: 0 | K4: 0 | L4: 171.75579 | M4: 0.5625 | N4: 0 | O4: 3627.13
A5: 45963 | B5: 213.25916 | C5: 176.73454 | D5: 0 | E5: 0 | F5: 25.636457 | G5: 0.099 | H5: 0 | I5: 0 | J5: 0 | K5: 0 | L5: 151.62554 | M5: 0 | N5: 0 | O5: 3543.33
A6: 45964 | B6: 214.9399 | C6: 204.21963 | D6: 0.7705 | E6: 0.18375 | F6: 26.536948 | G6: 0.0539 | H6: 0 | I6: 0 | J6: 0 | K6: 0 | L6: 129.27003 | M6: 0 | N6: 0 | O6: 3627.47
A7: 45965 | B7: 207.74836 | C7: 185.7841 | D7: 1.096 | E7: 0.469 | F7: 23.347555 | G7: 0 | H7: 0.0649 | I7: 0 | J7: 0 | K7: 0 | L7: 120.89356 | M7: 0 | N7: 0 | O7: 3641.63
A8: 45966 | B8: 211.97398 | C8: 189.6082 | D8: 1.3095 | E8: 0.3875 | F8: 25.353168 | G8: 0 | H8: 0.0425 | I8: 0 | J8: 0 | K8: 0 | L8: 132.38771 | M8: 0 | N8: 0 | O8: 3739.35
A9: 45967 | B9: 225.04106 | C9: 198.85297 | D9: 0.4995 | E9: 0.325 | F9: 25.768518 | G9: 0 | H9: 0.0425 | I9: 0 | J9: 0 | K9: 0 | L9: 126.77966 | M9: 0.09 | N9: 0 | O9: 3719.48
A10: 45968 | B10: 217.46127 | C10: 204.99063 | D10: 1.525 | E10: 0 | F10: 26.068842 | G10: 0 | H10: 0.04 | I10: 0 | J10: 0 | K10: 0 | L10: 126.56518 | M10: 0.225 | N10: 0 | O10: 3718.61
A11: 45969 | B11: 215.92418 | C11: 200.1938 | D11: 1.64125 | E11: 0 | F11: 26.667172 | G11: 0 | H11: 0 | I11: 0 | J11: 0 | K11: 0 | L11: 131.91925 | M11: 0.1 | N11: 0 | O11: 3644.69
A12: 45970 | B12: 193.74066 | C12: 182.98348 | D12: 0 | E12: 0 | F12: 26.15848 | G12: 0 | H12: 0 | I12: 0 | J12: 0 | K12: 0 | L12: 142.41598 | M12: 0 | N12: 0 | O12: 3492.22
A13: 45971 | B13: 216.05664 | C13: 185.77227 | D13: 0.36475 | E13: 0.175 | F13: 28.838033 | G13: 0 | H13: 0 | I13: 0 | J13: 0 | K13: 0 | L13: 146.75626 | M13: 0.85 | N13: 0 | O13: 3655.9
A14: 45972 | B14: 235.03167 | C14: 192.27482 | D14: 0.1925 | E14: 0 | F14: 26.052978 | G14: 0 | H14: 0 | I14: 0 | J14: 0 | K14: 0 | L14: 141.98797 | M14: 1.375 | N14: 0 | O14: 3758.85
A15: 45973 | B15: 248.19743 | C15: 179.66272 | D15: 0.55675 | E15: 0.27 | F15: 29.505775 | G15: 0 | H15: 0 | I15: 0 | J15: 0 | K15: 0 | L15: 145.48604 | M15: 1.05 | N15: 0 | O15: 3734.07
... A33: 45991 | B33: 207.9432 | C33: 203.07394 | D33: 0 | E33: 0 | F33: 23.190403 | G33: 0 | H33: 0 | I33: 0 | J33: 0 | K33: 0 | L33: 155.87334 | M33: 0 | N33: 0 | O33: 3770.9
A34: Total | B34: 6914.4405 | C34: 5625.9233 | D34: 15.205 | E34: 4.22625 | F34: 777.48585 | G34: 0.2684 | H34: 0.5445 | I34: 0 | J34: 0 | K34: 0 | L34: 4232.9838 | M34: 14.06375 | N34: 0.16875 | O34: 111649.48
A35: Source: NLDC
A36: * As available on CEA Website. Gross Electricity Generation excluding electricity generation from renewables and captive power plants.
A37: # Scheduled volume of all the bid areas.
A38: Note: ** With change in the regime on implemtation of GNA Regulations from 1st October 2023, the volume here are not strictly comparable to the volumes in previous months. Discrepancies identified in the data provided by NLDC prompted further validation. The volume under GNA is as per 'Acceptance' and not 'Scheduled'. Thus, the volume herein and in August 2024 issue are subject to revisions. The Commission has directed NLDC to make necessary provisions in scheduling softwares for GNA and T-GNA. Readers are advised to interpret the data with caution, considering the ongoing adjustments.Furthermore, any revisions or clarifications on GNA and/or T-GNA volumes will be communicated in subsequent reports.

Sheet Table-40(a)
A1: Table-40(a) : PRICE OF DAY AHEAD TRANSACTIONS OF ELECTRICITY (DAY-WISE)(₹/kWh), NOVEMBER 2025
A2: Market Segment → | B2: Day ahead market of IEX | E2: Day ahead market of PXIL | H2: Day ahead market of HPX
A3: Date | B3: Minimum ACP | C3: Maximum ACP | D3: Weighted Average Price* | E3: Minimum ACP | F3: Maximum ACP | G3: Weighted Average Price* | H3: Minimum ACP | I3: Maximum ACP | J3: Weighted Average Price*
A6: 45962 | B6: 1.38441 | C6: 10 | D6: 3.734475 | E6: - | F6: - | G6: - | H6: - | I6: - | J6: -
A7: 45963 | B7: 0.29977 | C7: 10 | D7: 3.116086 | E7: - | F7: - | G7: - | H7: - | I7: - | J7: -
A8: 45964 | B8: 1.64929 | C8: 10 | D8: 3.804694 | E8: 10 | F8: 10 | G8: 10 | H8: 9.99979 | I8: 9.99987 | J8: 9.9998163
A9: 45965 | B9: 1.00597 | C9: 10 | D9: 3.386071 | E9: 10 | F9: 10 | G9: 10 | H9: 9.9991 | I9: 10 | J9: 9.9999947
A10: 45966 | B10: 0.99947 | C10: 10 | D10: 3.384314 | E10: 10 | F10: 10 | G10: 10 | H10: 9.99943 | I10: 10 | J10: 9.9998665
A11: 45967 | B11: 1.0748 | C11: 10 | D11: 3.643108 | E11: 10 | F11: 10 | G11: 10 | H11: 9.9998 | I11: 10 | J11: 9.9999385
A12: 45968 | B12: 0.65587 | C12: 10 | D12: 3.322903 | E12: 10 | F12: 10 | G12: 10 | H12: - | I12: - | J12: -
A13: 45969 | B13: 0.49909 | C13: 10 | D13: 3.127054 | E13: 10 | F13: 10 | G13: 10 | H13: - | I13: - | J13: -
A14: 45970 | B14: 0.09936 | C14: 4.91985 | D14: 2.339031 | E14: - | F14: - | G14: - | H14: - | I14: - | J14: -
A15: 45971 | B15: 0.99942 | C15: 10 | D15: 3.391743 | E15: 10 | F15: 10 | G15: 10 | H15: 9.99963 | I15: 10 | J15: 9.9999471
A16: 45972 | B16: 0.49952 | C16: 10 | D16: 3.471654 | E16: 10 | F16: 10 | G16: 10 | H16: - | I16: - | J16: -
A17: 45973 | B17: 1.50026 | C17: 10 | D17: 3.351887 | E17: 10 | F17: 10 | G17: 10 | H17: 10 | I17: 10 | J17: 10
A18: 45974 | B18: 1.21259 | C18: 10 | D18: 2.674741 | E18: - | F18: - | G18: - | H18: - | I18: - | J18: -
A19: 45975 | B19: 1.39973 | C19: 10 | D19: 3.041914 | E19: 10 | F19: 10 | G19: 10 | H19: 9.99967 | I19: 10 | J19: 9.999978
A20: 45976 | B20: 0.49992 | C20: 10 | D20: 2.744729 | E20: 10 | F20: 10 | G20: 10 | H20: - | I20: - | J20: -
A21: 45977 | B21: 0.20053 | C21: 3.74991 | D21: 1.722941 | E21: - | F21: - | G21: - | H21: - | I21: - | J21: -
A22: 45978 | B22: 1.10684 | C22: 10 | D22: 3.030889 | E22: 10 | F22: 10 | G22: 10 | H22: 10 | I22: 10 | J22: 10
A23: 45979 | B23: 1.21287 | C23: 10 | D23: 3.044253 | E23: 10 | F23: 10 | G23: 10 | H23: 9.99976 | I23: 10 | J23: 9.9999598
A24: 45980 | B24: 1.3409 | C24: 10 | D24: 3.239922 | E24: 10 | F24: 10 | G24: 10 | H24: 9.9995 | I24: 10 | J24: 9.9995789
A25: 45981 | B25: 1.44295 | C25: 10 | D25: 3.090909 | E25: 10 | F25: 10 | G25: 10 | H25: - | I25: - | J25: -
A26: 45982 | B26: 1.41492 | C26: 10 | D26: 3.152903 | E26: 10 | F26: 10 | G26: 10 | H26: 9.9995 | I26: 10 | J26: 9.999844
A27: 45983 | B27: 1.46263 | C27: 10 | D27: 3.301417 | E27: 10 | F27: 10 | G27: 10 | H27: - | I27: - | J27: -
A28: 45984 | B28: 1.55153 | C28: 9.99935 | D28: 2.868866 | E28: - | F28: - | G28: - | H28: - | I28: - | J28: -
A29: 45985 | B29: 1.55054 | C29: 10 | D29: 3.32278 | E29: 10 | F29: 10 | G29: 10 | H29: - | I29: - | J29: -
A30: 45986 | B30: 1.79929 | C30: 10 | D30: 3.501412 | E30: 10 | F30: 10 | G30: 10 | H30: - | I30: - | J30: -
A31: 45987 | B31: 1.88031 | C31: 10 | D31: 3.448021 | E31: 8.33 | F31: 10 | G31: 9.97 | H31: 9.99921 | I31: 9.99921 | J31: 9.99921
A32: 45988 | B32: 1.80089 | C32: 10 | D32: 3.606731 | E32: 10 | F32: 10 | G32: 10 | H32: 9.99927 | I32: 9.99927 | J32: 9.99927
A33: 45989 | B33: 1.93071 | C33: 10 | D33: 3.687986 | E33: 6.66 | F33: 10 | G33: 9.67 | H33: - | I33: - | J33: -
A34: 45990 | B34: 2.03038 | C34: 10 | D34: 3.75691 | E34: 10 | F34: 10 | G34: 10 | H34: 9.99945 | I34: 10 | J34: 9.9999389
A35: 45991 | B35: 1.36028 | C35: 4.20037 | D35: 2.674059 | E35: - | F35: - | G35: - | H35: - | I35: - | J35: -
B36: 0.09936 | C36: 10 | D36: 3.2171593 | E36: 6.66 | F36: 10 | G36: 9.9864408 | H36: 9.9991 | I36: 10 | J36: 9.9998062
A37: Source: IEX, PXIL and HPX
A38: * Weighted average price computed based on Area Clearing Volume (ACV) and Area Clearing Price (ACP) for each hour of the day. Here, ACV and ACP represent the scheduled volume and weighted average price of all the bid areas of power exchanges.
A39: # Maximum/Minimum in the month

Sheet Table-40(b)
A1: Table-40(b) : PRICE OF GREEN DAY AHEAD TRANSACTIONS OF ELECTRICITY (DAY-WISE)(₹/kWh), NOVEMBER 2025
A2: Market Segment → | B2: Green Day ahead market of IEX | E2: Green Day ahead market of PXIL | H2: Green Day ahead market of HPX
A3: Date | B3: Minimum ACP | C3: Maximum ACP | D3: Weighted Average Price* | E3: Minimum ACP | F3: Maximum ACP | G3: Weighted Average Price* | H3: Minimum ACP | I3: Maximum ACP | J3: Weighted Average Price*
A6: 45962 | B6: 1.2002 | C6: 6.00059 | D6: 2.553816 | E6: 3 | F6: 3 | G6: 3 | H6: - | I6: - | J6: -
A7: 45963 | B7: 0.93096 | C7: 7.50098 | D7: 2.891267 | E7: 3 | F7: 3 | G7: 3 | H7: - | I7: - | J7: -
A8: 45964 | B8: 1.40054 | C8: 10 | D8: 3.467499 | E8: 3 | F8: 3.15 | G8: 3.1 | H8: - | I8: - | J8: -
A9: 45965 | B9: 1.8487 | C9: 10 | D9: 3.577036 | E9: - | F9: - | G9: - | H9: 3.1 | I9: 3.1 | J9: 3.1
A10: 45966 | B10: 1.64878 | C10: 10 | D10: 3.418251 | E10: - | F10: - | G10: - | H10: 3.05 | I10: 3.05 | J10: 3.05
A11: 45967 | B11: 1.64879 | C11: 10 | D11: 3.509439 | E11: - | F11: - | G11: - | H11: 3.1 | I11: 3.1 | J11: 3.1
A12: 45968 | B12: 1.64882 | C12: 10 | D12: 3.298209 | E12: - | F12: - | G12: - | H12: 2.9 | I12: 2.9 | J12: 2.9
A13: 45969 | B13: 1.64875 | C13: 10 | D13: 3.202346 | E13: - | F13: - | G13: - | H13: - | I13: - | J13: -
A14: 45970 | B14: 0.69989 | C14: 6.00069 | D14: 2.367233 | E14: - | F14: - | G14: - | H14: - | I14: - | J14: -
A15: 45971 | B15: 1.49967 | C15: 10 | D15: 2.883969 | E15: - | F15: - | G15: - | H15: - | I15: - | J15: -
A16: 45972 | B16: 1.69951 | C16: 10 | D16: 3.1874 | E16: - | F16: - | G16: - | H16: - | I16: - | J16: -
A17: 45973 | B17: 1.79934 | C17: 10 | D17: 3.16754 | E17: - | F17: - | G17: - | H17: - | I17: - | J17: -
A18: 45974 | B18: 1.80065 | C18: 10 | D18: 3.005324 | E18: - | F18: - | G18: - | H18: - | I18: - | J18: -
A19: 45975 | B19: 1.80081 | C19: 10 | D19: 3.167606 | E19: - | F19: - | G19: - | H19: - | I19: - | J19: -
A20: 45976 | B20: 1.39941 | C20: 10 | D20: 3.267401 | E20: - | F20: - | G20: - | H20: - | I20: - | J20: -
A21: 45977 | B21: 0.69917 | C21: 5.00044 | D21: 2.545846 | E21: - | F21: - | G21: - | H21: - | I21: - | J21: -
A22: 45978 | B22: 0.99849 | C22: 10 | D22: 3.040969 | E22: - | F22: - | G22: - | H22: 2.85 | I22: 2.85 | J22: 2.85
A23: 45979 | B23: 1.30631 | C23: 10 | D23: 3.540047 | E23: - | F23: - | G23: - | H23: 2.95 | I23: 2.95 | J23: 2.95
A24: 45980 | B24: 1.5052 | C24: 10 | D24: 3.597251 | E24: - | F24: - | G24: - | H24: 2.975 | I24: 2.975 | J24: 2.975
A25: 45981 | B25: 1.50415 | C25: 10 | D25: 3.511229 | E25: - | F25: - | G25: - | H25: 2.95 | I25: 2.95 | J25: 2.95
A26: 45982 | B26: 1.60311 | C26: 10 | D26: 3.596523 | E26: - | F26: - | G26: - | H26: 3.025 | I26: 3.025 | J26: 3.025
A27: 45983 | B27: 1.41413 | C27: 10 | D27: 3.443238 | E27: - | F27: - | G27: - | H27: 2.95 | I27: 2.95 | J27: 2.95
A28: 45984 | B28: 0.69977 | C28: 5.00051 | D28: 2.211485 | E28: - | F28: - | G28: - | H28: 2.95 | I28: 2.95 | J28: 2.95
A29: 45985 | B29: 1.7512 | C29: 10 | D29: 3.671275 | E29: - | F29: - | G29: - | H29: 2.95 | I29: 2.95 | J29: 2.95
A30: 45986 | B30: 1.95019 | C30: 10 | D30: 3.935385 | E30: - | F30: - | G30: - | H30: - | I30: - | J30: -
A31: 45987 | B31: 2.30058 | C31: 10 | D31: 4.122685 | E31: - | F31: - | G31: - | H31: - | I31: - | J31: -
A32: 45988 | B32: 2.30014 | C32: 10 | D32: 3.993526 | E32: - | F32: - | G32: - | H32: - | I32: - | J32: -
A33: 45989 | B33: 2.29942 | C33: 10 | D33: 3.841305 | E33: - | F33: - | G33: - | H33: - | I33: - | J33: -
A34: 45990 | B34: 1.55172 | C34: 10 | D34: 3.485002 | E34: - | F34: - | G34: - | H34: - | I34: - | J34: -
A35: 45991 | B35: 1.79012 | C35: 6.50019 | D35: 3.571379 | E35: - | F35: - | G35: - | H35: - | I35: - | J35: -
B36: 0.69917 | C36: 10 | D36: 3.2882272 | E36: 3 | F36: 3.15 | G36: 3.0185185 | H36: 2.85 | I36: 3.1 | J36: 2.9823967
A37: Source: IEX, PXIL and HPX
A38: * Weighted average price computed based on Area Clearing Volume (ACV) and Area Clearing Price (ACP) for each hour of the day. Here, ACV and ACP represent the scheduled volume and weighted average price of all the bid areas of power exchanges.
A39: # Maximum/Minimum in the month

Sheet Table 28(c)
S1: IEX, PXIL, NLDC
A2: Table-28(c) : PRICE OF REAL TIME TRANSACTIONS AND DSM (DAY-WISE) (₹/kWh), APRIL 2023
A3: Market Segment | B3: Real Time market of IEX | E3: Real Time market of PXIL | H3: Real Time market of HPX | K3: Under Drawl/Over Drawl from the Grid (DSM)**
A4: Date | B4: Minimum ACP | C4: Maximum ACP | D4: Weighted Average Price* | E4: Minimum ACP | F4: Maximum ACP | G4: Weighted Average Price* | H4: Minimum ACP | I4: Maximum ACP | J4: Weighted Average Price* | K4: All India Grid
K5: Minimum Price | L5: Maximum Price | M5: Average Price
A7: 45017 | B7: 1.91602 | C7: 5.49992 | D7: 3.031343 | E7: - | F7: - | G7: - | H7: - | I7: - | J7: - | K7: 2.2246 | L7: 10.999 | M7: 4.3784244
A8: 45018 | B8: 1.44959 | C8: 6.25074 | D8: 3.353462 | E8: - | F8: - | G8: - | H8: - | I8: - | J8: - | K8: 2.0093 | L8: 6.2507 | M8: 3.7857567
A9: 45019 | B9: 2.35991 | C9: 7.35927 | D9: 4.011507 | E9: - | F9: - | G9: - | H9: - | I9: - | J9: - | K9: 2.4502 | L9: 7.3593 | M9: 4.453327
A10: 45020 | B10: 2.39952 | C10: 9.46304 | D10: 4.372767 | E10: - | F10: - | G10: - | H10: - | I10: - | J10: - | K10: 2.7016 | L10: 9.463 | M10: 4.6378892
A11: 45021 | B11: 2.36282 | C11: 10 | D11: 4.481707 | E11: - | F11: - | G11: - | H11: - | I11: - | J11: - | K11: 2.6296 | L11: 10 | M11: 4.8109716
A12: 45022 | B12: 1.74084 | C12: 10 | D12: 5.121935 | E12: - | F12: - | G12: - | H12: - | I12: - | J12: - | K12: 2.7075 | L12: 10 | M12: 5.4816595
A13: 45023 | B13: 2.70088 | C13: 10 | D13: 5.722161 | E13: - | F13: - | G13: - | H13: - | I13: - | J13: - | K13: 2.4986 | L13: 10 | M13: 5.6197766
A14: 45024 | B14: 2.40039 | C14: 10 | D14: 6.108288 | E14: - | F14: - | G14: - | H14: - | I14: - | J14: - | K14: 2.62 | L14: 10 | M14: 6.2386862
A15: 45025 | B15: 0.19962 | C15: 10 | D15: 5.036896 | E15: - | F15: - | G15: - | H15: - | I15: - | J15: - | K15: 2.3295 | L15: 10 | M15: 5.7407322
A16: 45026 | B16: 2.70031 | C16: 10 | D16: 5.99173 | E16: - | F16: - | G16: - | H16: - | I16: - | J16: - | K16: 2.8695 | L16: 10 | M16: 6.9911122
A17: 45027 | B17: 3.18917 | C17: 10 | D17: 7.64212 | E17: - | F17: - | G17: - | H17: - | I17: - | J17: - | K17: 3.0493 | L17: 10 | M17: 7.6293345
A18: 45028 | B18: 2.66926 | C18: 10 | D18: 7.0975 | E18: - | F18: - | G18: - | H18: - | I18: - | J18: - | K18: 2.8695 | L18: 10 | M18: 7.1983397
... A24: 45034 | B24: 3.79915 | C24: 10 | D24: 7.360038 | E24: - | F24: - | G24: - | H24: - | I24: - | J24: - | K24: 2.7004 | L24: 10.001 | M24: 8.0676704
A25: 45035 | B25: 1.97974 | C25: 10 | D25: 6.21617 | E25: - | F25: - | G25: - | H25: 10 | I25: 10 | J25: 10 | K25: 2.7004 | L25: 10 | M25: 8.0320788
A26: 45036 | B26: 2.21244 | C26: 10 | D26: 5.093844 | E26: - | F26: - | G26: - | H26: - | I26: - | J26: - | K26: 2.6629 | L26: 10.0681 | M26: 7.876284
A27: 45037 | B27: 2.49948 | C27: 9.99926 | D27: 4.051108 | E27: - | F27: - | G27: - | H27: - | I27: - | J27: - | K27: 2.8162 | L27: 10.1272 | M27: 7.8226594
A28: 45038 | B28: 1.9792 | C28: 4.9503 | D28: 3.390491 | E28: - | F28: - | G28: - | H28: - | I28: - | J28: - | K28: 2.6992 | L28: 10 | M28: 6.7584765
A29: 45039 | B29: 0.6993 | C29: 5.5011 | D29: 2.773249 | E29: - | F29: - | G29: - | H29: - | I29: - | J29: - | K29: 1.7857 | L29: 10 | M29: 4.1963428
A30: 45040 | B30: 1.99881 | C30: 6.45047 | D30: 3.568151 | E30: - | F30: - | G30: - | H30: - | I30: - | J30: - | K30: 1.9999 | L30: 10 | M30: 5.2370908
